BEGIN:VCALENDAR
VERSION:2.0
PRODID:-//Kettle Park Senior Living - ECPv6.11.2.1//NONSGML v1.0//EN
CALSCALE:GREGORIAN
METHOD:PUBLISH
X-ORIGINAL-URL:https://kettleparkseniorliving.com
X-WR-CALDESC:Events for Kettle Park Senior Living
REFRESH-INTERVAL;VALUE=DURATION:PT1H
X-Robots-Tag:noindex
X-PUBLISHED-TTL:PT1H
BEGIN:VTIMEZONE
TZID:America/Chicago
BEGIN:DAYLIGHT
TZOFFSETFROM:-0600
TZOFFSETTO:-0500
TZNAME:CDT
DTSTART:20250309T080000
END:DAYLIGHT
BEGIN:STANDARD
TZOFFSETFROM:-0500
TZOFFSETTO:-0600
TZNAME:CST
DTSTART:20251102T070000
END:STANDARD
END:VTIMEZONE
BEGIN:VEVENT
DTSTART;TZID=America/Chicago:20250704T091500
DTEND;TZID=America/Chicago:20250704T093000
DTSTAMP:20260419T093505
CREATED:20250604T211714Z
LAST-MODIFIED:20250704T011706Z
UID:10000896-1751620500-1751621400@kettleparkseniorliving.com
SUMMARY:News/Current Events
DESCRIPTION:
URL:https://kettleparkseniorliving.com/event-calendar/news-current-events-51/
LOCATION:Lounge Area
CATEGORIES:Memory Care
END:VEVENT
BEGIN:VEVENT
DTSTART;TZID=America/Chicago:20250704T092900
DTEND;TZID=America/Chicago:20250704T100000
DTSTAMP:20260419T093505
CREATED:20250605T211636Z
LAST-MODIFIED:20250704T011706Z
UID:10000941-1751621340-1751623200@kettleparkseniorliving.com
SUMMARY:Get Fit
DESCRIPTION:
URL:https://kettleparkseniorliving.com/event-calendar/get-fit-112/
LOCATION:Lounge
CATEGORIES:Memory Care
END:VEVENT
BEGIN:VEVENT
DTSTART;TZID=America/Chicago:20250704T100000
DTEND;TZID=America/Chicago:20250704T103000
DTSTAMP:20260419T093505
CREATED:20250604T211714Z
LAST-MODIFIED:20250704T011706Z
UID:10000897-1751623200-1751625000@kettleparkseniorliving.com
SUMMARY:Devotions with Chaplin Lee
DESCRIPTION:
URL:https://kettleparkseniorliving.com/event-calendar/devotions-with-chaplin-lee-14/
LOCATION:Lounge
CATEGORIES:Memory Care
END:VEVENT
BEGIN:VEVENT
DTSTART;TZID=America/Chicago:20250704T100000
DTEND;TZID=America/Chicago:20250704T110000
DTSTAMP:20260419T093505
CREATED:20250604T221623Z
LAST-MODIFIED:20250704T003138Z
UID:10000905-1751623200-1751626800@kettleparkseniorliving.com
SUMMARY:Coffee Clutch
DESCRIPTION:
URL:https://kettleparkseniorliving.com/event-calendar/coffee-clutch-22/
LOCATION:Dining Room
CATEGORIES:Senior Living
END:VEVENT
BEGIN:VEVENT
DTSTART;TZID=America/Chicago:20250704T103000
DTEND;TZID=America/Chicago:20250704T110000
DTSTAMP:20260419T093505
CREATED:20250604T211714Z
LAST-MODIFIED:20250704T011706Z
UID:10000898-1751625000-1751626800@kettleparkseniorliving.com
SUMMARY:Coffee Clutch & Link Senior
DESCRIPTION:
URL:https://kettleparkseniorliving.com/event-calendar/coffee-clutch-link-senior-8/
LOCATION:Lounge
CATEGORIES:Memory Care
END:VEVENT
BEGIN:VEVENT
DTSTART;TZID=America/Chicago:20250704T110000
DTEND;TZID=America/Chicago:20250704T113000
DTSTAMP:20260419T093505
CREATED:20250604T211714Z
LAST-MODIFIED:20250704T011706Z
UID:10000899-1751626800-1751628600@kettleparkseniorliving.com
SUMMARY:Gardening Group
DESCRIPTION:
URL:https://kettleparkseniorliving.com/event-calendar/gardening-group-21/
CATEGORIES:Memory Care
END:VEVENT
BEGIN:VEVENT
DTSTART;TZID=America/Chicago:20250704T110000
DTEND;TZID=America/Chicago:20250704T113000
DTSTAMP:20260419T093505
CREATED:20250604T221623Z
LAST-MODIFIED:20250621T003158Z
UID:10000906-1751626800-1751628600@kettleparkseniorliving.com
SUMMARY:Exercise
DESCRIPTION:
URL:https://kettleparkseniorliving.com/event-calendar/exercise-37/
LOCATION:Community Room
CATEGORIES:Senior Living
END:VEVENT
BEGIN:VEVENT
DTSTART;TZID=America/Chicago:20250704T113000
DTEND;TZID=America/Chicago:20250704T120000
DTSTAMP:20260419T093505
CREATED:20250604T211715Z
LAST-MODIFIED:20250704T011706Z
UID:10000900-1751628600-1751630400@kettleparkseniorliving.com
SUMMARY:Walking Group
DESCRIPTION:
URL:https://kettleparkseniorliving.com/event-calendar/walking-group-83/
CATEGORIES:Memory Care
END:VEVENT
BEGIN:VEVENT
DTSTART;TZID=America/Chicago:20250704T130000
DTEND;TZID=America/Chicago:20250704T133000
DTSTAMP:20260419T093505
CREATED:20250628T004640Z
LAST-MODIFIED:20250704T011706Z
UID:10001294-1751634000-1751635800@kettleparkseniorliving.com
SUMMARY:Music Appreciation
DESCRIPTION:
URL:https://kettleparkseniorliving.com/event-calendar/music-appreciation-43/
LOCATION:Lounge Area
CATEGORIES:Memory Care
END:VEVENT
BEGIN:VEVENT
DTSTART;TZID=America/Chicago:20250704T133000
DTEND;TZID=America/Chicago:20250704T150000
DTSTAMP:20260419T093505
CREATED:20250604T211715Z
LAST-MODIFIED:20250704T011706Z
UID:10000901-1751635800-1751641200@kettleparkseniorliving.com
SUMMARY:BINGO
DESCRIPTION:
URL:https://kettleparkseniorliving.com/event-calendar/bingo-27/
LOCATION:Dining Room
CATEGORIES:Memory Care
END:VEVENT
BEGIN:VEVENT
DTSTART;TZID=America/Chicago:20250704T140000
DTEND;TZID=America/Chicago:20250704T150000
DTSTAMP:20260419T093505
CREATED:20250604T211715Z
LAST-MODIFIED:20250626T004638Z
UID:10000902-1751637600-1751641200@kettleparkseniorliving.com
SUMMARY:Entertainment-Ruth & Charles
DESCRIPTION:
URL:https://kettleparkseniorliving.com/event-calendar/entertainment-ruth-charles/
LOCATION:Community Room
CATEGORIES:Memory Care,Senior Living
END:VEVENT
BEGIN:VEVENT
DTSTART;TZID=America/Chicago:20250704T140000
DTEND;TZID=America/Chicago:20250704T150000
DTSTAMP:20260419T093505
CREATED:20250604T221623Z
LAST-MODIFIED:20250621T003158Z
UID:10000907-1751637600-1751641200@kettleparkseniorliving.com
SUMMARY:Scrabble
DESCRIPTION:
URL:https://kettleparkseniorliving.com/event-calendar/scrabble-8/
LOCATION:Dining Room
CATEGORIES:Senior Living
END:VEVENT
BEGIN:VEVENT
DTSTART;TZID=America/Chicago:20250704T140000
DTEND;TZID=America/Chicago:20250704T153000
DTSTAMP:20260419T093505
CREATED:20250605T221708Z
LAST-MODIFIED:20250704T003138Z
UID:10000947-1751637600-1751643000@kettleparkseniorliving.com
SUMMARY:Friday Movie-On Golden Pond
DESCRIPTION:
URL:https://kettleparkseniorliving.com/event-calendar/friday-night-movie-16/
LOCATION:Theater Room
CATEGORIES:Senior Living
END:VEVENT
BEGIN:VEVENT
DTSTART;TZID=America/Chicago:20250704T150000
DTEND;TZID=America/Chicago:20250704T160000
DTSTAMP:20260419T093505
CREATED:20250604T211715Z
LAST-MODIFIED:20250604T211715Z
UID:10000903-1751641200-1751644800@kettleparkseniorliving.com
SUMMARY:Smoothies & Chat
DESCRIPTION:
URL:https://kettleparkseniorliving.com/event-calendar/smoothies-chat-52/
LOCATION:Lounge Area
CATEGORIES:Memory Care
END:VEVENT
BEGIN:VEVENT
DTSTART;TZID=America/Chicago:20250704T150000
DTEND;TZID=America/Chicago:20250704T160000
DTSTAMP:20260419T093505
CREATED:20250604T221623Z
LAST-MODIFIED:20250620T003206Z
UID:10000908-1751641200-1751644800@kettleparkseniorliving.com
SUMMARY:Happy Hour
DESCRIPTION:
URL:https://kettleparkseniorliving.com/event-calendar/happy-hour-10/
LOCATION:Dining Room
CATEGORIES:Senior Living
END:VEVENT
BEGIN:VEVENT
DTSTART;TZID=America/Chicago:20250704T150000
DTEND;TZID=America/Chicago:20250704T160000
DTSTAMP:20260419T093505
CREATED:20250612T214636Z
LAST-MODIFIED:20250704T011706Z
UID:10001050-1751641200-1751644800@kettleparkseniorliving.com
SUMMARY:Smoothies & Chat
DESCRIPTION:
URL:https://kettleparkseniorliving.com/event-calendar/smoothies-chat-69/
LOCATION:Lounge Area
CATEGORIES:Memory Care
END:VEVENT
BEGIN:VEVENT
DTSTART;TZID=America/Chicago:20250704T160000
DTEND;TZID=America/Chicago:20250704T163000
DTSTAMP:20260419T093505
CREATED:20250604T211715Z
LAST-MODIFIED:20250704T011706Z
UID:10000904-1751644800-1751646600@kettleparkseniorliving.com
SUMMARY:Walking Group
DESCRIPTION:
URL:https://kettleparkseniorliving.com/event-calendar/walking-group-84/
CATEGORIES:Memory Care
END:VEVENT
BEGIN:VEVENT
DTSTART;TZID=America/Chicago:20250704T180000
DTEND;TZID=America/Chicago:20250704T193000
DTSTAMP:20260419T093505
CREATED:20250605T211636Z
LAST-MODIFIED:20250704T011705Z
UID:10000942-1751652000-1751657400@kettleparkseniorliving.com
SUMMARY:Friday Night Movie
DESCRIPTION:
URL:https://kettleparkseniorliving.com/event-calendar/friday-night-movie-15/
LOCATION:Lounge Area
CATEGORIES:Memory Care
END:VEVENT
BEGIN:VEVENT
DTSTART;TZID=America/Chicago:20250704T193000
DTEND;TZID=America/Chicago:20250704T200000
DTSTAMP:20260419T093505
CREATED:20250605T211636Z
LAST-MODIFIED:20250704T011705Z
UID:10000943-1751657400-1751659200@kettleparkseniorliving.com
SUMMARY:Evening Snack
DESCRIPTION:
URL:https://kettleparkseniorliving.com/event-calendar/evening-snack-52/
CATEGORIES:Memory Care
END:VEVENT
END:VCALENDAR