BEGIN:VCALENDAR
VERSION:2.0
PRODID:-//Kettle Park Senior Living - ECPv6.11.2.1//NONSGML v1.0//EN
CALSCALE:GREGORIAN
METHOD:PUBLISH
X-WR-CALNAME:Kettle Park Senior Living
X-ORIGINAL-URL:https://kettleparkseniorliving.com
X-WR-CALDESC:Events for Kettle Park Senior Living
REFRESH-INTERVAL;VALUE=DURATION:PT1H
X-Robots-Tag:noindex
X-PUBLISHED-TTL:PT1H
BEGIN:VTIMEZONE
TZID:America/Chicago
BEGIN:DAYLIGHT
TZOFFSETFROM:-0600
TZOFFSETTO:-0500
TZNAME:CDT
DTSTART:20250309T080000
END:DAYLIGHT
BEGIN:STANDARD
TZOFFSETFROM:-0500
TZOFFSETTO:-0600
TZNAME:CST
DTSTART:20251102T070000
END:STANDARD
END:VTIMEZONE
BEGIN:VEVENT
DTSTART;TZID=America/Chicago:20250705T091500
DTEND;TZID=America/Chicago:20250705T093000
DTSTAMP:20260419T092901
CREATED:20250605T211636Z
LAST-MODIFIED:20250705T011656Z
UID:10000944-1751706900-1751707800@kettleparkseniorliving.com
SUMMARY:News/Current Events
DESCRIPTION:
URL:https://kettleparkseniorliving.com/event-calendar/news-current-events-52/
LOCATION:Lounge Area
CATEGORIES:Memory Care
END:VEVENT
BEGIN:VEVENT
DTSTART;TZID=America/Chicago:20250705T092900
DTEND;TZID=America/Chicago:20250705T100000
DTSTAMP:20260419T092901
CREATED:20250605T211636Z
LAST-MODIFIED:20250705T011656Z
UID:10000945-1751707740-1751709600@kettleparkseniorliving.com
SUMMARY:Get Fit
DESCRIPTION:
URL:https://kettleparkseniorliving.com/event-calendar/get-fit-113/
LOCATION:Lounge
CATEGORIES:Memory Care
END:VEVENT
BEGIN:VEVENT
DTSTART;TZID=America/Chicago:20250705T100000
DTEND;TZID=America/Chicago:20250705T110000
DTSTAMP:20260419T092901
CREATED:20250605T211636Z
LAST-MODIFIED:20250705T011656Z
UID:10000946-1751709600-1751713200@kettleparkseniorliving.com
SUMMARY:Linked Sr.
DESCRIPTION:
URL:https://kettleparkseniorliving.com/event-calendar/linked-sr-8/
LOCATION:Lounge
CATEGORIES:Memory Care
END:VEVENT
BEGIN:VEVENT
DTSTART;TZID=America/Chicago:20250705T110000
DTEND;TZID=America/Chicago:20250705T233000
DTSTAMP:20260419T092901
CREATED:20250606T211634Z
LAST-MODIFIED:20250706T011641Z
UID:10000954-1751713200-1751758200@kettleparkseniorliving.com
SUMMARY:Sing-along
DESCRIPTION:
URL:https://kettleparkseniorliving.com/event-calendar/sing-along-10/
LOCATION:Lounge Area
CATEGORIES:Memory Care
END:VEVENT
BEGIN:VEVENT
DTSTART;TZID=America/Chicago:20250705T113000
DTEND;TZID=America/Chicago:20250705T120000
DTSTAMP:20260419T092901
CREATED:20250606T211634Z
LAST-MODIFIED:20250705T011656Z
UID:10000950-1751715000-1751716800@kettleparkseniorliving.com
SUMMARY:Walking Group
DESCRIPTION:
URL:https://kettleparkseniorliving.com/event-calendar/walking-group-85/
CATEGORIES:Memory Care
END:VEVENT
BEGIN:VEVENT
DTSTART;TZID=America/Chicago:20250705T130000
DTEND;TZID=America/Chicago:20250705T133000
DTSTAMP:20260419T092901
CREATED:20250628T004640Z
LAST-MODIFIED:20250705T011657Z
UID:10001295-1751720400-1751722200@kettleparkseniorliving.com
SUMMARY:Music Appreciation
DESCRIPTION:
URL:https://kettleparkseniorliving.com/event-calendar/music-appreciation-44/
LOCATION:Lounge Area
CATEGORIES:Memory Care
END:VEVENT
BEGIN:VEVENT
DTSTART;TZID=America/Chicago:20250705T133000
DTEND;TZID=America/Chicago:20250705T143000
DTSTAMP:20260419T092901
CREATED:20250605T221708Z
LAST-MODIFIED:20250705T004634Z
UID:10000948-1751722200-1751725800@kettleparkseniorliving.com
SUMMARY:Euchre Club
DESCRIPTION:
URL:https://kettleparkseniorliving.com/event-calendar/euchre-club-8/
LOCATION:Community Room
CATEGORIES:Senior Living
END:VEVENT
BEGIN:VEVENT
DTSTART;TZID=America/Chicago:20250705T133000
DTEND;TZID=America/Chicago:20250705T143000
DTSTAMP:20260419T092901
CREATED:20250606T211634Z
LAST-MODIFIED:20250705T011657Z
UID:10000951-1751722200-1751725800@kettleparkseniorliving.com
SUMMARY:Let's Create
DESCRIPTION:
URL:https://kettleparkseniorliving.com/event-calendar/lets-create-3/
LOCATION:Lounge
CATEGORIES:Memory Care
END:VEVENT
BEGIN:VEVENT
DTSTART;TZID=America/Chicago:20250705T140000
DTEND;TZID=America/Chicago:20250705T150000
DTSTAMP:20260419T092901
CREATED:20250605T221708Z
LAST-MODIFIED:20250705T004634Z
UID:10000949-1751724000-1751727600@kettleparkseniorliving.com
SUMMARY:Saturday Matinee-The Greatest Showman
DESCRIPTION:
URL:https://kettleparkseniorliving.com/event-calendar/saturday-matinee-8/
LOCATION:Theater Room
CATEGORIES:Senior Living
END:VEVENT
BEGIN:VEVENT
DTSTART;TZID=America/Chicago:20250705T150000
DTEND;TZID=America/Chicago:20250705T160000
DTSTAMP:20260419T092901
CREATED:20250612T214636Z
LAST-MODIFIED:20250705T011657Z
UID:10001051-1751727600-1751731200@kettleparkseniorliving.com
SUMMARY:Smoothies & Chat
DESCRIPTION:
URL:https://kettleparkseniorliving.com/event-calendar/smoothies-chat-70/
LOCATION:Lounge Area
CATEGORIES:Memory Care
END:VEVENT
BEGIN:VEVENT
DTSTART;TZID=America/Chicago:20250705T160000
DTEND;TZID=America/Chicago:20250705T163000
DTSTAMP:20260419T092901
CREATED:20250623T004624Z
LAST-MODIFIED:20250705T011657Z
UID:10001206-1751731200-1751733000@kettleparkseniorliving.com
SUMMARY:Walking Group
DESCRIPTION:
URL:https://kettleparkseniorliving.com/event-calendar/walking-group-108/
CATEGORIES:Memory Care
END:VEVENT
BEGIN:VEVENT
DTSTART;TZID=America/Chicago:20250705T180000
DTEND;TZID=America/Chicago:20250705T190000
DTSTAMP:20260419T092901
CREATED:20250606T211634Z
LAST-MODIFIED:20250705T011657Z
UID:10000952-1751738400-1751742000@kettleparkseniorliving.com
SUMMARY:Active Game
DESCRIPTION:
URL:https://kettleparkseniorliving.com/event-calendar/active-game-33/
LOCATION:Lounge
CATEGORIES:Memory Care
END:VEVENT
BEGIN:VEVENT
DTSTART;TZID=America/Chicago:20250705T193000
DTEND;TZID=America/Chicago:20250705T200000
DTSTAMP:20260419T092901
CREATED:20250606T211634Z
LAST-MODIFIED:20250705T011657Z
UID:10000953-1751743800-1751745600@kettleparkseniorliving.com
SUMMARY:Evening Snack
DESCRIPTION:
URL:https://kettleparkseniorliving.com/event-calendar/evening-snack-53/
CATEGORIES:Memory Care
END:VEVENT
END:VCALENDAR