BEGIN:VCALENDAR
VERSION:2.0
PRODID:-//Kettle Park Senior Living - ECPv6.11.2.1//NONSGML v1.0//EN
CALSCALE:GREGORIAN
METHOD:PUBLISH
X-ORIGINAL-URL:https://kettleparkseniorliving.com
X-WR-CALDESC:Events for Kettle Park Senior Living
REFRESH-INTERVAL;VALUE=DURATION:PT1H
X-Robots-Tag:noindex
X-PUBLISHED-TTL:PT1H
BEGIN:VTIMEZONE
TZID:America/Chicago
BEGIN:DAYLIGHT
TZOFFSETFROM:-0600
TZOFFSETTO:-0500
TZNAME:CDT
DTSTART:20260308T080000
END:DAYLIGHT
BEGIN:STANDARD
TZOFFSETFROM:-0500
TZOFFSETTO:-0600
TZNAME:CST
DTSTART:20261101T070000
END:STANDARD
END:VTIMEZONE
BEGIN:VEVENT
DTSTART;TZID=America/Chicago:20260327T093000
DTEND;TZID=America/Chicago:20260327T100000
DTSTAMP:20260424T152631
CREATED:20260226T041635Z
LAST-MODIFIED:20260327T081621Z
UID:10005168-1774603800-1774605600@kettleparkseniorliving.com
SUMMARY:Morning Stretch
DESCRIPTION:
URL:https://kettleparkseniorliving.com/event-calendar/morning-stretch-30/
LOCATION:Lounge Area
CATEGORIES:Memory Care
END:VEVENT
BEGIN:VEVENT
DTSTART;TZID=America/Chicago:20260327T100000
DTEND;TZID=America/Chicago:20260327T103000
DTSTAMP:20260424T152631
CREATED:20260226T041635Z
LAST-MODIFIED:20260227T041647Z
UID:10005169-1774605600-1774607400@kettleparkseniorliving.com
SUMMARY:Daily Chronicles
DESCRIPTION:
URL:https://kettleparkseniorliving.com/event-calendar/daily-chronicles-6/
LOCATION:Lounge
CATEGORIES:Memory Care
END:VEVENT
BEGIN:VEVENT
DTSTART;TZID=America/Chicago:20260327T100000
DTEND;TZID=America/Chicago:20260327T103000
DTSTAMP:20260424T152631
CREATED:20260226T041636Z
LAST-MODIFIED:20260327T081621Z
UID:10005170-1774605600-1774607400@kettleparkseniorliving.com
SUMMARY:Coffee Clutch & Link Senior
DESCRIPTION:
URL:https://kettleparkseniorliving.com/event-calendar/coffee-clutch-link-senior-66/
LOCATION:Lounge
CATEGORIES:Memory Care
END:VEVENT
BEGIN:VEVENT
DTSTART;TZID=America/Chicago:20260327T100000
DTEND;TZID=America/Chicago:20260327T110000
DTSTAMP:20260424T152631
CREATED:20260226T044725Z
LAST-MODIFIED:20260327T064621Z
UID:10005176-1774605600-1774609200@kettleparkseniorliving.com
SUMMARY:Coffee Clutch
DESCRIPTION:
URL:https://kettleparkseniorliving.com/event-calendar/coffee-clutch-158/
LOCATION:Dining Room
CATEGORIES:Senior Living
END:VEVENT
BEGIN:VEVENT
DTSTART;TZID=America/Chicago:20260327T103000
DTEND;TZID=America/Chicago:20260327T110000
DTSTAMP:20260424T152631
CREATED:20260228T041633Z
LAST-MODIFIED:20260327T081621Z
UID:10005203-1774607400-1774609200@kettleparkseniorliving.com
SUMMARY:Chats with Chaplain Ann
DESCRIPTION:
URL:https://kettleparkseniorliving.com/event-calendar/chats-with-chaplain-ann-8/
CATEGORIES:Memory Care
END:VEVENT
BEGIN:VEVENT
DTSTART;TZID=America/Chicago:20260327T110000
DTEND;TZID=America/Chicago:20260327T113000
DTSTAMP:20260424T152631
CREATED:20260226T044725Z
LAST-MODIFIED:20260327T064621Z
UID:10005177-1774609200-1774611000@kettleparkseniorliving.com
SUMMARY:Exercise-Balance
DESCRIPTION:
URL:https://kettleparkseniorliving.com/event-calendar/exercise-balance-31/
LOCATION:Community Room
CATEGORIES:Senior Living
END:VEVENT
BEGIN:VEVENT
DTSTART;TZID=America/Chicago:20260327T110000
DTEND;TZID=America/Chicago:20260327T113000
DTSTAMP:20260424T152631
CREATED:20260228T041633Z
LAST-MODIFIED:20260327T081621Z
UID:10005204-1774609200-1774611000@kettleparkseniorliving.com
SUMMARY:Crafts
DESCRIPTION:
URL:https://kettleparkseniorliving.com/event-calendar/crafts-22/
LOCATION:Dining Room
CATEGORIES:Memory Care
END:VEVENT
BEGIN:VEVENT
DTSTART;TZID=America/Chicago:20260327T113000
DTEND;TZID=America/Chicago:20260327T114500
DTSTAMP:20260424T152631
CREATED:20260226T041636Z
LAST-MODIFIED:20260327T081621Z
UID:10005171-1774611000-1774611900@kettleparkseniorliving.com
SUMMARY:Walking Group
DESCRIPTION:
URL:https://kettleparkseniorliving.com/event-calendar/walking-group-638/
CATEGORIES:Memory Care
END:VEVENT
BEGIN:VEVENT
DTSTART;TZID=America/Chicago:20260327T133000
DTEND;TZID=America/Chicago:20260327T150000
DTSTAMP:20260424T152631
CREATED:20260226T041636Z
LAST-MODIFIED:20260327T081621Z
UID:10005172-1774618200-1774623600@kettleparkseniorliving.com
SUMMARY:BINGO
DESCRIPTION:
URL:https://kettleparkseniorliving.com/event-calendar/bingo-149/
LOCATION:Dining Room
CATEGORIES:Memory Care
END:VEVENT
BEGIN:VEVENT
DTSTART;TZID=America/Chicago:20260327T140000
DTEND;TZID=America/Chicago:20260327T150000
DTSTAMP:20260424T152631
CREATED:20260226T044725Z
LAST-MODIFIED:20260327T064621Z
UID:10005178-1774620000-1774623600@kettleparkseniorliving.com
SUMMARY:Devotions with Chaplain Ann
DESCRIPTION:
URL:https://kettleparkseniorliving.com/event-calendar/devotions-with-chaplain-ann/
LOCATION:Theater Room
CATEGORIES:Senior Living
END:VEVENT
BEGIN:VEVENT
DTSTART;TZID=America/Chicago:20260327T150000
DTEND;TZID=America/Chicago:20260327T160000
DTSTAMP:20260424T152631
CREATED:20260226T041636Z
LAST-MODIFIED:20260327T081621Z
UID:10005173-1774623600-1774627200@kettleparkseniorliving.com
SUMMARY:Snack & Chat
DESCRIPTION:
URL:https://kettleparkseniorliving.com/event-calendar/snack-chat-214/
LOCATION:Lounge Area
CATEGORIES:Memory Care
END:VEVENT
BEGIN:VEVENT
DTSTART;TZID=America/Chicago:20260327T150000
DTEND;TZID=America/Chicago:20260327T160000
DTSTAMP:20260424T152631
CREATED:20260226T044725Z
LAST-MODIFIED:20260327T064621Z
UID:10005179-1774623600-1774627200@kettleparkseniorliving.com
SUMMARY:Happy Hour
DESCRIPTION:
URL:https://kettleparkseniorliving.com/event-calendar/happy-hour-83/
LOCATION:Dining Room
CATEGORIES:Senior Living
END:VEVENT
BEGIN:VEVENT
DTSTART;TZID=America/Chicago:20260327T160000
DTEND;TZID=America/Chicago:20260327T161500
DTSTAMP:20260424T152631
CREATED:20260226T041636Z
LAST-MODIFIED:20260327T081621Z
UID:10005174-1774627200-1774628100@kettleparkseniorliving.com
SUMMARY:Walking Group
DESCRIPTION:
URL:https://kettleparkseniorliving.com/event-calendar/walking-group-639/
CATEGORIES:Memory Care
END:VEVENT
BEGIN:VEVENT
DTSTART;TZID=America/Chicago:20260327T193000
DTEND;TZID=America/Chicago:20260327T200000
DTSTAMP:20260424T152631
CREATED:20260226T041636Z
LAST-MODIFIED:20260327T081621Z
UID:10005175-1774639800-1774641600@kettleparkseniorliving.com
SUMMARY:Evening Snack
DESCRIPTION:
URL:https://kettleparkseniorliving.com/event-calendar/evening-snack-318/
CATEGORIES:Memory Care
END:VEVENT
END:VCALENDAR