BEGIN:VCALENDAR
VERSION:2.0
PRODID:-//Kettle Park Senior Living - ECPv6.11.2.1//NONSGML v1.0//EN
CALSCALE:GREGORIAN
METHOD:PUBLISH
X-WR-CALNAME:Kettle Park Senior Living
X-ORIGINAL-URL:https://kettleparkseniorliving.com
X-WR-CALDESC:Events for Kettle Park Senior Living
REFRESH-INTERVAL;VALUE=DURATION:PT1H
X-Robots-Tag:noindex
X-PUBLISHED-TTL:PT1H
BEGIN:VTIMEZONE
TZID:America/Chicago
BEGIN:DAYLIGHT
TZOFFSETFROM:-0600
TZOFFSETTO:-0500
TZNAME:CDT
DTSTART:20260308T080000
END:DAYLIGHT
BEGIN:STANDARD
TZOFFSETFROM:-0500
TZOFFSETTO:-0600
TZNAME:CST
DTSTART:20261101T070000
END:STANDARD
END:VTIMEZONE
BEGIN:VEVENT
DTSTART;TZID=America/Chicago:20260328T093000
DTEND;TZID=America/Chicago:20260328T100000
DTSTAMP:20260424T135500
CREATED:20260227T041648Z
LAST-MODIFIED:20260328T081621Z
UID:10005181-1774690200-1774692000@kettleparkseniorliving.com
SUMMARY:Morning Stretch
DESCRIPTION:
URL:https://kettleparkseniorliving.com/event-calendar/morning-stretch-31/
LOCATION:Lounge Area
CATEGORIES:Memory Care
END:VEVENT
BEGIN:VEVENT
DTSTART;TZID=America/Chicago:20260328T100000
DTEND;TZID=America/Chicago:20260328T103000
DTSTAMP:20260424T135500
CREATED:20260227T041648Z
LAST-MODIFIED:20260328T081621Z
UID:10005182-1774692000-1774693800@kettleparkseniorliving.com
SUMMARY:Morning Snack
DESCRIPTION:
URL:https://kettleparkseniorliving.com/event-calendar/morning-snack-30/
LOCATION:Lounge Area
CATEGORIES:Memory Care
END:VEVENT
BEGIN:VEVENT
DTSTART;TZID=America/Chicago:20260328T110000
DTEND;TZID=America/Chicago:20260328T223000
DTSTAMP:20260424T135500
CREATED:20260227T041648Z
LAST-MODIFIED:20260328T081621Z
UID:10005183-1774695600-1774737000@kettleparkseniorliving.com
SUMMARY:Trivia Games
DESCRIPTION:
URL:https://kettleparkseniorliving.com/event-calendar/trivia-games-6/
LOCATION:Lounge
CATEGORIES:Memory Care
END:VEVENT
BEGIN:VEVENT
DTSTART;TZID=America/Chicago:20260328T113000
DTEND;TZID=America/Chicago:20260328T114500
DTSTAMP:20260424T135500
CREATED:20260227T041648Z
LAST-MODIFIED:20260328T081621Z
UID:10005184-1774697400-1774698300@kettleparkseniorliving.com
SUMMARY:Walking Group
DESCRIPTION:
URL:https://kettleparkseniorliving.com/event-calendar/walking-group-640/
CATEGORIES:Memory Care
END:VEVENT
BEGIN:VEVENT
DTSTART;TZID=America/Chicago:20260328T133000
DTEND;TZID=America/Chicago:20260328T143000
DTSTAMP:20260424T135500
CREATED:20260227T044625Z
LAST-MODIFIED:20260328T064620Z
UID:10005190-1774704600-1774708200@kettleparkseniorliving.com
SUMMARY:Euchre Club
DESCRIPTION:
URL:https://kettleparkseniorliving.com/event-calendar/euchre-club-46/
LOCATION:Dining Room
CATEGORIES:Senior Living
END:VEVENT
BEGIN:VEVENT
DTSTART;TZID=America/Chicago:20260328T140000
DTEND;TZID=America/Chicago:20260328T150000
DTSTAMP:20260424T135500
CREATED:20260227T041648Z
LAST-MODIFIED:20260328T081621Z
UID:10005185-1774706400-1774710000@kettleparkseniorliving.com
SUMMARY:Active Games
DESCRIPTION:
URL:https://kettleparkseniorliving.com/event-calendar/active-games-51/
LOCATION:Dining Room
CATEGORIES:Memory Care
END:VEVENT
BEGIN:VEVENT
DTSTART;TZID=America/Chicago:20260328T140000
DTEND;TZID=America/Chicago:20260328T150000
DTSTAMP:20260424T135500
CREATED:20260328T064618Z
LAST-MODIFIED:20260328T064620Z
UID:10005548-1774706400-1774710000@kettleparkseniorliving.com
SUMMARY:Saturday Matinee
DESCRIPTION:
URL:https://kettleparkseniorliving.com/event-calendar/saturday-matinee-47/
LOCATION:Theater Room
CATEGORIES:Senior Living
END:VEVENT
BEGIN:VEVENT
DTSTART;TZID=America/Chicago:20260328T150000
DTEND;TZID=America/Chicago:20260328T160000
DTSTAMP:20260424T135500
CREATED:20260227T041648Z
LAST-MODIFIED:20260328T081621Z
UID:10005186-1774710000-1774713600@kettleparkseniorliving.com
SUMMARY:Snack & Chat
DESCRIPTION:
URL:https://kettleparkseniorliving.com/event-calendar/snack-chat-215/
LOCATION:Lounge Area
CATEGORIES:Memory Care
END:VEVENT
BEGIN:VEVENT
DTSTART;TZID=America/Chicago:20260328T160000
DTEND;TZID=America/Chicago:20260328T161500
DTSTAMP:20260424T135500
CREATED:20260227T041648Z
LAST-MODIFIED:20260328T081621Z
UID:10005187-1774713600-1774714500@kettleparkseniorliving.com
SUMMARY:Walking Group
DESCRIPTION:
URL:https://kettleparkseniorliving.com/event-calendar/walking-group-641/
CATEGORIES:Memory Care
END:VEVENT
BEGIN:VEVENT
DTSTART;TZID=America/Chicago:20260328T180000
DTEND;TZID=America/Chicago:20260328T190000
DTSTAMP:20260424T135500
CREATED:20260227T041648Z
LAST-MODIFIED:20260328T081621Z
UID:10005188-1774720800-1774724400@kettleparkseniorliving.com
SUMMARY:Active Game
DESCRIPTION:
URL:https://kettleparkseniorliving.com/event-calendar/active-game-175/
LOCATION:Lounge
CATEGORIES:Memory Care
END:VEVENT
BEGIN:VEVENT
DTSTART;TZID=America/Chicago:20260328T193000
DTEND;TZID=America/Chicago:20260328T200000
DTSTAMP:20260424T135500
CREATED:20260227T041648Z
LAST-MODIFIED:20260328T081621Z
UID:10005189-1774726200-1774728000@kettleparkseniorliving.com
SUMMARY:Evening Snack
DESCRIPTION:
URL:https://kettleparkseniorliving.com/event-calendar/evening-snack-319/
CATEGORIES:Memory Care
END:VEVENT
END:VCALENDAR