BEGIN:VCALENDAR
VERSION:2.0
PRODID:-//Kettle Park Senior Living - ECPv6.11.2.1//NONSGML v1.0//EN
CALSCALE:GREGORIAN
METHOD:PUBLISH
X-ORIGINAL-URL:https://kettleparkseniorliving.com
X-WR-CALDESC:Events for Kettle Park Senior Living
REFRESH-INTERVAL;VALUE=DURATION:PT1H
X-Robots-Tag:noindex
X-PUBLISHED-TTL:PT1H
BEGIN:VTIMEZONE
TZID:America/Chicago
BEGIN:DAYLIGHT
TZOFFSETFROM:-0600
TZOFFSETTO:-0500
TZNAME:CDT
DTSTART:20260308T080000
END:DAYLIGHT
BEGIN:STANDARD
TZOFFSETFROM:-0500
TZOFFSETTO:-0600
TZNAME:CST
DTSTART:20261101T070000
END:STANDARD
END:VTIMEZONE
BEGIN:VEVENT
DTSTART;TZID=America/Chicago:20260329T093000
DTEND;TZID=America/Chicago:20260329T100000
DTSTAMP:20260424T122138
CREATED:20260228T041634Z
LAST-MODIFIED:20260329T081639Z
UID:10005205-1774776600-1774778400@kettleparkseniorliving.com
SUMMARY:Morning Stretch
DESCRIPTION:
URL:https://kettleparkseniorliving.com/event-calendar/morning-stretch-32/
LOCATION:Lounge Area
CATEGORIES:Memory Care
END:VEVENT
BEGIN:VEVENT
DTSTART;TZID=America/Chicago:20260329T100000
DTEND;TZID=America/Chicago:20260329T103000
DTSTAMP:20260424T122138
CREATED:20260228T041634Z
LAST-MODIFIED:20260329T081639Z
UID:10005206-1774778400-1774780200@kettleparkseniorliving.com
SUMMARY:Morning Snack
DESCRIPTION:
URL:https://kettleparkseniorliving.com/event-calendar/morning-snack-31/
LOCATION:Lounge Area
CATEGORIES:Memory Care
END:VEVENT
BEGIN:VEVENT
DTSTART;TZID=America/Chicago:20260329T100000
DTEND;TZID=America/Chicago:20260329T110000
DTSTAMP:20260424T122138
CREATED:20260228T044625Z
LAST-MODIFIED:20260329T064620Z
UID:10005214-1774778400-1774782000@kettleparkseniorliving.com
SUMMARY:Bethel TV Church Service
DESCRIPTION:
URL:https://kettleparkseniorliving.com/event-calendar/bethel-tv-church-service-46/
LOCATION:Theater Room
CATEGORIES:Senior Living
END:VEVENT
BEGIN:VEVENT
DTSTART;TZID=America/Chicago:20260329T100000
DTEND;TZID=America/Chicago:20260329T110000
DTSTAMP:20260424T122138
CREATED:20260323T074656Z
LAST-MODIFIED:20260329T081639Z
UID:10005481-1774778400-1774782000@kettleparkseniorliving.com
SUMMARY:Church Service
DESCRIPTION:
URL:https://kettleparkseniorliving.com/event-calendar/church-service/
LOCATION:Lounge Area
CATEGORIES:Memory Care
END:VEVENT
BEGIN:VEVENT
DTSTART;TZID=America/Chicago:20260329T103000
DTEND;TZID=America/Chicago:20260329T113000
DTSTAMP:20260424T122138
CREATED:20260228T041634Z
LAST-MODIFIED:20260329T081640Z
UID:10005207-1774780200-1774783800@kettleparkseniorliving.com
SUMMARY:Hymn Sing
DESCRIPTION:
URL:https://kettleparkseniorliving.com/event-calendar/hymn-sing-58/
LOCATION:Lounge Area
CATEGORIES:Memory Care
END:VEVENT
BEGIN:VEVENT
DTSTART;TZID=America/Chicago:20260329T113000
DTEND;TZID=America/Chicago:20260329T114500
DTSTAMP:20260424T122138
CREATED:20260228T041634Z
LAST-MODIFIED:20260329T081640Z
UID:10005208-1774783800-1774784700@kettleparkseniorliving.com
SUMMARY:Walking Group
DESCRIPTION:
URL:https://kettleparkseniorliving.com/event-calendar/walking-group-642/
CATEGORIES:Memory Care
END:VEVENT
BEGIN:VEVENT
DTSTART;TZID=America/Chicago:20260329T143000
DTEND;TZID=America/Chicago:20260329T150000
DTSTAMP:20260424T122138
CREATED:20260228T041635Z
LAST-MODIFIED:20260329T081640Z
UID:10005209-1774794600-1774796400@kettleparkseniorliving.com
SUMMARY:Active Game
DESCRIPTION:
URL:https://kettleparkseniorliving.com/event-calendar/active-game-176/
LOCATION:Lounge Area
CATEGORIES:Memory Care
END:VEVENT
BEGIN:VEVENT
DTSTART;TZID=America/Chicago:20260329T150000
DTEND;TZID=America/Chicago:20260329T160000
DTSTAMP:20260424T122138
CREATED:20260228T041635Z
LAST-MODIFIED:20260329T081640Z
UID:10005210-1774796400-1774800000@kettleparkseniorliving.com
SUMMARY:Snack & Chat
DESCRIPTION:
URL:https://kettleparkseniorliving.com/event-calendar/snack-chat-216/
LOCATION:Lounge Area
CATEGORIES:Memory Care
END:VEVENT
BEGIN:VEVENT
DTSTART;TZID=America/Chicago:20260329T160000
DTEND;TZID=America/Chicago:20260329T161500
DTSTAMP:20260424T122138
CREATED:20260228T041635Z
LAST-MODIFIED:20260329T081640Z
UID:10005211-1774800000-1774800900@kettleparkseniorliving.com
SUMMARY:Walking Group
DESCRIPTION:
URL:https://kettleparkseniorliving.com/event-calendar/walking-group-643/
CATEGORIES:Memory Care
END:VEVENT
BEGIN:VEVENT
DTSTART;TZID=America/Chicago:20260329T180000
DTEND;TZID=America/Chicago:20260329T193000
DTSTAMP:20260424T122138
CREATED:20260228T041635Z
LAST-MODIFIED:20260329T081640Z
UID:10005212-1774807200-1774812600@kettleparkseniorliving.com
SUMMARY:Active Games
DESCRIPTION:
URL:https://kettleparkseniorliving.com/event-calendar/active-games-52/
LOCATION:Lounge Area
CATEGORIES:Memory Care
END:VEVENT
BEGIN:VEVENT
DTSTART;TZID=America/Chicago:20260329T193000
DTEND;TZID=America/Chicago:20260329T200000
DTSTAMP:20260424T122138
CREATED:20260228T041635Z
LAST-MODIFIED:20260329T081640Z
UID:10005213-1774812600-1774814400@kettleparkseniorliving.com
SUMMARY:Evening Snack
DESCRIPTION:
URL:https://kettleparkseniorliving.com/event-calendar/evening-snack-320/
CATEGORIES:Memory Care
END:VEVENT
END:VCALENDAR