BEGIN:VCALENDAR
VERSION:2.0
PRODID:-//Kettle Park Senior Living - ECPv6.11.2.1//NONSGML v1.0//EN
CALSCALE:GREGORIAN
METHOD:PUBLISH
X-ORIGINAL-URL:https://kettleparkseniorliving.com
X-WR-CALDESC:Events for Kettle Park Senior Living
REFRESH-INTERVAL;VALUE=DURATION:PT1H
X-Robots-Tag:noindex
X-PUBLISHED-TTL:PT1H
BEGIN:VTIMEZONE
TZID:America/Chicago
BEGIN:DAYLIGHT
TZOFFSETFROM:-0600
TZOFFSETTO:-0500
TZNAME:CDT
DTSTART:20260308T080000
END:DAYLIGHT
BEGIN:STANDARD
TZOFFSETFROM:-0500
TZOFFSETTO:-0600
TZNAME:CST
DTSTART:20261101T070000
END:STANDARD
END:VTIMEZONE
BEGIN:VEVENT
DTSTART;TZID=America/Chicago:20260330T093000
DTEND;TZID=America/Chicago:20260330T100000
DTSTAMP:20260424T122138
CREATED:20260301T041634Z
LAST-MODIFIED:20260330T081624Z
UID:10005215-1774863000-1774864800@kettleparkseniorliving.com
SUMMARY:Morning Stretch
DESCRIPTION:
URL:https://kettleparkseniorliving.com/event-calendar/morning-stretch-33/
LOCATION:Lounge Area
CATEGORIES:Memory Care
END:VEVENT
BEGIN:VEVENT
DTSTART;TZID=America/Chicago:20260330T100000
DTEND;TZID=America/Chicago:20260330T103000
DTSTAMP:20260424T122138
CREATED:20260301T041634Z
LAST-MODIFIED:20260330T081624Z
UID:10005216-1774864800-1774866600@kettleparkseniorliving.com
SUMMARY:Coffee Clutch & Linked Senior
DESCRIPTION:
URL:https://kettleparkseniorliving.com/event-calendar/coffee-clutch-linked-senior-44/
LOCATION:Lounge
CATEGORIES:Memory Care
END:VEVENT
BEGIN:VEVENT
DTSTART;TZID=America/Chicago:20260330T100000
DTEND;TZID=America/Chicago:20260330T110000
DTSTAMP:20260424T122138
CREATED:20260301T044625Z
LAST-MODIFIED:20260330T064625Z
UID:10005224-1774864800-1774868400@kettleparkseniorliving.com
SUMMARY:Coffee Clutch
DESCRIPTION:
URL:https://kettleparkseniorliving.com/event-calendar/coffee-clutch-159/
LOCATION:Dining Room
CATEGORIES:Senior Living
END:VEVENT
BEGIN:VEVENT
DTSTART;TZID=America/Chicago:20260330T103000
DTEND;TZID=America/Chicago:20260330T110000
DTSTAMP:20260424T122138
CREATED:20260301T041634Z
LAST-MODIFIED:20260330T081624Z
UID:10005217-1774866600-1774868400@kettleparkseniorliving.com
SUMMARY:Chats with Chaplain Ann
DESCRIPTION:
URL:https://kettleparkseniorliving.com/event-calendar/chats-with-chaplain-ann-9/
CATEGORIES:Memory Care
END:VEVENT
BEGIN:VEVENT
DTSTART;TZID=America/Chicago:20260330T110000
DTEND;TZID=America/Chicago:20260330T113000
DTSTAMP:20260424T122138
CREATED:20260301T041634Z
LAST-MODIFIED:20260330T081624Z
UID:10005218-1774868400-1774870200@kettleparkseniorliving.com
SUMMARY:Crafts
DESCRIPTION:
URL:https://kettleparkseniorliving.com/event-calendar/crafts-23/
LOCATION:Dining Room
CATEGORIES:Memory Care
END:VEVENT
BEGIN:VEVENT
DTSTART;TZID=America/Chicago:20260330T110000
DTEND;TZID=America/Chicago:20260330T113000
DTSTAMP:20260424T122138
CREATED:20260301T044625Z
LAST-MODIFIED:20260330T064625Z
UID:10005225-1774868400-1774870200@kettleparkseniorliving.com
SUMMARY:Exercise-Weights
DESCRIPTION:
URL:https://kettleparkseniorliving.com/event-calendar/exercise-weights-71/
LOCATION:Community Room
CATEGORIES:Senior Living
END:VEVENT
BEGIN:VEVENT
DTSTART;TZID=America/Chicago:20260330T113000
DTEND;TZID=America/Chicago:20260330T114500
DTSTAMP:20260424T122138
CREATED:20260301T041634Z
LAST-MODIFIED:20260330T081624Z
UID:10005219-1774870200-1774871100@kettleparkseniorliving.com
SUMMARY:Walking Group
DESCRIPTION:
URL:https://kettleparkseniorliving.com/event-calendar/walking-group-644/
CATEGORIES:Memory Care
END:VEVENT
BEGIN:VEVENT
DTSTART;TZID=America/Chicago:20260330T130000
DTEND;TZID=America/Chicago:20260330T134500
DTSTAMP:20260424T122138
CREATED:20260325T064621Z
LAST-MODIFIED:20260330T064625Z
UID:10005505-1774875600-1774878300@kettleparkseniorliving.com
SUMMARY:Spark Practice
DESCRIPTION:
URL:https://kettleparkseniorliving.com/event-calendar/spark-practice-108/
LOCATION:Community Room
CATEGORIES:Senior Living
END:VEVENT
BEGIN:VEVENT
DTSTART;TZID=America/Chicago:20260330T130000
DTEND;TZID=America/Chicago:20260330T140000
DTSTAMP:20260424T122138
CREATED:20260301T044625Z
LAST-MODIFIED:20260330T064625Z
UID:10005226-1774875600-1774879200@kettleparkseniorliving.com
SUMMARY:UMC Devotions
DESCRIPTION:
URL:https://kettleparkseniorliving.com/event-calendar/umc-devotions-94/
LOCATION:Theater Room
CATEGORIES:Senior Living
END:VEVENT
BEGIN:VEVENT
DTSTART;TZID=America/Chicago:20260330T134500
DTEND;TZID=America/Chicago:20260330T143000
DTSTAMP:20260424T122138
CREATED:20260301T041635Z
LAST-MODIFIED:20260330T081625Z
UID:10005220-1774878300-1774881000@kettleparkseniorliving.com
SUMMARY:UMC Devotions
DESCRIPTION:
URL:https://kettleparkseniorliving.com/event-calendar/umc-devotions-93/
LOCATION:Lounge Area
CATEGORIES:Memory Care
END:VEVENT
BEGIN:VEVENT
DTSTART;TZID=America/Chicago:20260330T140000
DTEND;TZID=America/Chicago:20260330T150000
DTSTAMP:20260424T122138
CREATED:20260301T044625Z
LAST-MODIFIED:20260330T064625Z
UID:10005227-1774879200-1774882800@kettleparkseniorliving.com
SUMMARY:500 Card Group
DESCRIPTION:
URL:https://kettleparkseniorliving.com/event-calendar/500-card-group-46/
LOCATION:Dining Room
CATEGORIES:Senior Living
END:VEVENT
BEGIN:VEVENT
DTSTART;TZID=America/Chicago:20260330T140000
DTEND;TZID=America/Chicago:20260330T150000
DTSTAMP:20260424T122138
CREATED:20260306T050132Z
LAST-MODIFIED:20260330T081625Z
UID:10005277-1774879200-1774882800@kettleparkseniorliving.com
SUMMARY:March - Trips Around the Sun Celebration
DESCRIPTION:
URL:https://kettleparkseniorliving.com/event-calendar/march-trips-around-the-sun-celebration/
LOCATION:Dining Room
CATEGORIES:Memory Care
END:VEVENT
BEGIN:VEVENT
DTSTART;TZID=America/Chicago:20260330T150000
DTEND;TZID=America/Chicago:20260330T160000
DTSTAMP:20260424T122138
CREATED:20260301T041635Z
LAST-MODIFIED:20260330T081625Z
UID:10005221-1774882800-1774886400@kettleparkseniorliving.com
SUMMARY:Snack and Chat
DESCRIPTION:
URL:https://kettleparkseniorliving.com/event-calendar/snack-and-chat-4/
LOCATION:Lounge Area
CATEGORIES:Memory Care
END:VEVENT
BEGIN:VEVENT
DTSTART;TZID=America/Chicago:20260330T153000
DTEND;TZID=America/Chicago:20260330T153000
DTSTAMP:20260424T122138
CREATED:20260301T044625Z
LAST-MODIFIED:20260330T064625Z
UID:10005228-1774884600-1774884600@kettleparkseniorliving.com
SUMMARY:The Chosen
DESCRIPTION:
URL:https://kettleparkseniorliving.com/event-calendar/the-chosen-48/
LOCATION:Theater Room
CATEGORIES:Senior Living
END:VEVENT
BEGIN:VEVENT
DTSTART;TZID=America/Chicago:20260330T160000
DTEND;TZID=America/Chicago:20260330T161500
DTSTAMP:20260424T122138
CREATED:20260301T041635Z
LAST-MODIFIED:20260330T081625Z
UID:10005222-1774886400-1774887300@kettleparkseniorliving.com
SUMMARY:Walking Group
DESCRIPTION:
URL:https://kettleparkseniorliving.com/event-calendar/walking-group-645/
CATEGORIES:Memory Care
END:VEVENT
BEGIN:VEVENT
DTSTART;TZID=America/Chicago:20260330T193000
DTEND;TZID=America/Chicago:20260330T200000
DTSTAMP:20260424T122138
CREATED:20260301T041635Z
LAST-MODIFIED:20260330T081625Z
UID:10005223-1774899000-1774900800@kettleparkseniorliving.com
SUMMARY:Evening Snack
DESCRIPTION:
URL:https://kettleparkseniorliving.com/event-calendar/evening-snack-321/
CATEGORIES:Memory Care
END:VEVENT
END:VCALENDAR