BEGIN:VCALENDAR
VERSION:2.0
PRODID:-//Kettle Park Senior Living - ECPv6.11.2.1//NONSGML v1.0//EN
CALSCALE:GREGORIAN
METHOD:PUBLISH
X-ORIGINAL-URL:https://kettleparkseniorliving.com
X-WR-CALDESC:Events for Kettle Park Senior Living
REFRESH-INTERVAL;VALUE=DURATION:PT1H
X-Robots-Tag:noindex
X-PUBLISHED-TTL:PT1H
BEGIN:VTIMEZONE
TZID:America/Chicago
BEGIN:DAYLIGHT
TZOFFSETFROM:-0600
TZOFFSETTO:-0500
TZNAME:CDT
DTSTART:20260308T080000
END:DAYLIGHT
BEGIN:STANDARD
TZOFFSETFROM:-0500
TZOFFSETTO:-0600
TZNAME:CST
DTSTART:20261101T070000
END:STANDARD
END:VTIMEZONE
BEGIN:VEVENT
DTSTART;TZID=America/Chicago:20260401T093000
DTEND;TZID=America/Chicago:20260401T100000
DTSTAMP:20260424T122138
CREATED:20260303T044635Z
LAST-MODIFIED:20260401T081739Z
UID:10005241-1775035800-1775037600@kettleparkseniorliving.com
SUMMARY:Morning Stretch
DESCRIPTION:
URL:https://kettleparkseniorliving.com/event-calendar/morning-stretch-35/
LOCATION:Lounge Area
CATEGORIES:Memory Care
END:VEVENT
BEGIN:VEVENT
DTSTART;TZID=America/Chicago:20260401T100000
DTEND;TZID=America/Chicago:20260401T110000
DTSTAMP:20260424T122138
CREATED:20260303T044636Z
LAST-MODIFIED:20260401T081739Z
UID:10005242-1775037600-1775041200@kettleparkseniorliving.com
SUMMARY:Coffee Clutch / Link Senior
DESCRIPTION:
URL:https://kettleparkseniorliving.com/event-calendar/coffee-clutch-link-senior-67/
LOCATION:Lounge
CATEGORIES:Memory Care
END:VEVENT
BEGIN:VEVENT
DTSTART;TZID=America/Chicago:20260401T100000
DTEND;TZID=America/Chicago:20260401T110000
DTSTAMP:20260424T122138
CREATED:20260303T050125Z
LAST-MODIFIED:20260401T064648Z
UID:10005248-1775037600-1775041200@kettleparkseniorliving.com
SUMMARY:Coffee Clutch
DESCRIPTION:
URL:https://kettleparkseniorliving.com/event-calendar/coffee-clutch-160/
LOCATION:Dining Room
CATEGORIES:Senior Living
END:VEVENT
BEGIN:VEVENT
DTSTART;TZID=America/Chicago:20260401T110000
DTEND;TZID=America/Chicago:20260401T113000
DTSTAMP:20260424T122138
CREATED:20260303T044636Z
LAST-MODIFIED:20260401T081739Z
UID:10005243-1775041200-1775043000@kettleparkseniorliving.com
SUMMARY:Crafts
DESCRIPTION:
URL:https://kettleparkseniorliving.com/event-calendar/crafts-24/
LOCATION:Dining Room
CATEGORIES:Memory Care
END:VEVENT
BEGIN:VEVENT
DTSTART;TZID=America/Chicago:20260401T110000
DTEND;TZID=America/Chicago:20260401T113000
DTSTAMP:20260424T122138
CREATED:20260303T050125Z
LAST-MODIFIED:20260401T064648Z
UID:10005249-1775041200-1775043000@kettleparkseniorliving.com
SUMMARY:Exercise-Weights
DESCRIPTION:
URL:https://kettleparkseniorliving.com/event-calendar/exercise-weights-72/
LOCATION:Community Room
CATEGORIES:Senior Living
END:VEVENT
BEGIN:VEVENT
DTSTART;TZID=America/Chicago:20260401T113000
DTEND;TZID=America/Chicago:20260401T114500
DTSTAMP:20260424T122138
CREATED:20260303T044636Z
LAST-MODIFIED:20260401T081739Z
UID:10005244-1775043000-1775043900@kettleparkseniorliving.com
SUMMARY:Walking Group
DESCRIPTION:
URL:https://kettleparkseniorliving.com/event-calendar/walking-group-648/
CATEGORIES:Memory Care
END:VEVENT
BEGIN:VEVENT
DTSTART;TZID=America/Chicago:20260401T130000
DTEND;TZID=America/Chicago:20260401T140000
DTSTAMP:20260424T122138
CREATED:20260323T063122Z
LAST-MODIFIED:20260401T064648Z
UID:10005470-1775048400-1775052000@kettleparkseniorliving.com
SUMMARY:Spark Practice
DESCRIPTION:
URL:https://kettleparkseniorliving.com/event-calendar/spark-practice-104/
LOCATION:Community Room
CATEGORIES:Senior Living
END:VEVENT
BEGIN:VEVENT
DTSTART;TZID=America/Chicago:20260401T140000
DTEND;TZID=America/Chicago:20260401T150000
DTSTAMP:20260424T122138
CREATED:20260303T050126Z
LAST-MODIFIED:20260401T064648Z
UID:10005250-1775052000-1775055600@kettleparkseniorliving.com
SUMMARY:Men's Group
DESCRIPTION:
URL:https://kettleparkseniorliving.com/event-calendar/mens-group-33/
LOCATION:Community Room
CATEGORIES:Senior Living
END:VEVENT
BEGIN:VEVENT
DTSTART;TZID=America/Chicago:20260401T150000
DTEND;TZID=America/Chicago:20260401T160000
DTSTAMP:20260424T122138
CREATED:20260303T044636Z
LAST-MODIFIED:20260401T081739Z
UID:10005245-1775055600-1775059200@kettleparkseniorliving.com
SUMMARY:Snack & Chat
DESCRIPTION:
URL:https://kettleparkseniorliving.com/event-calendar/snack-chat-218/
LOCATION:Lounge Area
CATEGORIES:Memory Care
END:VEVENT
BEGIN:VEVENT
DTSTART;TZID=America/Chicago:20260401T153000
DTEND;TZID=America/Chicago:20260401T160000
DTSTAMP:20260424T122138
CREATED:20260303T050126Z
LAST-MODIFIED:20260401T064648Z
UID:10005251-1775057400-1775059200@kettleparkseniorliving.com
SUMMARY:St. Ann's Devotions
DESCRIPTION:
URL:https://kettleparkseniorliving.com/event-calendar/st-anns-devotions-47/
LOCATION:Theater Room
CATEGORIES:Senior Living
END:VEVENT
BEGIN:VEVENT
DTSTART;TZID=America/Chicago:20260401T160000
DTEND;TZID=America/Chicago:20260401T161500
DTSTAMP:20260424T122138
CREATED:20260303T044636Z
LAST-MODIFIED:20260401T081739Z
UID:10005246-1775059200-1775060100@kettleparkseniorliving.com
SUMMARY:Walking Group
DESCRIPTION:
URL:https://kettleparkseniorliving.com/event-calendar/walking-group-649/
CATEGORIES:Memory Care
END:VEVENT
BEGIN:VEVENT
DTSTART;TZID=America/Chicago:20260401T193000
DTEND;TZID=America/Chicago:20260401T200000
DTSTAMP:20260424T122138
CREATED:20260303T044636Z
LAST-MODIFIED:20260401T081739Z
UID:10005247-1775071800-1775073600@kettleparkseniorliving.com
SUMMARY:Evening Snack
DESCRIPTION:
URL:https://kettleparkseniorliving.com/event-calendar/evening-snack-323/
CATEGORIES:Memory Care
END:VEVENT
END:VCALENDAR