BEGIN:VCALENDAR
VERSION:2.0
PRODID:-//Kettle Park Senior Living - ECPv6.11.2.1//NONSGML v1.0//EN
CALSCALE:GREGORIAN
METHOD:PUBLISH
X-ORIGINAL-URL:https://kettleparkseniorliving.com
X-WR-CALDESC:Events for Kettle Park Senior Living
REFRESH-INTERVAL;VALUE=DURATION:PT1H
X-Robots-Tag:noindex
X-PUBLISHED-TTL:PT1H
BEGIN:VTIMEZONE
TZID:America/Chicago
BEGIN:DAYLIGHT
TZOFFSETFROM:-0600
TZOFFSETTO:-0500
TZNAME:CDT
DTSTART:20250309T080000
END:DAYLIGHT
BEGIN:STANDARD
TZOFFSETFROM:-0500
TZOFFSETTO:-0600
TZNAME:CST
DTSTART:20251102T070000
END:STANDARD
END:VTIMEZONE
BEGIN:VEVENT
DTSTART;TZID=America/Chicago:20250515T091500
DTEND;TZID=America/Chicago:20250515T093000
DTSTAMP:20260419T120351
CREATED:20250514T205752Z
LAST-MODIFIED:20250514T205752Z
UID:10000005-1747300500-1747301400@kettleparkseniorliving.com
SUMMARY:News/Current Events
DESCRIPTION:
URL:https://kettleparkseniorliving.com/event-calendar/news-current-events/
LOCATION:Lounge Area
CATEGORIES:Memory Care
END:VEVENT
BEGIN:VEVENT
DTSTART;TZID=America/Chicago:20250515T093000
DTEND;TZID=America/Chicago:20250515T100000
DTSTAMP:20260419T120351
CREATED:20250514T205752Z
LAST-MODIFIED:20250514T205752Z
UID:10000006-1747301400-1747303200@kettleparkseniorliving.com
SUMMARY:Get Fit
DESCRIPTION:
URL:https://kettleparkseniorliving.com/event-calendar/get-fit/
LOCATION:Lounge Area
CATEGORIES:Memory Care
END:VEVENT
BEGIN:VEVENT
DTSTART;TZID=America/Chicago:20250515T100000
DTEND;TZID=America/Chicago:20250515T110000
DTSTAMP:20260419T120351
CREATED:20250514T205752Z
LAST-MODIFIED:20250514T205752Z
UID:10000007-1747303200-1747306800@kettleparkseniorliving.com
SUMMARY:Linked Senior
DESCRIPTION:
URL:https://kettleparkseniorliving.com/event-calendar/linked-senior/
LOCATION:Lounge Area
CATEGORIES:Memory Care
END:VEVENT
BEGIN:VEVENT
DTSTART;TZID=America/Chicago:20250515T110000
DTEND;TZID=America/Chicago:20250515T120000
DTSTAMP:20260419T120351
CREATED:20250514T205752Z
LAST-MODIFIED:20250514T205752Z
UID:10000008-1747306800-1747310400@kettleparkseniorliving.com
SUMMARY:Dog Visits w/ Lucy and Tink
DESCRIPTION:
URL:https://kettleparkseniorliving.com/event-calendar/dog-visits-w-lucy-and-tink/
LOCATION:Lounge Area
CATEGORIES:Memory Care
END:VEVENT
BEGIN:VEVENT
DTSTART;TZID=America/Chicago:20250515T113000
DTEND;TZID=America/Chicago:20250515T120000
DTSTAMP:20260419T120351
CREATED:20250514T205752Z
LAST-MODIFIED:20250514T205753Z
UID:10000009-1747308600-1747310400@kettleparkseniorliving.com
SUMMARY:Walking Group
DESCRIPTION:
URL:https://kettleparkseniorliving.com/event-calendar/walking-group-2/
CATEGORIES:Memory Care
END:VEVENT
BEGIN:VEVENT
DTSTART;TZID=America/Chicago:20250515T130000
DTEND;TZID=America/Chicago:20250515T133000
DTSTAMP:20260419T120351
CREATED:20250514T205752Z
LAST-MODIFIED:20250514T205752Z
UID:10000012-1747314000-1747315800@kettleparkseniorliving.com
SUMMARY:Music Appreciation
DESCRIPTION:
URL:https://kettleparkseniorliving.com/event-calendar/music-appreciation/
LOCATION:Lounge Area
CATEGORIES:Memory Care
END:VEVENT
BEGIN:VEVENT
DTSTART;TZID=America/Chicago:20250515T133000
DTEND;TZID=America/Chicago:20250515T143000
DTSTAMP:20260419T120351
CREATED:20250514T205752Z
LAST-MODIFIED:20250514T205752Z
UID:10000011-1747315800-1747319400@kettleparkseniorliving.com
SUMMARY:Balloon Games
DESCRIPTION:
URL:https://kettleparkseniorliving.com/event-calendar/balloon-games/
LOCATION:Lounge Area
CATEGORIES:Memory Care
END:VEVENT
BEGIN:VEVENT
DTSTART;TZID=America/Chicago:20250515T143000
DTEND;TZID=America/Chicago:20250515T150000
DTSTAMP:20260419T120351
CREATED:20250514T205752Z
LAST-MODIFIED:20250514T205753Z
UID:10000010-1747319400-1747321200@kettleparkseniorliving.com
SUMMARY:Reminisce
DESCRIPTION:
URL:https://kettleparkseniorliving.com/event-calendar/reminisce-2/
LOCATION:Lounge Area
CATEGORIES:Memory Care
END:VEVENT
BEGIN:VEVENT
DTSTART;TZID=America/Chicago:20250515T150000
DTEND;TZID=America/Chicago:20250515T160000
DTSTAMP:20260419T120351
CREATED:20250514T205752Z
LAST-MODIFIED:20250514T205752Z
UID:10000013-1747321200-1747324800@kettleparkseniorliving.com
SUMMARY:Smoothies & Chat
DESCRIPTION:
URL:https://kettleparkseniorliving.com/event-calendar/smoothies-chat-2/
LOCATION:Lounge Area
CATEGORIES:Memory Care
END:VEVENT
BEGIN:VEVENT
DTSTART;TZID=America/Chicago:20250515T160000
DTEND;TZID=America/Chicago:20250515T170000
DTSTAMP:20260419T120351
CREATED:20250514T205752Z
LAST-MODIFIED:20250515T210245Z
UID:10000014-1747324800-1747328400@kettleparkseniorliving.com
SUMMARY:Move to the Music
DESCRIPTION:
URL:https://kettleparkseniorliving.com/event-calendar/move-to-the-music/
LOCATION:Lounge Area
CATEGORIES:Memory Care
END:VEVENT
BEGIN:VEVENT
DTSTART;TZID=America/Chicago:20250515T180000
DTEND;TZID=America/Chicago:20250515T190000
DTSTAMP:20260419T120351
CREATED:20250514T205752Z
LAST-MODIFIED:20250515T210245Z
UID:10000015-1747332000-1747335600@kettleparkseniorliving.com
SUMMARY:Active Game
DESCRIPTION:
URL:https://kettleparkseniorliving.com/event-calendar/active-game/
LOCATION:Lounge Area
CATEGORIES:Memory Care
END:VEVENT
BEGIN:VEVENT
DTSTART;TZID=America/Chicago:20250515T193000
DTEND;TZID=America/Chicago:20250515T200000
DTSTAMP:20260419T120351
CREATED:20250514T205752Z
LAST-MODIFIED:20250515T210245Z
UID:10000016-1747337400-1747339200@kettleparkseniorliving.com
SUMMARY:Evening Snack
DESCRIPTION:
URL:https://kettleparkseniorliving.com/event-calendar/evening-snack-2/
CATEGORIES:Memory Care
END:VEVENT
END:VCALENDAR