BEGIN:VCALENDAR
VERSION:2.0
PRODID:-//Kettle Park Senior Living - ECPv6.11.2.1//NONSGML v1.0//EN
CALSCALE:GREGORIAN
METHOD:PUBLISH
X-ORIGINAL-URL:https://kettleparkseniorliving.com
X-WR-CALDESC:Events for Kettle Park Senior Living
REFRESH-INTERVAL;VALUE=DURATION:PT1H
X-Robots-Tag:noindex
X-PUBLISHED-TTL:PT1H
BEGIN:VTIMEZONE
TZID:America/Chicago
BEGIN:DAYLIGHT
TZOFFSETFROM:-0600
TZOFFSETTO:-0500
TZNAME:CDT
DTSTART:20250309T080000
END:DAYLIGHT
BEGIN:STANDARD
TZOFFSETFROM:-0500
TZOFFSETTO:-0600
TZNAME:CST
DTSTART:20251102T070000
END:STANDARD
END:VTIMEZONE
BEGIN:VEVENT
DTSTART;TZID=America/Chicago:20250525T091500
DTEND;TZID=America/Chicago:20250525T093000
DTSTAMP:20260419T120329
CREATED:20250514T205756Z
LAST-MODIFIED:20250524T210207Z
UID:10000121-1748164500-1748165400@kettleparkseniorliving.com
SUMMARY:News/Current Events
DESCRIPTION:
URL:https://kettleparkseniorliving.com/event-calendar/news-current-events-11/
LOCATION:Lounge Area
CATEGORIES:Memory Care
END:VEVENT
BEGIN:VEVENT
DTSTART;TZID=America/Chicago:20250525T093000
DTEND;TZID=America/Chicago:20250525T100000
DTSTAMP:20260419T120329
CREATED:20250514T205756Z
LAST-MODIFIED:20250521T210213Z
UID:10000122-1748165400-1748167200@kettleparkseniorliving.com
SUMMARY:Get Fit
DESCRIPTION:
URL:https://kettleparkseniorliving.com/event-calendar/get-fit-11/
LOCATION:Lounge Area
CATEGORIES:Memory Care
END:VEVENT
BEGIN:VEVENT
DTSTART;TZID=America/Chicago:20250525T100000
DTEND;TZID=America/Chicago:20250525T103000
DTSTAMP:20260419T120329
CREATED:20250514T205756Z
LAST-MODIFIED:20250524T210207Z
UID:10000123-1748167200-1748169000@kettleparkseniorliving.com
SUMMARY:TV Church Service
DESCRIPTION:
URL:https://kettleparkseniorliving.com/event-calendar/tv-church-service-2/
LOCATION:Lounge Area
CATEGORIES:Memory Care
END:VEVENT
BEGIN:VEVENT
DTSTART;TZID=America/Chicago:20250525T103000
DTEND;TZID=America/Chicago:20250525T113000
DTSTAMP:20260419T120329
CREATED:20250514T205756Z
LAST-MODIFIED:20250524T210207Z
UID:10000124-1748169000-1748172600@kettleparkseniorliving.com
SUMMARY:Hymn Sing
DESCRIPTION:
URL:https://kettleparkseniorliving.com/event-calendar/hymn-sing-2/
LOCATION:Lounge Area
CATEGORIES:Memory Care
END:VEVENT
BEGIN:VEVENT
DTSTART;TZID=America/Chicago:20250525T113000
DTEND;TZID=America/Chicago:20250525T120000
DTSTAMP:20260419T120329
CREATED:20250514T205756Z
LAST-MODIFIED:20250524T210207Z
UID:10000125-1748172600-1748174400@kettleparkseniorliving.com
SUMMARY:Walking Group
DESCRIPTION:
URL:https://kettleparkseniorliving.com/event-calendar/walking-group-19/
CATEGORIES:Memory Care
END:VEVENT
BEGIN:VEVENT
DTSTART;TZID=America/Chicago:20250525T130000
DTEND;TZID=America/Chicago:20250525T133000
DTSTAMP:20260419T120329
CREATED:20250514T205756Z
LAST-MODIFIED:20250524T210207Z
UID:10000126-1748178000-1748179800@kettleparkseniorliving.com
SUMMARY:Music Appreciation
DESCRIPTION:
URL:https://kettleparkseniorliving.com/event-calendar/music-appreciation-11/
LOCATION:Lounge Area
CATEGORIES:Memory Care
END:VEVENT
BEGIN:VEVENT
DTSTART;TZID=America/Chicago:20250525T133000
DTEND;TZID=America/Chicago:20250525T143000
DTSTAMP:20260419T120329
CREATED:20250514T205756Z
LAST-MODIFIED:20250524T210206Z
UID:10000127-1748179800-1748183400@kettleparkseniorliving.com
SUMMARY:Word Games
DESCRIPTION:
URL:https://kettleparkseniorliving.com/event-calendar/word-games-2/
LOCATION:Lounge Area
CATEGORIES:Memory Care
END:VEVENT
BEGIN:VEVENT
DTSTART;TZID=America/Chicago:20250525T143000
DTEND;TZID=America/Chicago:20250525T150000
DTSTAMP:20260419T120329
CREATED:20250514T205756Z
LAST-MODIFIED:20250524T210207Z
UID:10000128-1748183400-1748185200@kettleparkseniorliving.com
SUMMARY:Bean Bag Games
DESCRIPTION:
URL:https://kettleparkseniorliving.com/event-calendar/active-game-8/
LOCATION:Lounge Area
CATEGORIES:Memory Care
END:VEVENT
BEGIN:VEVENT
DTSTART;TZID=America/Chicago:20250525T150000
DTEND;TZID=America/Chicago:20250525T160000
DTSTAMP:20260419T120329
CREATED:20250514T205756Z
LAST-MODIFIED:20250524T210207Z
UID:10000129-1748185200-1748188800@kettleparkseniorliving.com
SUMMARY:Smoothies & Chat
DESCRIPTION:
URL:https://kettleparkseniorliving.com/event-calendar/smoothies-chat-12/
LOCATION:Lounge Area
CATEGORIES:Memory Care
END:VEVENT
BEGIN:VEVENT
DTSTART;TZID=America/Chicago:20250525T160000
DTEND;TZID=America/Chicago:20250525T163000
DTSTAMP:20260419T120329
CREATED:20250514T205757Z
LAST-MODIFIED:20250525T210308Z
UID:10000130-1748188800-1748190600@kettleparkseniorliving.com
SUMMARY:Walking Group
DESCRIPTION:
URL:https://kettleparkseniorliving.com/event-calendar/walking-group-20/
CATEGORIES:Memory Care
END:VEVENT
BEGIN:VEVENT
DTSTART;TZID=America/Chicago:20250525T180000
DTEND;TZID=America/Chicago:20250525T193000
DTSTAMP:20260419T120329
CREATED:20250514T205757Z
LAST-MODIFIED:20250525T210308Z
UID:10000132-1748196000-1748201400@kettleparkseniorliving.com
SUMMARY:Active Games
DESCRIPTION:
URL:https://kettleparkseniorliving.com/event-calendar/active-games-2/
LOCATION:Lounge Area
CATEGORIES:Memory Care
END:VEVENT
BEGIN:VEVENT
DTSTART;TZID=America/Chicago:20250525T193000
DTEND;TZID=America/Chicago:20250525T200000
DTSTAMP:20260419T120329
CREATED:20250514T205757Z
LAST-MODIFIED:20250525T210308Z
UID:10000131-1748201400-1748203200@kettleparkseniorliving.com
SUMMARY:Evening Snack
DESCRIPTION:
URL:https://kettleparkseniorliving.com/event-calendar/evening-snack-12/
CATEGORIES:Memory Care
END:VEVENT
END:VCALENDAR