BEGIN:VCALENDAR
VERSION:2.0
PRODID:-//Kettle Park Senior Living - ECPv6.11.2.1//NONSGML v1.0//EN
CALSCALE:GREGORIAN
METHOD:PUBLISH
X-ORIGINAL-URL:https://kettleparkseniorliving.com
X-WR-CALDESC:Events for Kettle Park Senior Living
REFRESH-INTERVAL;VALUE=DURATION:PT1H
X-Robots-Tag:noindex
X-PUBLISHED-TTL:PT1H
BEGIN:VTIMEZONE
TZID:America/Chicago
BEGIN:DAYLIGHT
TZOFFSETFROM:-0600
TZOFFSETTO:-0500
TZNAME:CDT
DTSTART:20250309T080000
END:DAYLIGHT
BEGIN:STANDARD
TZOFFSETFROM:-0500
TZOFFSETTO:-0600
TZNAME:CST
DTSTART:20251102T070000
END:STANDARD
END:VTIMEZONE
BEGIN:VEVENT
DTSTART;TZID=America/Chicago:20250607T091500
DTEND;TZID=America/Chicago:20250607T093000
DTSTAMP:20260419T094531
CREATED:20250514T205802Z
LAST-MODIFIED:20250606T211626Z
UID:10000273-1749287700-1749288600@kettleparkseniorliving.com
SUMMARY:News/Current Events
DESCRIPTION:
URL:https://kettleparkseniorliving.com/event-calendar/news-current-events-24/
LOCATION:Lounge Area
CATEGORIES:Memory Care
END:VEVENT
BEGIN:VEVENT
DTSTART;TZID=America/Chicago:20250607T092900
DTEND;TZID=America/Chicago:20250607T100000
DTSTAMP:20260419T094531
CREATED:20250605T211626Z
LAST-MODIFIED:20250606T211626Z
UID:10000910-1749288540-1749290400@kettleparkseniorliving.com
SUMMARY:Get Fit
DESCRIPTION:
URL:https://kettleparkseniorliving.com/event-calendar/get-fit-85/
LOCATION:Lounge
CATEGORIES:Memory Care
END:VEVENT
BEGIN:VEVENT
DTSTART;TZID=America/Chicago:20250607T093000
DTEND;TZID=America/Chicago:20250607T100000
DTSTAMP:20260419T094531
CREATED:20250514T205803Z
LAST-MODIFIED:20250521T210218Z
UID:10000276-1749288600-1749290400@kettleparkseniorliving.com
SUMMARY:Get Fit
DESCRIPTION:
URL:https://kettleparkseniorliving.com/event-calendar/get-fit-24/
LOCATION:Lounge Area
CATEGORIES:Memory Care
END:VEVENT
BEGIN:VEVENT
DTSTART;TZID=America/Chicago:20250607T093000
DTEND;TZID=America/Chicago:20250607T100000
DTSTAMP:20260419T094531
CREATED:20250525T210312Z
LAST-MODIFIED:20250527T210125Z
UID:10000688-1749288600-1749290400@kettleparkseniorliving.com
SUMMARY:Get Fit
DESCRIPTION:
URL:https://kettleparkseniorliving.com/event-calendar/get-fit-64/
LOCATION:Lounge Area
CATEGORIES:Memory Care
END:VEVENT
BEGIN:VEVENT
DTSTART;TZID=America/Chicago:20250607T100000
DTEND;TZID=America/Chicago:20250607T110000
DTSTAMP:20260419T094531
CREATED:20250514T205803Z
LAST-MODIFIED:20250606T211626Z
UID:10000275-1749290400-1749294000@kettleparkseniorliving.com
SUMMARY:Linked Sr.
DESCRIPTION:
URL:https://kettleparkseniorliving.com/event-calendar/linked-sr-4/
LOCATION:Lounge
CATEGORIES:Memory Care
END:VEVENT
BEGIN:VEVENT
DTSTART;TZID=America/Chicago:20250607T110000
DTEND;TZID=America/Chicago:20250607T113000
DTSTAMP:20260419T094531
CREATED:20250514T205803Z
LAST-MODIFIED:20250523T210140Z
UID:10000274-1749294000-1749295800@kettleparkseniorliving.com
SUMMARY:Name That Tune
DESCRIPTION:
URL:https://kettleparkseniorliving.com/event-calendar/name-that-tune-4/
LOCATION:Lounge Area
CATEGORIES:Memory Care
END:VEVENT
BEGIN:VEVENT
DTSTART;TZID=America/Chicago:20250607T110000
DTEND;TZID=America/Chicago:20250607T120000
DTSTAMP:20260419T094531
CREATED:20250524T210211Z
LAST-MODIFIED:20250606T211626Z
UID:10000645-1749294000-1749297600@kettleparkseniorliving.com
SUMMARY:Sing-along
DESCRIPTION:
URL:https://kettleparkseniorliving.com/event-calendar/sing-along-6/
LOCATION:Lounge Area
CATEGORIES:Memory Care
END:VEVENT
BEGIN:VEVENT
DTSTART;TZID=America/Chicago:20250607T113000
DTEND;TZID=America/Chicago:20250607T120000
DTSTAMP:20260419T094531
CREATED:20250514T205803Z
LAST-MODIFIED:20250606T211626Z
UID:10000277-1749295800-1749297600@kettleparkseniorliving.com
SUMMARY:Walking Group
DESCRIPTION:
URL:https://kettleparkseniorliving.com/event-calendar/walking-group-41/
CATEGORIES:Memory Care
END:VEVENT
BEGIN:VEVENT
DTSTART;TZID=America/Chicago:20250607T130000
DTEND;TZID=America/Chicago:20250607T133000
DTSTAMP:20260419T094531
CREATED:20250514T205803Z
LAST-MODIFIED:20250527T210125Z
UID:10000278-1749301200-1749303000@kettleparkseniorliving.com
SUMMARY:Music Appreciation
DESCRIPTION:
URL:https://kettleparkseniorliving.com/event-calendar/music-appreciation-24/
LOCATION:Lounge Area
CATEGORIES:Memory Care
END:VEVENT
BEGIN:VEVENT
DTSTART;TZID=America/Chicago:20250607T133000
DTEND;TZID=America/Chicago:20250607T143000
DTSTAMP:20260419T094531
CREATED:20250514T205803Z
LAST-MODIFIED:20250606T211626Z
UID:10000279-1749303000-1749306600@kettleparkseniorliving.com
SUMMARY:Let's Create
DESCRIPTION:
URL:https://kettleparkseniorliving.com/event-calendar/baking-group-4/
LOCATION:Lounge
CATEGORIES:Memory Care
END:VEVENT
BEGIN:VEVENT
DTSTART;TZID=America/Chicago:20250607T150000
DTEND;TZID=America/Chicago:20250607T160000
DTSTAMP:20260419T094531
CREATED:20250514T205803Z
LAST-MODIFIED:20250604T211701Z
UID:10000280-1749308400-1749312000@kettleparkseniorliving.com
SUMMARY:Smoothies & Chat
DESCRIPTION:
URL:https://kettleparkseniorliving.com/event-calendar/smoothies-chat-25/
LOCATION:Lounge Area
CATEGORIES:Memory Care
END:VEVENT
BEGIN:VEVENT
DTSTART;TZID=America/Chicago:20250607T180000
DTEND;TZID=America/Chicago:20250607T190000
DTSTAMP:20260419T094531
CREATED:20250514T205803Z
LAST-MODIFIED:20250607T211642Z
UID:10000281-1749319200-1749322800@kettleparkseniorliving.com
SUMMARY:Active Game
DESCRIPTION:
URL:https://kettleparkseniorliving.com/event-calendar/active-game-17/
LOCATION:Lounge
CATEGORIES:Memory Care
END:VEVENT
BEGIN:VEVENT
DTSTART;TZID=America/Chicago:20250607T193000
DTEND;TZID=America/Chicago:20250607T200000
DTSTAMP:20260419T094531
CREATED:20250514T205803Z
LAST-MODIFIED:20250607T211642Z
UID:10000282-1749324600-1749326400@kettleparkseniorliving.com
SUMMARY:Evening Snack
DESCRIPTION:
URL:https://kettleparkseniorliving.com/event-calendar/evening-snack-25/
CATEGORIES:Memory Care
END:VEVENT
END:VCALENDAR