BEGIN:VCALENDAR
VERSION:2.0
PRODID:-//Kettle Park Senior Living - ECPv6.11.2.1//NONSGML v1.0//EN
CALSCALE:GREGORIAN
METHOD:PUBLISH
X-ORIGINAL-URL:https://kettleparkseniorliving.com
X-WR-CALDESC:Events for Kettle Park Senior Living
REFRESH-INTERVAL;VALUE=DURATION:PT1H
X-Robots-Tag:noindex
X-PUBLISHED-TTL:PT1H
BEGIN:VTIMEZONE
TZID:America/Chicago
BEGIN:DAYLIGHT
TZOFFSETFROM:-0600
TZOFFSETTO:-0500
TZNAME:CDT
DTSTART:20250309T080000
END:DAYLIGHT
BEGIN:STANDARD
TZOFFSETFROM:-0500
TZOFFSETTO:-0600
TZNAME:CST
DTSTART:20251102T070000
END:STANDARD
END:VTIMEZONE
BEGIN:VEVENT
DTSTART;TZID=America/Chicago:20250702T091500
DTEND;TZID=America/Chicago:20250702T093000
DTSTAMP:20260419T094442
CREATED:20250603T211812Z
LAST-MODIFIED:20250702T010123Z
UID:10000872-1751447700-1751448600@kettleparkseniorliving.com
SUMMARY:News/Current Events
DESCRIPTION:
URL:https://kettleparkseniorliving.com/event-calendar/news-current-events-49/
LOCATION:Lounge Area
CATEGORIES:Memory Care
END:VEVENT
BEGIN:VEVENT
DTSTART;TZID=America/Chicago:20250702T092900
DTEND;TZID=America/Chicago:20250702T100000
DTSTAMP:20260419T094442
CREATED:20250605T211635Z
LAST-MODIFIED:20250702T010123Z
UID:10000938-1751448540-1751450400@kettleparkseniorliving.com
SUMMARY:Get Fit
DESCRIPTION:
URL:https://kettleparkseniorliving.com/event-calendar/get-fit-110/
LOCATION:Lounge
CATEGORIES:Memory Care
END:VEVENT
BEGIN:VEVENT
DTSTART;TZID=America/Chicago:20250702T100000
DTEND;TZID=America/Chicago:20250702T110000
DTSTAMP:20260419T094442
CREATED:20250605T211635Z
LAST-MODIFIED:20250702T010123Z
UID:10000939-1751450400-1751454000@kettleparkseniorliving.com
SUMMARY:Coffee Clutch
DESCRIPTION:
URL:https://kettleparkseniorliving.com/event-calendar/coffee-clutch-26/
LOCATION:Lounge
CATEGORIES:Memory Care
END:VEVENT
BEGIN:VEVENT
DTSTART;TZID=America/Chicago:20250702T110000
DTEND;TZID=America/Chicago:20250702T113000
DTSTAMP:20260419T094442
CREATED:20250603T211812Z
LAST-MODIFIED:20250702T010123Z
UID:10000873-1751454000-1751455800@kettleparkseniorliving.com
SUMMARY:Gardening Group
DESCRIPTION:
URL:https://kettleparkseniorliving.com/event-calendar/gardening-group-20/
CATEGORIES:Memory Care
END:VEVENT
BEGIN:VEVENT
DTSTART;TZID=America/Chicago:20250702T113000
DTEND;TZID=America/Chicago:20250702T120000
DTSTAMP:20260419T094442
CREATED:20250603T211812Z
LAST-MODIFIED:20250702T010123Z
UID:10000874-1751455800-1751457600@kettleparkseniorliving.com
SUMMARY:Walking Group
DESCRIPTION:
URL:https://kettleparkseniorliving.com/event-calendar/walking-group-80/
CATEGORIES:Memory Care
END:VEVENT
BEGIN:VEVENT
DTSTART;TZID=America/Chicago:20250702T130000
DTEND;TZID=America/Chicago:20250702T133000
DTSTAMP:20260419T094442
CREATED:20250628T004639Z
LAST-MODIFIED:20250702T010123Z
UID:10001290-1751461200-1751463000@kettleparkseniorliving.com
SUMMARY:Music Appreciation
DESCRIPTION:
URL:https://kettleparkseniorliving.com/event-calendar/music-appreciation-41/
LOCATION:Lounge Area
CATEGORIES:Memory Care
END:VEVENT
BEGIN:VEVENT
DTSTART;TZID=America/Chicago:20250702T133000
DTEND;TZID=America/Chicago:20250702T150000
DTSTAMP:20260419T094442
CREATED:20250603T211812Z
LAST-MODIFIED:20250702T010123Z
UID:10000875-1751463000-1751468400@kettleparkseniorliving.com
SUMMARY:Scenic Ride
DESCRIPTION:
URL:https://kettleparkseniorliving.com/event-calendar/scenic-ride-4/
CATEGORIES:Memory Care
END:VEVENT
BEGIN:VEVENT
DTSTART;TZID=America/Chicago:20250702T140000
DTEND;TZID=America/Chicago:20250702T150000
DTSTAMP:20260419T094442
CREATED:20250602T221625Z
LAST-MODIFIED:20250702T010123Z
UID:10000869-1751464800-1751468400@kettleparkseniorliving.com
SUMMARY:Entertainment: Cowboy Bob
DESCRIPTION:
URL:https://kettleparkseniorliving.com/event-calendar/entertainment-cowboy-bob-2/
LOCATION:Dining Room
CATEGORIES:Memory Care,Senior Living
END:VEVENT
BEGIN:VEVENT
DTSTART;TZID=America/Chicago:20250702T150000
DTEND;TZID=America/Chicago:20250702T160000
DTSTAMP:20260419T094442
CREATED:20250603T211812Z
LAST-MODIFIED:20250604T211714Z
UID:10000876-1751468400-1751472000@kettleparkseniorliving.com
SUMMARY:Smoothies & Chat
DESCRIPTION:
URL:https://kettleparkseniorliving.com/event-calendar/smoothies-chat-50/
LOCATION:Lounge Area
CATEGORIES:Memory Care
END:VEVENT
BEGIN:VEVENT
DTSTART;TZID=America/Chicago:20250702T150000
DTEND;TZID=America/Chicago:20250702T160000
DTSTAMP:20260419T094442
CREATED:20250612T214635Z
LAST-MODIFIED:20250702T010123Z
UID:10001048-1751468400-1751472000@kettleparkseniorliving.com
SUMMARY:Smoothies & Chat
DESCRIPTION:
URL:https://kettleparkseniorliving.com/event-calendar/smoothies-chat-67/
LOCATION:Lounge Area
CATEGORIES:Memory Care
END:VEVENT
BEGIN:VEVENT
DTSTART;TZID=America/Chicago:20250702T160000
DTEND;TZID=America/Chicago:20250702T163000
DTSTAMP:20260419T094442
CREATED:20250603T211812Z
LAST-MODIFIED:20250702T010123Z
UID:10000877-1751472000-1751473800@kettleparkseniorliving.com
SUMMARY:Walking Group
DESCRIPTION:
URL:https://kettleparkseniorliving.com/event-calendar/walking-group-81/
CATEGORIES:Memory Care
END:VEVENT
BEGIN:VEVENT
DTSTART;TZID=America/Chicago:20250702T180000
DTEND;TZID=America/Chicago:20250702T190000
DTSTAMP:20260419T094442
CREATED:20250603T211812Z
LAST-MODIFIED:20250702T010122Z
UID:10000878-1751479200-1751482800@kettleparkseniorliving.com
SUMMARY:Reminisce
DESCRIPTION:
URL:https://kettleparkseniorliving.com/event-calendar/reminisce-15/
LOCATION:Lounge Area
CATEGORIES:Memory Care
END:VEVENT
BEGIN:VEVENT
DTSTART;TZID=America/Chicago:20250702T193000
DTEND;TZID=America/Chicago:20250702T200000
DTSTAMP:20260419T094442
CREATED:20250603T211812Z
LAST-MODIFIED:20250702T010122Z
UID:10000879-1751484600-1751486400@kettleparkseniorliving.com
SUMMARY:Evening Snack
DESCRIPTION:
URL:https://kettleparkseniorliving.com/event-calendar/evening-snack-50/
CATEGORIES:Memory Care
END:VEVENT
END:VCALENDAR