BEGIN:VCALENDAR
VERSION:2.0
PRODID:-//Kettle Park Senior Living - ECPv6.11.2.1//NONSGML v1.0//EN
CALSCALE:GREGORIAN
METHOD:PUBLISH
X-WR-CALNAME:Kettle Park Senior Living
X-ORIGINAL-URL:https://kettleparkseniorliving.com
X-WR-CALDESC:Events for Kettle Park Senior Living
REFRESH-INTERVAL;VALUE=DURATION:PT1H
X-Robots-Tag:noindex
X-PUBLISHED-TTL:PT1H
BEGIN:VTIMEZONE
TZID:America/Chicago
BEGIN:DAYLIGHT
TZOFFSETFROM:-0600
TZOFFSETTO:-0500
TZNAME:CDT
DTSTART:20250309T080000
END:DAYLIGHT
BEGIN:STANDARD
TZOFFSETFROM:-0500
TZOFFSETTO:-0600
TZNAME:CST
DTSTART:20251102T070000
END:STANDARD
END:VTIMEZONE
BEGIN:VEVENT
DTSTART;TZID=America/Chicago:20250711T091500
DTEND;TZID=America/Chicago:20250711T093000
DTSTAMP:20260419T094356
CREATED:20250611T214657Z
LAST-MODIFIED:20250711T013135Z
UID:10001024-1752225300-1752226200@kettleparkseniorliving.com
SUMMARY:News/Current Events
DESCRIPTION:
URL:https://kettleparkseniorliving.com/event-calendar/news-current-events-58/
LOCATION:Lounge Area
CATEGORIES:Memory Care
END:VEVENT
BEGIN:VEVENT
DTSTART;TZID=America/Chicago:20250711T092900
DTEND;TZID=America/Chicago:20250711T100000
DTSTAMP:20260419T094356
CREATED:20250611T214657Z
LAST-MODIFIED:20250711T013135Z
UID:10001025-1752226140-1752228000@kettleparkseniorliving.com
SUMMARY:Get Fit
DESCRIPTION:
URL:https://kettleparkseniorliving.com/event-calendar/get-fit-119/
LOCATION:Lounge
CATEGORIES:Memory Care
END:VEVENT
BEGIN:VEVENT
DTSTART;TZID=America/Chicago:20250711T100000
DTEND;TZID=America/Chicago:20250711T103000
DTSTAMP:20260419T094356
CREATED:20250611T214657Z
LAST-MODIFIED:20250711T013135Z
UID:10001026-1752228000-1752229800@kettleparkseniorliving.com
SUMMARY:Devotions with Chaplin Lee
DESCRIPTION:
URL:https://kettleparkseniorliving.com/event-calendar/devotions-with-chaplin-lee-16/
LOCATION:Lounge
CATEGORIES:Memory Care
END:VEVENT
BEGIN:VEVENT
DTSTART;TZID=America/Chicago:20250711T103000
DTEND;TZID=America/Chicago:20250711T110000
DTSTAMP:20260419T094356
CREATED:20250611T214657Z
LAST-MODIFIED:20250711T013135Z
UID:10001027-1752229800-1752231600@kettleparkseniorliving.com
SUMMARY:Coffee Clutch & Link Senior
DESCRIPTION:
URL:https://kettleparkseniorliving.com/event-calendar/coffee-clutch-link-senior-9/
LOCATION:Lounge
CATEGORIES:Memory Care
END:VEVENT
BEGIN:VEVENT
DTSTART;TZID=America/Chicago:20250711T110000
DTEND;TZID=America/Chicago:20250711T113000
DTSTAMP:20260419T094356
CREATED:20250611T214657Z
LAST-MODIFIED:20250711T013136Z
UID:10001028-1752231600-1752233400@kettleparkseniorliving.com
SUMMARY:Gardening Group
DESCRIPTION:
URL:https://kettleparkseniorliving.com/event-calendar/gardening-group-24/
CATEGORIES:Memory Care
END:VEVENT
BEGIN:VEVENT
DTSTART;TZID=America/Chicago:20250711T113000
DTEND;TZID=America/Chicago:20250711T120000
DTSTAMP:20260419T094356
CREATED:20250611T214657Z
LAST-MODIFIED:20250711T013136Z
UID:10001029-1752233400-1752235200@kettleparkseniorliving.com
SUMMARY:Walking Group
DESCRIPTION:
URL:https://kettleparkseniorliving.com/event-calendar/walking-group-94/
CATEGORIES:Memory Care
END:VEVENT
BEGIN:VEVENT
DTSTART;TZID=America/Chicago:20250711T130000
DTEND;TZID=America/Chicago:20250711T133000
DTSTAMP:20260419T094356
CREATED:20250628T004642Z
LAST-MODIFIED:20250711T013136Z
UID:10001301-1752238800-1752240600@kettleparkseniorliving.com
SUMMARY:Music Appreciation
DESCRIPTION:
URL:https://kettleparkseniorliving.com/event-calendar/music-appreciation-50/
LOCATION:Lounge Area
CATEGORIES:Memory Care
END:VEVENT
BEGIN:VEVENT
DTSTART;TZID=America/Chicago:20250711T133000
DTEND;TZID=America/Chicago:20250711T150000
DTSTAMP:20260419T094356
CREATED:20250614T220200Z
LAST-MODIFIED:20250711T013136Z
UID:10001070-1752240600-1752246000@kettleparkseniorliving.com
SUMMARY:BINGO
DESCRIPTION:
URL:https://kettleparkseniorliving.com/event-calendar/bingo-30/
LOCATION:Dining Room
CATEGORIES:Memory Care
END:VEVENT
BEGIN:VEVENT
DTSTART;TZID=America/Chicago:20250711T150000
DTEND;TZID=America/Chicago:20250711T160000
DTSTAMP:20260419T094356
CREATED:20250614T220200Z
LAST-MODIFIED:20250708T011633Z
UID:10001071-1752246000-1752249600@kettleparkseniorliving.com
SUMMARY:Smoothies & Chat
DESCRIPTION:
URL:https://kettleparkseniorliving.com/event-calendar/smoothies-chat-76/
LOCATION:Lounge Area
CATEGORIES:Memory Care
END:VEVENT
BEGIN:VEVENT
DTSTART;TZID=America/Chicago:20250711T160000
DTEND;TZID=America/Chicago:20250711T163000
DTSTAMP:20260419T094356
CREATED:20250614T220200Z
LAST-MODIFIED:20250711T013136Z
UID:10001072-1752249600-1752251400@kettleparkseniorliving.com
SUMMARY:Walking Group
DESCRIPTION:
URL:https://kettleparkseniorliving.com/event-calendar/walking-group-95/
CATEGORIES:Memory Care
END:VEVENT
BEGIN:VEVENT
DTSTART;TZID=America/Chicago:20250711T180000
DTEND;TZID=America/Chicago:20250711T193000
DTSTAMP:20260419T094356
CREATED:20250614T220200Z
LAST-MODIFIED:20250711T013136Z
UID:10001073-1752256800-1752262200@kettleparkseniorliving.com
SUMMARY:Friday Night Movie
DESCRIPTION:
URL:https://kettleparkseniorliving.com/event-calendar/friday-night-movie-18/
LOCATION:Lounge Area
CATEGORIES:Memory Care
END:VEVENT
BEGIN:VEVENT
DTSTART;TZID=America/Chicago:20250711T193000
DTEND;TZID=America/Chicago:20250711T200000
DTSTAMP:20260419T094356
CREATED:20250614T220200Z
LAST-MODIFIED:20250711T013135Z
UID:10001074-1752262200-1752264000@kettleparkseniorliving.com
SUMMARY:Evening Snack
DESCRIPTION:
URL:https://kettleparkseniorliving.com/event-calendar/evening-snack-59/
CATEGORIES:Memory Care
END:VEVENT
END:VCALENDAR