BEGIN:VCALENDAR
VERSION:2.0
PRODID:-//Kettle Park Senior Living - ECPv6.11.2.1//NONSGML v1.0//EN
CALSCALE:GREGORIAN
METHOD:PUBLISH
X-ORIGINAL-URL:https://kettleparkseniorliving.com
X-WR-CALDESC:Events for Kettle Park Senior Living
REFRESH-INTERVAL;VALUE=DURATION:PT1H
X-Robots-Tag:noindex
X-PUBLISHED-TTL:PT1H
BEGIN:VTIMEZONE
TZID:America/Chicago
BEGIN:DAYLIGHT
TZOFFSETFROM:-0600
TZOFFSETTO:-0500
TZNAME:CDT
DTSTART:20250309T080000
END:DAYLIGHT
BEGIN:STANDARD
TZOFFSETFROM:-0500
TZOFFSETTO:-0600
TZNAME:CST
DTSTART:20251102T070000
END:STANDARD
END:VTIMEZONE
BEGIN:VEVENT
DTSTART;TZID=America/Chicago:20250712T091500
DTEND;TZID=America/Chicago:20250712T093000
DTSTAMP:20260419T094608
CREATED:20250614T220200Z
LAST-MODIFIED:20250712T013122Z
UID:10001075-1752311700-1752312600@kettleparkseniorliving.com
SUMMARY:News/Current Events
DESCRIPTION:
URL:https://kettleparkseniorliving.com/event-calendar/news-current-events-59/
LOCATION:Lounge Area
CATEGORIES:Memory Care
END:VEVENT
BEGIN:VEVENT
DTSTART;TZID=America/Chicago:20250712T092900
DTEND;TZID=America/Chicago:20250712T100000
DTSTAMP:20260419T094608
CREATED:20250614T220200Z
LAST-MODIFIED:20250712T013122Z
UID:10001076-1752312540-1752314400@kettleparkseniorliving.com
SUMMARY:Get Fit
DESCRIPTION:
URL:https://kettleparkseniorliving.com/event-calendar/get-fit-120/
LOCATION:Lounge
CATEGORIES:Memory Care
END:VEVENT
BEGIN:VEVENT
DTSTART;TZID=America/Chicago:20250712T100000
DTEND;TZID=America/Chicago:20250712T110000
DTSTAMP:20260419T094608
CREATED:20250614T220200Z
LAST-MODIFIED:20250712T013122Z
UID:10001077-1752314400-1752318000@kettleparkseniorliving.com
SUMMARY:Linked Sr.
DESCRIPTION:
URL:https://kettleparkseniorliving.com/event-calendar/linked-sr-9/
LOCATION:Lounge
CATEGORIES:Memory Care
END:VEVENT
BEGIN:VEVENT
DTSTART;TZID=America/Chicago:20250712T110000
DTEND;TZID=America/Chicago:20250712T233000
DTSTAMP:20260419T094608
CREATED:20250615T220130Z
LAST-MODIFIED:20250713T013127Z
UID:10001083-1752318000-1752363000@kettleparkseniorliving.com
SUMMARY:Sing-along
DESCRIPTION:
URL:https://kettleparkseniorliving.com/event-calendar/sing-along-11/
LOCATION:Lounge Area
CATEGORIES:Memory Care
END:VEVENT
BEGIN:VEVENT
DTSTART;TZID=America/Chicago:20250712T113000
DTEND;TZID=America/Chicago:20250712T120000
DTSTAMP:20260419T094608
CREATED:20250615T220130Z
LAST-MODIFIED:20250712T013122Z
UID:10001084-1752319800-1752321600@kettleparkseniorliving.com
SUMMARY:Walking Group
DESCRIPTION:
URL:https://kettleparkseniorliving.com/event-calendar/walking-group-96/
CATEGORIES:Memory Care
END:VEVENT
BEGIN:VEVENT
DTSTART;TZID=America/Chicago:20250712T130000
DTEND;TZID=America/Chicago:20250712T133000
DTSTAMP:20260419T094608
CREATED:20250628T004643Z
LAST-MODIFIED:20250712T013122Z
UID:10001302-1752325200-1752327000@kettleparkseniorliving.com
SUMMARY:Music Appreciation
DESCRIPTION:
URL:https://kettleparkseniorliving.com/event-calendar/music-appreciation-51/
LOCATION:Lounge Area
CATEGORIES:Memory Care
END:VEVENT
BEGIN:VEVENT
DTSTART;TZID=America/Chicago:20250712T133000
DTEND;TZID=America/Chicago:20250712T143000
DTSTAMP:20260419T094608
CREATED:20250615T220130Z
LAST-MODIFIED:20250712T013122Z
UID:10001085-1752327000-1752330600@kettleparkseniorliving.com
SUMMARY:Let's Create
DESCRIPTION:
URL:https://kettleparkseniorliving.com/event-calendar/lets-create-4/
LOCATION:Lounge
CATEGORIES:Memory Care
END:VEVENT
BEGIN:VEVENT
DTSTART;TZID=America/Chicago:20250712T150000
DTEND;TZID=America/Chicago:20250712T153000
DTSTAMP:20260419T094608
CREATED:20250712T013121Z
LAST-MODIFIED:20250712T013122Z
UID:10001561-1752332400-1752334200@kettleparkseniorliving.com
SUMMARY:Smoothies & Chat
DESCRIPTION:
URL:https://kettleparkseniorliving.com/event-calendar/smoothies-chat-100/
LOCATION:Lounge Area
CATEGORIES:Memory Care
END:VEVENT
BEGIN:VEVENT
DTSTART;TZID=America/Chicago:20250712T150000
DTEND;TZID=America/Chicago:20250712T160000
DTSTAMP:20260419T094608
CREATED:20250615T220130Z
LAST-MODIFIED:20250708T011633Z
UID:10001086-1752332400-1752336000@kettleparkseniorliving.com
SUMMARY:Smoothies & Chat
DESCRIPTION:
URL:https://kettleparkseniorliving.com/event-calendar/smoothies-chat-77/
LOCATION:Lounge Area
CATEGORIES:Memory Care
END:VEVENT
BEGIN:VEVENT
DTSTART;TZID=America/Chicago:20250712T160000
DTEND;TZID=America/Chicago:20250712T163000
DTSTAMP:20260419T094608
CREATED:20250623T004627Z
LAST-MODIFIED:20250712T013122Z
UID:10001207-1752336000-1752337800@kettleparkseniorliving.com
SUMMARY:Walking Group
DESCRIPTION:
URL:https://kettleparkseniorliving.com/event-calendar/walking-group-109/
CATEGORIES:Memory Care
END:VEVENT
BEGIN:VEVENT
DTSTART;TZID=America/Chicago:20250712T180000
DTEND;TZID=America/Chicago:20250712T190000
DTSTAMP:20260419T094608
CREATED:20250615T220130Z
LAST-MODIFIED:20250712T013122Z
UID:10001087-1752343200-1752346800@kettleparkseniorliving.com
SUMMARY:Active Game
DESCRIPTION:
URL:https://kettleparkseniorliving.com/event-calendar/active-game-37/
LOCATION:Lounge
CATEGORIES:Memory Care
END:VEVENT
BEGIN:VEVENT
DTSTART;TZID=America/Chicago:20250712T193000
DTEND;TZID=America/Chicago:20250712T200000
DTSTAMP:20260419T094608
CREATED:20250615T220130Z
LAST-MODIFIED:20250712T013121Z
UID:10001088-1752348600-1752350400@kettleparkseniorliving.com
SUMMARY:Evening Snack
DESCRIPTION:
URL:https://kettleparkseniorliving.com/event-calendar/evening-snack-60/
CATEGORIES:Memory Care
END:VEVENT
END:VCALENDAR