BEGIN:VCALENDAR
VERSION:2.0
PRODID:-//Kettle Park Senior Living - ECPv6.11.2.1//NONSGML v1.0//EN
CALSCALE:GREGORIAN
METHOD:PUBLISH
X-ORIGINAL-URL:https://kettleparkseniorliving.com
X-WR-CALDESC:Events for Kettle Park Senior Living
REFRESH-INTERVAL;VALUE=DURATION:PT1H
X-Robots-Tag:noindex
X-PUBLISHED-TTL:PT1H
BEGIN:VTIMEZONE
TZID:America/Chicago
BEGIN:DAYLIGHT
TZOFFSETFROM:-0600
TZOFFSETTO:-0500
TZNAME:CDT
DTSTART:20250309T080000
END:DAYLIGHT
BEGIN:STANDARD
TZOFFSETFROM:-0500
TZOFFSETTO:-0600
TZNAME:CST
DTSTART:20251102T070000
END:STANDARD
END:VTIMEZONE
BEGIN:VEVENT
DTSTART;TZID=America/Chicago:20250714T091500
DTEND;TZID=America/Chicago:20250714T093000
DTSTAMP:20260419T094614
CREATED:20250617T181815Z
LAST-MODIFIED:20250714T013121Z
UID:10001115-1752484500-1752485400@kettleparkseniorliving.com
SUMMARY:News/Current Events
DESCRIPTION:
URL:https://kettleparkseniorliving.com/event-calendar/news-current-events-61/
LOCATION:Lounge Area
CATEGORIES:Memory Care
END:VEVENT
BEGIN:VEVENT
DTSTART;TZID=America/Chicago:20250714T092900
DTEND;TZID=America/Chicago:20250714T100000
DTSTAMP:20260419T094614
CREATED:20250617T181815Z
LAST-MODIFIED:20250714T013121Z
UID:10001116-1752485340-1752487200@kettleparkseniorliving.com
SUMMARY:Get Fit
DESCRIPTION:
URL:https://kettleparkseniorliving.com/event-calendar/get-fit-122/
LOCATION:Lounge
CATEGORIES:Memory Care
END:VEVENT
BEGIN:VEVENT
DTSTART;TZID=America/Chicago:20250714T100000
DTEND;TZID=America/Chicago:20250714T103000
DTSTAMP:20260419T094614
CREATED:20250617T181815Z
LAST-MODIFIED:20250714T013121Z
UID:10001117-1752487200-1752489000@kettleparkseniorliving.com
SUMMARY:Coffee Clutch & Linked Senior
DESCRIPTION:
URL:https://kettleparkseniorliving.com/event-calendar/coffee-clutch-linked-senior-8/
LOCATION:Lounge
CATEGORIES:Memory Care
END:VEVENT
BEGIN:VEVENT
DTSTART;TZID=America/Chicago:20250714T110000
DTEND;TZID=America/Chicago:20250714T113000
DTSTAMP:20260419T094614
CREATED:20250617T181815Z
LAST-MODIFIED:20250714T013121Z
UID:10001118-1752490800-1752492600@kettleparkseniorliving.com
SUMMARY:Gardening Group
DESCRIPTION:
URL:https://kettleparkseniorliving.com/event-calendar/gardening-group-25/
CATEGORIES:Memory Care
END:VEVENT
BEGIN:VEVENT
DTSTART;TZID=America/Chicago:20250714T113000
DTEND;TZID=America/Chicago:20250714T120000
DTSTAMP:20260419T094614
CREATED:20250617T181815Z
LAST-MODIFIED:20250714T013121Z
UID:10001119-1752492600-1752494400@kettleparkseniorliving.com
SUMMARY:Walking Group
DESCRIPTION:
URL:https://kettleparkseniorliving.com/event-calendar/walking-group-99/
CATEGORIES:Memory Care
END:VEVENT
BEGIN:VEVENT
DTSTART;TZID=America/Chicago:20250714T130000
DTEND;TZID=America/Chicago:20250714T133000
DTSTAMP:20260419T094614
CREATED:20250628T004644Z
LAST-MODIFIED:20250714T013121Z
UID:10001304-1752498000-1752499800@kettleparkseniorliving.com
SUMMARY:Music Appreciation
DESCRIPTION:
URL:https://kettleparkseniorliving.com/event-calendar/music-appreciation-53/
LOCATION:Lounge Area
CATEGORIES:Memory Care
END:VEVENT
BEGIN:VEVENT
DTSTART;TZID=America/Chicago:20250714T134500
DTEND;TZID=America/Chicago:20250714T141500
DTSTAMP:20260419T094614
CREATED:20250617T181816Z
LAST-MODIFIED:20250714T013121Z
UID:10001120-1752500700-1752502500@kettleparkseniorliving.com
SUMMARY:UMC Devotions
DESCRIPTION:
URL:https://kettleparkseniorliving.com/event-calendar/umc-devotions-18/
LOCATION:Lounge Area
CATEGORIES:Memory Care
END:VEVENT
BEGIN:VEVENT
DTSTART;TZID=America/Chicago:20250714T143000
DTEND;TZID=America/Chicago:20250714T150000
DTSTAMP:20260419T094614
CREATED:20250617T181816Z
LAST-MODIFIED:20250714T013121Z
UID:10001124-1752503400-1752505200@kettleparkseniorliving.com
SUMMARY:Word Within a Word
DESCRIPTION:
URL:https://kettleparkseniorliving.com/event-calendar/word-within-a-word-7/
LOCATION:Lounge
CATEGORIES:Memory Care
END:VEVENT
BEGIN:VEVENT
DTSTART;TZID=America/Chicago:20250714T150000
DTEND;TZID=America/Chicago:20250714T153000
DTSTAMP:20260419T094615
CREATED:20250712T013122Z
LAST-MODIFIED:20250714T013121Z
UID:10001563-1752505200-1752507000@kettleparkseniorliving.com
SUMMARY:Smoothies & Chat
DESCRIPTION:
URL:https://kettleparkseniorliving.com/event-calendar/smoothies-chat-102/
LOCATION:Lounge Area
CATEGORIES:Memory Care
END:VEVENT
BEGIN:VEVENT
DTSTART;TZID=America/Chicago:20250714T150000
DTEND;TZID=America/Chicago:20250714T160000
DTSTAMP:20260419T094615
CREATED:20250617T181816Z
LAST-MODIFIED:20250708T011634Z
UID:10001122-1752505200-1752508800@kettleparkseniorliving.com
SUMMARY:Smoothies & Chat
DESCRIPTION:
URL:https://kettleparkseniorliving.com/event-calendar/smoothies-chat-79/
LOCATION:Lounge Area
CATEGORIES:Memory Care
END:VEVENT
BEGIN:VEVENT
DTSTART;TZID=America/Chicago:20250714T150000
DTEND;TZID=America/Chicago:20250714T160000
DTSTAMP:20260419T094615
CREATED:20250617T181816Z
LAST-MODIFIED:20250714T013121Z
UID:10001123-1752505200-1752508800@kettleparkseniorliving.com
SUMMARY:Happy Hour
DESCRIPTION:
URL:https://kettleparkseniorliving.com/event-calendar/happy-hour-13/
LOCATION:Lounge Area
CATEGORIES:Memory Care
END:VEVENT
BEGIN:VEVENT
DTSTART;TZID=America/Chicago:20250714T160000
DTEND;TZID=America/Chicago:20250714T163000
DTSTAMP:20260419T094615
CREATED:20250617T181816Z
LAST-MODIFIED:20250714T013120Z
UID:10001121-1752508800-1752510600@kettleparkseniorliving.com
SUMMARY:Walking Group
DESCRIPTION:
URL:https://kettleparkseniorliving.com/event-calendar/walking-group-100/
CATEGORIES:Memory Care
END:VEVENT
BEGIN:VEVENT
DTSTART;TZID=America/Chicago:20250714T180000
DTEND;TZID=America/Chicago:20250714T190000
DTSTAMP:20260419T094615
CREATED:20250617T181816Z
LAST-MODIFIED:20250714T013120Z
UID:10001125-1752516000-1752519600@kettleparkseniorliving.com
SUMMARY:Finish the Phrase
DESCRIPTION:
URL:https://kettleparkseniorliving.com/event-calendar/finish-the-phrase-9/
LOCATION:Lounge Area
CATEGORIES:Memory Care
END:VEVENT
BEGIN:VEVENT
DTSTART;TZID=America/Chicago:20250714T193000
DTEND;TZID=America/Chicago:20250714T200000
DTSTAMP:20260419T094615
CREATED:20250617T181816Z
LAST-MODIFIED:20250714T013120Z
UID:10001126-1752521400-1752523200@kettleparkseniorliving.com
SUMMARY:Evening Snack
DESCRIPTION:
URL:https://kettleparkseniorliving.com/event-calendar/evening-snack-62/
CATEGORIES:Memory Care
END:VEVENT
END:VCALENDAR