BEGIN:VCALENDAR
VERSION:2.0
PRODID:-//Kettle Park Senior Living - ECPv6.11.2.1//NONSGML v1.0//EN
CALSCALE:GREGORIAN
METHOD:PUBLISH
X-ORIGINAL-URL:https://kettleparkseniorliving.com
X-WR-CALDESC:Events for Kettle Park Senior Living
REFRESH-INTERVAL;VALUE=DURATION:PT1H
X-Robots-Tag:noindex
X-PUBLISHED-TTL:PT1H
BEGIN:VTIMEZONE
TZID:America/Chicago
BEGIN:DAYLIGHT
TZOFFSETFROM:-0600
TZOFFSETTO:-0500
TZNAME:CDT
DTSTART:20250309T080000
END:DAYLIGHT
BEGIN:STANDARD
TZOFFSETFROM:-0500
TZOFFSETTO:-0600
TZNAME:CST
DTSTART:20251102T070000
END:STANDARD
END:VTIMEZONE
BEGIN:VEVENT
DTSTART;TZID=America/Chicago:20250716T091500
DTEND;TZID=America/Chicago:20250716T093000
DTSTAMP:20260419T094612
CREATED:20250619T004631Z
LAST-MODIFIED:20250716T013121Z
UID:10001147-1752657300-1752658200@kettleparkseniorliving.com
SUMMARY:News/Current Events
DESCRIPTION:
URL:https://kettleparkseniorliving.com/event-calendar/news-current-events-63/
LOCATION:Lounge Area
CATEGORIES:Memory Care
END:VEVENT
BEGIN:VEVENT
DTSTART;TZID=America/Chicago:20250716T092900
DTEND;TZID=America/Chicago:20250716T100000
DTSTAMP:20260419T094612
CREATED:20250619T004631Z
LAST-MODIFIED:20250716T013121Z
UID:10001150-1752658140-1752660000@kettleparkseniorliving.com
SUMMARY:Get Fit
DESCRIPTION:
URL:https://kettleparkseniorliving.com/event-calendar/get-fit-124/
LOCATION:Lounge
CATEGORIES:Memory Care
END:VEVENT
BEGIN:VEVENT
DTSTART;TZID=America/Chicago:20250716T100000
DTEND;TZID=America/Chicago:20250716T110000
DTSTAMP:20260419T094612
CREATED:20250619T004631Z
LAST-MODIFIED:20250716T013121Z
UID:10001149-1752660000-1752663600@kettleparkseniorliving.com
SUMMARY:Coffee Clutch
DESCRIPTION:
URL:https://kettleparkseniorliving.com/event-calendar/coffee-clutch-34/
LOCATION:Lounge
CATEGORIES:Memory Care
END:VEVENT
BEGIN:VEVENT
DTSTART;TZID=America/Chicago:20250716T110000
DTEND;TZID=America/Chicago:20250716T113000
DTSTAMP:20260419T094612
CREATED:20250619T004631Z
LAST-MODIFIED:20250716T013121Z
UID:10001148-1752663600-1752665400@kettleparkseniorliving.com
SUMMARY:Gardening Group
DESCRIPTION:
URL:https://kettleparkseniorliving.com/event-calendar/gardening-group-26/
CATEGORIES:Memory Care
END:VEVENT
BEGIN:VEVENT
DTSTART;TZID=America/Chicago:20250716T113000
DTEND;TZID=America/Chicago:20250716T120000
DTSTAMP:20260419T094612
CREATED:20250619T004631Z
LAST-MODIFIED:20250716T013121Z
UID:10001151-1752665400-1752667200@kettleparkseniorliving.com
SUMMARY:Walking Group
DESCRIPTION:
URL:https://kettleparkseniorliving.com/event-calendar/walking-group-102/
CATEGORIES:Memory Care
END:VEVENT
BEGIN:VEVENT
DTSTART;TZID=America/Chicago:20250716T130000
DTEND;TZID=America/Chicago:20250716T133000
DTSTAMP:20260419T094612
CREATED:20250628T004644Z
LAST-MODIFIED:20250716T013121Z
UID:10001306-1752670800-1752672600@kettleparkseniorliving.com
SUMMARY:Music Appreciation
DESCRIPTION:
URL:https://kettleparkseniorliving.com/event-calendar/music-appreciation-55/
LOCATION:Lounge Area
CATEGORIES:Memory Care
END:VEVENT
BEGIN:VEVENT
DTSTART;TZID=America/Chicago:20250716T130000
DTEND;TZID=America/Chicago:20250716T150000
DTSTAMP:20260419T094612
CREATED:20250619T004631Z
LAST-MODIFIED:20250716T013121Z
UID:10001152-1752670800-1752678000@kettleparkseniorliving.com
SUMMARY:Scenic Ride
DESCRIPTION:
URL:https://kettleparkseniorliving.com/event-calendar/scenic-ride-5/
CATEGORIES:Memory Care
END:VEVENT
BEGIN:VEVENT
DTSTART;TZID=America/Chicago:20250716T133000
DTEND;TZID=America/Chicago:20250716T143000
DTSTAMP:20260419T094612
CREATED:20250715T013155Z
LAST-MODIFIED:20250716T013121Z
UID:10001608-1752672600-1752676200@kettleparkseniorliving.com
SUMMARY:Parchute Games
DESCRIPTION:
URL:https://kettleparkseniorliving.com/event-calendar/parchute-games/
LOCATION:Dining Room
CATEGORIES:Memory Care
END:VEVENT
BEGIN:VEVENT
DTSTART;TZID=America/Chicago:20250716T150000
DTEND;TZID=America/Chicago:20250716T153000
DTSTAMP:20260419T094612
CREATED:20250712T013122Z
LAST-MODIFIED:20250716T013122Z
UID:10001565-1752678000-1752679800@kettleparkseniorliving.com
SUMMARY:Smoothies & Chat
DESCRIPTION:
URL:https://kettleparkseniorliving.com/event-calendar/smoothies-chat-104/
LOCATION:Lounge Area
CATEGORIES:Memory Care
END:VEVENT
BEGIN:VEVENT
DTSTART;TZID=America/Chicago:20250716T150000
DTEND;TZID=America/Chicago:20250716T160000
DTSTAMP:20260419T094612
CREATED:20250620T004649Z
LAST-MODIFIED:20250708T011635Z
UID:10001156-1752678000-1752681600@kettleparkseniorliving.com
SUMMARY:Smoothies & Chat
DESCRIPTION:
URL:https://kettleparkseniorliving.com/event-calendar/smoothies-chat-81/
LOCATION:Lounge Area
CATEGORIES:Memory Care
END:VEVENT
BEGIN:VEVENT
DTSTART;TZID=America/Chicago:20250716T160000
DTEND;TZID=America/Chicago:20250716T163000
DTSTAMP:20260419T094612
CREATED:20250620T004649Z
LAST-MODIFIED:20250716T013122Z
UID:10001157-1752681600-1752683400@kettleparkseniorliving.com
SUMMARY:Walking Group
DESCRIPTION:
URL:https://kettleparkseniorliving.com/event-calendar/walking-group-103/
CATEGORIES:Memory Care
END:VEVENT
BEGIN:VEVENT
DTSTART;TZID=America/Chicago:20250716T180000
DTEND;TZID=America/Chicago:20250716T190000
DTSTAMP:20260419T094612
CREATED:20250620T004649Z
LAST-MODIFIED:20250716T013120Z
UID:10001158-1752688800-1752692400@kettleparkseniorliving.com
SUMMARY:Reminisce
DESCRIPTION:
URL:https://kettleparkseniorliving.com/event-calendar/reminisce-19/
LOCATION:Lounge Area
CATEGORIES:Memory Care
END:VEVENT
BEGIN:VEVENT
DTSTART;TZID=America/Chicago:20250716T193000
DTEND;TZID=America/Chicago:20250716T200000
DTSTAMP:20260419T094612
CREATED:20250620T004649Z
LAST-MODIFIED:20250716T013120Z
UID:10001159-1752694200-1752696000@kettleparkseniorliving.com
SUMMARY:Evening Snack
DESCRIPTION:
URL:https://kettleparkseniorliving.com/event-calendar/evening-snack-64/
CATEGORIES:Memory Care
END:VEVENT
END:VCALENDAR