BEGIN:VCALENDAR
VERSION:2.0
PRODID:-//Kettle Park Senior Living - ECPv6.11.2.1//NONSGML v1.0//EN
CALSCALE:GREGORIAN
METHOD:PUBLISH
X-WR-CALNAME:Kettle Park Senior Living
X-ORIGINAL-URL:https://kettleparkseniorliving.com
X-WR-CALDESC:Events for Kettle Park Senior Living
REFRESH-INTERVAL;VALUE=DURATION:PT1H
X-Robots-Tag:noindex
X-PUBLISHED-TTL:PT1H
BEGIN:VTIMEZONE
TZID:America/Chicago
BEGIN:DAYLIGHT
TZOFFSETFROM:-0600
TZOFFSETTO:-0500
TZNAME:CDT
DTSTART:20250309T080000
END:DAYLIGHT
BEGIN:STANDARD
TZOFFSETFROM:-0500
TZOFFSETTO:-0600
TZNAME:CST
DTSTART:20251102T070000
END:STANDARD
END:VTIMEZONE
BEGIN:VEVENT
DTSTART;TZID=America/Chicago:20250721T091500
DTEND;TZID=America/Chicago:20250721T093000
DTSTAMP:20260419T094257
CREATED:20250624T004638Z
LAST-MODIFIED:20250721T014643Z
UID:10001228-1753089300-1753090200@kettleparkseniorliving.com
SUMMARY:News/Current Events
DESCRIPTION:
URL:https://kettleparkseniorliving.com/event-calendar/news-current-events-68/
LOCATION:Lounge Area
CATEGORIES:Memory Care
END:VEVENT
BEGIN:VEVENT
DTSTART;TZID=America/Chicago:20250721T092900
DTEND;TZID=America/Chicago:20250721T100000
DTSTAMP:20260419T094257
CREATED:20250624T004638Z
LAST-MODIFIED:20250721T014643Z
UID:10001229-1753090140-1753092000@kettleparkseniorliving.com
SUMMARY:Get Fit
DESCRIPTION:
URL:https://kettleparkseniorliving.com/event-calendar/get-fit-129/
LOCATION:Lounge
CATEGORIES:Memory Care
END:VEVENT
BEGIN:VEVENT
DTSTART;TZID=America/Chicago:20250721T100000
DTEND;TZID=America/Chicago:20250721T103000
DTSTAMP:20260419T094257
CREATED:20250624T004638Z
LAST-MODIFIED:20250721T014643Z
UID:10001230-1753092000-1753093800@kettleparkseniorliving.com
SUMMARY:Coffee Clutch & Linked Senior
DESCRIPTION:
URL:https://kettleparkseniorliving.com/event-calendar/coffee-clutch-linked-senior-9/
LOCATION:Lounge
CATEGORIES:Memory Care
END:VEVENT
BEGIN:VEVENT
DTSTART;TZID=America/Chicago:20250721T110000
DTEND;TZID=America/Chicago:20250721T113000
DTSTAMP:20260419T094257
CREATED:20250625T004633Z
LAST-MODIFIED:20250721T014643Z
UID:10001240-1753095600-1753097400@kettleparkseniorliving.com
SUMMARY:Gardening Group
DESCRIPTION:
URL:https://kettleparkseniorliving.com/event-calendar/gardening-group-28/
CATEGORIES:Memory Care
END:VEVENT
BEGIN:VEVENT
DTSTART;TZID=America/Chicago:20250721T113000
DTEND;TZID=America/Chicago:20250721T120000
DTSTAMP:20260419T094257
CREATED:20250625T004633Z
LAST-MODIFIED:20250721T014643Z
UID:10001241-1753097400-1753099200@kettleparkseniorliving.com
SUMMARY:Walking Group
DESCRIPTION:
URL:https://kettleparkseniorliving.com/event-calendar/walking-group-114/
CATEGORIES:Memory Care
END:VEVENT
BEGIN:VEVENT
DTSTART;TZID=America/Chicago:20250721T130000
DTEND;TZID=America/Chicago:20250721T133000
DTSTAMP:20260419T094257
CREATED:20250628T004646Z
LAST-MODIFIED:20250721T014643Z
UID:10001311-1753102800-1753104600@kettleparkseniorliving.com
SUMMARY:Music Appreciation
DESCRIPTION:
URL:https://kettleparkseniorliving.com/event-calendar/music-appreciation-60/
LOCATION:Lounge Area
CATEGORIES:Memory Care
END:VEVENT
BEGIN:VEVENT
DTSTART;TZID=America/Chicago:20250721T134500
DTEND;TZID=America/Chicago:20250721T141500
DTSTAMP:20260419T094257
CREATED:20250625T004634Z
LAST-MODIFIED:20250721T014643Z
UID:10001242-1753105500-1753107300@kettleparkseniorliving.com
SUMMARY:UMC Devotions
DESCRIPTION:
URL:https://kettleparkseniorliving.com/event-calendar/umc-devotions-20/
LOCATION:Lounge Area
CATEGORIES:Memory Care
END:VEVENT
BEGIN:VEVENT
DTSTART;TZID=America/Chicago:20250721T143000
DTEND;TZID=America/Chicago:20250721T150000
DTSTAMP:20260419T094257
CREATED:20250625T004634Z
LAST-MODIFIED:20250721T014643Z
UID:10001243-1753108200-1753110000@kettleparkseniorliving.com
SUMMARY:Scattagories
DESCRIPTION:
URL:https://kettleparkseniorliving.com/event-calendar/word-within-a-word-8/
LOCATION:Lounge
CATEGORIES:Memory Care
END:VEVENT
BEGIN:VEVENT
DTSTART;TZID=America/Chicago:20250721T150000
DTEND;TZID=America/Chicago:20250721T153000
DTSTAMP:20260419T094257
CREATED:20250712T013124Z
LAST-MODIFIED:20250715T013158Z
UID:10001570-1753110000-1753111800@kettleparkseniorliving.com
SUMMARY:Smoothies & Chat
DESCRIPTION:
URL:https://kettleparkseniorliving.com/event-calendar/smoothies-chat-109/
LOCATION:Lounge Area
CATEGORIES:Memory Care
END:VEVENT
BEGIN:VEVENT
DTSTART;TZID=America/Chicago:20250721T150000
DTEND;TZID=America/Chicago:20250721T160000
DTSTAMP:20260419T094257
CREATED:20250625T004634Z
LAST-MODIFIED:20250721T014643Z
UID:10001244-1753110000-1753113600@kettleparkseniorliving.com
SUMMARY:Happy Hour
DESCRIPTION:
URL:https://kettleparkseniorliving.com/event-calendar/happy-hour-15/
LOCATION:Lounge Area
CATEGORIES:Memory Care
END:VEVENT
BEGIN:VEVENT
DTSTART;TZID=America/Chicago:20250721T150000
DTEND;TZID=America/Chicago:20250721T160000
DTSTAMP:20260419T094257
CREATED:20250625T004634Z
LAST-MODIFIED:20250708T011637Z
UID:10001245-1753110000-1753113600@kettleparkseniorliving.com
SUMMARY:Smoothies & Chat
DESCRIPTION:
URL:https://kettleparkseniorliving.com/event-calendar/smoothies-chat-86/
LOCATION:Lounge Area
CATEGORIES:Memory Care
END:VEVENT
BEGIN:VEVENT
DTSTART;TZID=America/Chicago:20250721T160000
DTEND;TZID=America/Chicago:20250721T163000
DTSTAMP:20260419T094257
CREATED:20250625T004634Z
LAST-MODIFIED:20250721T014643Z
UID:10001246-1753113600-1753115400@kettleparkseniorliving.com
SUMMARY:Walking Group
DESCRIPTION:
URL:https://kettleparkseniorliving.com/event-calendar/walking-group-115/
CATEGORIES:Memory Care
END:VEVENT
BEGIN:VEVENT
DTSTART;TZID=America/Chicago:20250721T180000
DTEND;TZID=America/Chicago:20250721T190000
DTSTAMP:20260419T094257
CREATED:20250625T004634Z
LAST-MODIFIED:20250721T014642Z
UID:10001247-1753120800-1753124400@kettleparkseniorliving.com
SUMMARY:Finish the Phrase
DESCRIPTION:
URL:https://kettleparkseniorliving.com/event-calendar/finish-the-phrase-10/
LOCATION:Lounge Area
CATEGORIES:Memory Care
END:VEVENT
BEGIN:VEVENT
DTSTART;TZID=America/Chicago:20250721T193000
DTEND;TZID=America/Chicago:20250721T200000
DTSTAMP:20260419T094257
CREATED:20250625T004634Z
LAST-MODIFIED:20250721T014642Z
UID:10001248-1753126200-1753128000@kettleparkseniorliving.com
SUMMARY:Evening Snack
DESCRIPTION:
URL:https://kettleparkseniorliving.com/event-calendar/evening-snack-69/
CATEGORIES:Memory Care
END:VEVENT
END:VCALENDAR