BEGIN:VCALENDAR
VERSION:2.0
PRODID:-//Kettle Park Senior Living - ECPv6.11.2.1//NONSGML v1.0//EN
CALSCALE:GREGORIAN
METHOD:PUBLISH
X-ORIGINAL-URL:https://kettleparkseniorliving.com
X-WR-CALDESC:Events for Kettle Park Senior Living
REFRESH-INTERVAL;VALUE=DURATION:PT1H
X-Robots-Tag:noindex
X-PUBLISHED-TTL:PT1H
BEGIN:VTIMEZONE
TZID:America/Chicago
BEGIN:DAYLIGHT
TZOFFSETFROM:-0600
TZOFFSETTO:-0500
TZNAME:CDT
DTSTART:20250309T080000
END:DAYLIGHT
BEGIN:STANDARD
TZOFFSETFROM:-0500
TZOFFSETTO:-0600
TZNAME:CST
DTSTART:20251102T070000
END:STANDARD
END:VTIMEZONE
BEGIN:VEVENT
DTSTART;TZID=America/Chicago:20250724T091500
DTEND;TZID=America/Chicago:20250724T093000
DTSTAMP:20260419T094614
CREATED:20250627T004717Z
LAST-MODIFIED:20250724T020125Z
UID:10001280-1753348500-1753349400@kettleparkseniorliving.com
SUMMARY:News/Current Events
DESCRIPTION:
URL:https://kettleparkseniorliving.com/event-calendar/news-current-events-71/
LOCATION:Lounge Area
CATEGORIES:Memory Care
END:VEVENT
BEGIN:VEVENT
DTSTART;TZID=America/Chicago:20250724T092900
DTEND;TZID=America/Chicago:20250724T100000
DTSTAMP:20260419T094614
CREATED:20250627T004717Z
LAST-MODIFIED:20250724T020125Z
UID:10001283-1753349340-1753351200@kettleparkseniorliving.com
SUMMARY:Get Fit
DESCRIPTION:
URL:https://kettleparkseniorliving.com/event-calendar/get-fit-132/
LOCATION:Lounge
CATEGORIES:Memory Care
END:VEVENT
BEGIN:VEVENT
DTSTART;TZID=America/Chicago:20250724T100000
DTEND;TZID=America/Chicago:20250724T110000
DTSTAMP:20260419T094614
CREATED:20250627T004717Z
LAST-MODIFIED:20250724T020125Z
UID:10001282-1753351200-1753354800@kettleparkseniorliving.com
SUMMARY:Linked Senior
DESCRIPTION:
URL:https://kettleparkseniorliving.com/event-calendar/linked-senior-11/
LOCATION:Lounge Area
CATEGORIES:Memory Care
END:VEVENT
BEGIN:VEVENT
DTSTART;TZID=America/Chicago:20250724T110000
DTEND;TZID=America/Chicago:20250724T120000
DTSTAMP:20260419T094614
CREATED:20250627T004717Z
LAST-MODIFIED:20250724T020125Z
UID:10001281-1753354800-1753358400@kettleparkseniorliving.com
SUMMARY:Dog Visits w/ Lucy and Tink
DESCRIPTION:
URL:https://kettleparkseniorliving.com/event-calendar/dog-visits-w-lucy-and-tink-21/
LOCATION:Lounge Area
CATEGORIES:Memory Care
END:VEVENT
BEGIN:VEVENT
DTSTART;TZID=America/Chicago:20250724T113000
DTEND;TZID=America/Chicago:20250724T120000
DTSTAMP:20260419T094614
CREATED:20250630T010150Z
LAST-MODIFIED:20250724T020125Z
UID:10001323-1753356600-1753358400@kettleparkseniorliving.com
SUMMARY:Walking Group
DESCRIPTION:
URL:https://kettleparkseniorliving.com/event-calendar/walking-group-119/
CATEGORIES:Memory Care
END:VEVENT
BEGIN:VEVENT
DTSTART;TZID=America/Chicago:20250724T130000
DTEND;TZID=America/Chicago:20250724T133000
DTSTAMP:20260419T094614
CREATED:20250630T010150Z
LAST-MODIFIED:20250724T020125Z
UID:10001324-1753362000-1753363800@kettleparkseniorliving.com
SUMMARY:Music Appreciation/Adult Coloring
DESCRIPTION:
URL:https://kettleparkseniorliving.com/event-calendar/music-appreciation-63/
LOCATION:Lounge Area
CATEGORIES:Memory Care
END:VEVENT
BEGIN:VEVENT
DTSTART;TZID=America/Chicago:20250724T130000
DTEND;TZID=America/Chicago:20250724T140000
DTSTAMP:20260419T094614
CREATED:20250719T014633Z
LAST-MODIFIED:20250724T020125Z
UID:10001679-1753362000-1753365600@kettleparkseniorliving.com
SUMMARY:Grip Game Competion
DESCRIPTION:
URL:https://kettleparkseniorliving.com/event-calendar/grip-game-competion-5/
LOCATION:AL Dining Room
CATEGORIES:Memory Care
END:VEVENT
BEGIN:VEVENT
DTSTART;TZID=America/Chicago:20250724T133000
DTEND;TZID=America/Chicago:20250724T143000
DTSTAMP:20260419T094614
CREATED:20250630T010150Z
LAST-MODIFIED:20250724T020125Z
UID:10001325-1753363800-1753367400@kettleparkseniorliving.com
SUMMARY:Balloon Games
DESCRIPTION:
URL:https://kettleparkseniorliving.com/event-calendar/balloon-games-11/
LOCATION:Lounge Area
CATEGORIES:Memory Care
END:VEVENT
BEGIN:VEVENT
DTSTART;TZID=America/Chicago:20250724T143000
DTEND;TZID=America/Chicago:20250724T150000
DTSTAMP:20260419T094614
CREATED:20250630T010150Z
LAST-MODIFIED:20250724T020125Z
UID:10001326-1753367400-1753369200@kettleparkseniorliving.com
SUMMARY:Reminisce
DESCRIPTION:
URL:https://kettleparkseniorliving.com/event-calendar/reminisce-22/
LOCATION:Lounge Area
CATEGORIES:Memory Care
END:VEVENT
BEGIN:VEVENT
DTSTART;TZID=America/Chicago:20250724T150000
DTEND;TZID=America/Chicago:20250724T153000
DTSTAMP:20260419T094614
CREATED:20250712T013125Z
LAST-MODIFIED:20250720T014721Z
UID:10001573-1753369200-1753371000@kettleparkseniorliving.com
SUMMARY:Smoothies & Chat
DESCRIPTION:
URL:https://kettleparkseniorliving.com/event-calendar/smoothies-chat-112/
LOCATION:Lounge Area
CATEGORIES:Memory Care
END:VEVENT
BEGIN:VEVENT
DTSTART;TZID=America/Chicago:20250724T150000
DTEND;TZID=America/Chicago:20250724T160000
DTSTAMP:20260419T094614
CREATED:20250630T010150Z
LAST-MODIFIED:20250724T020124Z
UID:10001327-1753369200-1753372800@kettleparkseniorliving.com
SUMMARY:Snack & Chat
DESCRIPTION:
URL:https://kettleparkseniorliving.com/event-calendar/smoothies-chat-89/
LOCATION:Lounge Area
CATEGORIES:Memory Care
END:VEVENT
BEGIN:VEVENT
DTSTART;TZID=America/Chicago:20250724T160000
DTEND;TZID=America/Chicago:20250724T170000
DTSTAMP:20260419T094614
CREATED:20250630T010150Z
LAST-MODIFIED:20250724T020125Z
UID:10001328-1753372800-1753376400@kettleparkseniorliving.com
SUMMARY:Move to the Music
DESCRIPTION:
URL:https://kettleparkseniorliving.com/event-calendar/move-to-the-music-21/
LOCATION:Lounge Area
CATEGORIES:Memory Care
END:VEVENT
BEGIN:VEVENT
DTSTART;TZID=America/Chicago:20250724T180000
DTEND;TZID=America/Chicago:20250724T190000
DTSTAMP:20260419T094614
CREATED:20250630T010150Z
LAST-MODIFIED:20250724T020124Z
UID:10001329-1753380000-1753383600@kettleparkseniorliving.com
SUMMARY:Active Game
DESCRIPTION:
URL:https://kettleparkseniorliving.com/event-calendar/active-game-44/
LOCATION:Lounge Area
CATEGORIES:Memory Care
END:VEVENT
BEGIN:VEVENT
DTSTART;TZID=America/Chicago:20250724T193000
DTEND;TZID=America/Chicago:20250724T200000
DTSTAMP:20260419T094614
CREATED:20250630T010150Z
LAST-MODIFIED:20250724T020124Z
UID:10001330-1753385400-1753387200@kettleparkseniorliving.com
SUMMARY:Evening Snack
DESCRIPTION:
URL:https://kettleparkseniorliving.com/event-calendar/evening-snack-72/
CATEGORIES:Memory Care
END:VEVENT
END:VCALENDAR