BEGIN:VCALENDAR
VERSION:2.0
PRODID:-//Kettle Park Senior Living - ECPv6.11.2.1//NONSGML v1.0//EN
CALSCALE:GREGORIAN
METHOD:PUBLISH
X-WR-CALNAME:Kettle Park Senior Living
X-ORIGINAL-URL:https://kettleparkseniorliving.com
X-WR-CALDESC:Events for Kettle Park Senior Living
REFRESH-INTERVAL;VALUE=DURATION:PT1H
X-Robots-Tag:noindex
X-PUBLISHED-TTL:PT1H
BEGIN:VTIMEZONE
TZID:America/Chicago
BEGIN:DAYLIGHT
TZOFFSETFROM:-0600
TZOFFSETTO:-0500
TZNAME:CDT
DTSTART:20250309T080000
END:DAYLIGHT
BEGIN:STANDARD
TZOFFSETFROM:-0500
TZOFFSETTO:-0600
TZNAME:CST
DTSTART:20251102T070000
END:STANDARD
END:VTIMEZONE
BEGIN:VEVENT
DTSTART;TZID=America/Chicago:20250725T091500
DTEND;TZID=America/Chicago:20250725T093000
DTSTAMP:20260419T094357
CREATED:20250630T010150Z
LAST-MODIFIED:20250725T020137Z
UID:10001331-1753434900-1753435800@kettleparkseniorliving.com
SUMMARY:News/Current Events
DESCRIPTION:
URL:https://kettleparkseniorliving.com/event-calendar/news-current-events-72/
LOCATION:Lounge Area
CATEGORIES:Memory Care
END:VEVENT
BEGIN:VEVENT
DTSTART;TZID=America/Chicago:20250725T092900
DTEND;TZID=America/Chicago:20250725T100000
DTSTAMP:20260419T094357
CREATED:20250630T010150Z
LAST-MODIFIED:20250725T020137Z
UID:10001332-1753435740-1753437600@kettleparkseniorliving.com
SUMMARY:Get Fit
DESCRIPTION:
URL:https://kettleparkseniorliving.com/event-calendar/get-fit-133/
LOCATION:Lounge
CATEGORIES:Memory Care
END:VEVENT
BEGIN:VEVENT
DTSTART;TZID=America/Chicago:20250725T100000
DTEND;TZID=America/Chicago:20250725T103000
DTSTAMP:20260419T094357
CREATED:20250630T010151Z
LAST-MODIFIED:20250725T020137Z
UID:10001333-1753437600-1753439400@kettleparkseniorliving.com
SUMMARY:Devotions with Chaplin Lee
DESCRIPTION:
URL:https://kettleparkseniorliving.com/event-calendar/devotions-with-chaplin-lee-20/
LOCATION:Lounge
CATEGORIES:Memory Care
END:VEVENT
BEGIN:VEVENT
DTSTART;TZID=America/Chicago:20250725T103000
DTEND;TZID=America/Chicago:20250725T110000
DTSTAMP:20260419T094357
CREATED:20250701T010128Z
LAST-MODIFIED:20250725T020137Z
UID:10001347-1753439400-1753441200@kettleparkseniorliving.com
SUMMARY:Coffee Clutch & Link Senior
DESCRIPTION:
URL:https://kettleparkseniorliving.com/event-calendar/coffee-clutch-link-senior-11/
LOCATION:Lounge
CATEGORIES:Memory Care
END:VEVENT
BEGIN:VEVENT
DTSTART;TZID=America/Chicago:20250725T110000
DTEND;TZID=America/Chicago:20250725T113000
DTSTAMP:20260419T094357
CREATED:20250630T010151Z
LAST-MODIFIED:20250725T020137Z
UID:10001335-1753441200-1753443000@kettleparkseniorliving.com
SUMMARY:Gardening Group
DESCRIPTION:
URL:https://kettleparkseniorliving.com/event-calendar/gardening-group-30/
CATEGORIES:Memory Care
END:VEVENT
BEGIN:VEVENT
DTSTART;TZID=America/Chicago:20250725T113000
DTEND;TZID=America/Chicago:20250725T120000
DTSTAMP:20260419T094357
CREATED:20250630T010151Z
LAST-MODIFIED:20250725T020137Z
UID:10001334-1753443000-1753444800@kettleparkseniorliving.com
SUMMARY:Walking Group
DESCRIPTION:
URL:https://kettleparkseniorliving.com/event-calendar/walking-group-120/
CATEGORIES:Memory Care
END:VEVENT
BEGIN:VEVENT
DTSTART;TZID=America/Chicago:20250725T130000
DTEND;TZID=America/Chicago:20250725T133000
DTSTAMP:20260419T094357
CREATED:20250701T010129Z
LAST-MODIFIED:20250725T020137Z
UID:10001349-1753448400-1753450200@kettleparkseniorliving.com
SUMMARY:Music Appreciation/Adult Coloring
DESCRIPTION:
URL:https://kettleparkseniorliving.com/event-calendar/music-appreciation-64/
LOCATION:Lounge Area
CATEGORIES:Memory Care
END:VEVENT
BEGIN:VEVENT
DTSTART;TZID=America/Chicago:20250725T133000
DTEND;TZID=America/Chicago:20250725T150000
DTSTAMP:20260419T094357
CREATED:20250701T010128Z
LAST-MODIFIED:20250725T020137Z
UID:10001348-1753450200-1753455600@kettleparkseniorliving.com
SUMMARY:BINGO
DESCRIPTION:
URL:https://kettleparkseniorliving.com/event-calendar/bingo-36/
LOCATION:Dining Room
CATEGORIES:Memory Care
END:VEVENT
BEGIN:VEVENT
DTSTART;TZID=America/Chicago:20250725T150000
DTEND;TZID=America/Chicago:20250725T153000
DTSTAMP:20260419T094357
CREATED:20250712T013126Z
LAST-MODIFIED:20250720T014721Z
UID:10001574-1753455600-1753457400@kettleparkseniorliving.com
SUMMARY:Smoothies & Chat
DESCRIPTION:
URL:https://kettleparkseniorliving.com/event-calendar/smoothies-chat-113/
LOCATION:Lounge Area
CATEGORIES:Memory Care
END:VEVENT
BEGIN:VEVENT
DTSTART;TZID=America/Chicago:20250725T150000
DTEND;TZID=America/Chicago:20250725T160000
DTSTAMP:20260419T094357
CREATED:20250701T010129Z
LAST-MODIFIED:20250725T020137Z
UID:10001350-1753455600-1753459200@kettleparkseniorliving.com
SUMMARY:Snack & Chat
DESCRIPTION:
URL:https://kettleparkseniorliving.com/event-calendar/smoothies-chat-90/
LOCATION:Lounge Area
CATEGORIES:Memory Care
END:VEVENT
BEGIN:VEVENT
DTSTART;TZID=America/Chicago:20250725T160000
DTEND;TZID=America/Chicago:20250725T163000
DTSTAMP:20260419T094357
CREATED:20250701T010129Z
LAST-MODIFIED:20250725T020137Z
UID:10001351-1753459200-1753461000@kettleparkseniorliving.com
SUMMARY:Walking Group
DESCRIPTION:
URL:https://kettleparkseniorliving.com/event-calendar/walking-group-121/
CATEGORIES:Memory Care
END:VEVENT
BEGIN:VEVENT
DTSTART;TZID=America/Chicago:20250725T180000
DTEND;TZID=America/Chicago:20250725T193000
DTSTAMP:20260419T094357
CREATED:20250701T010129Z
LAST-MODIFIED:20250725T020137Z
UID:10001352-1753466400-1753471800@kettleparkseniorliving.com
SUMMARY:Friday Night Movie
DESCRIPTION:
URL:https://kettleparkseniorliving.com/event-calendar/friday-night-movie-22/
LOCATION:Lounge Area
CATEGORIES:Memory Care
END:VEVENT
BEGIN:VEVENT
DTSTART;TZID=America/Chicago:20250725T193000
DTEND;TZID=America/Chicago:20250725T200000
DTSTAMP:20260419T094357
CREATED:20250701T010129Z
LAST-MODIFIED:20250725T020137Z
UID:10001353-1753471800-1753473600@kettleparkseniorliving.com
SUMMARY:Evening Snack
DESCRIPTION:
URL:https://kettleparkseniorliving.com/event-calendar/evening-snack-73/
CATEGORIES:Memory Care
END:VEVENT
END:VCALENDAR