BEGIN:VCALENDAR
VERSION:2.0
PRODID:-//Kettle Park Senior Living - ECPv6.11.2.1//NONSGML v1.0//EN
CALSCALE:GREGORIAN
METHOD:PUBLISH
X-WR-CALNAME:Kettle Park Senior Living
X-ORIGINAL-URL:https://kettleparkseniorliving.com
X-WR-CALDESC:Events for Kettle Park Senior Living
REFRESH-INTERVAL;VALUE=DURATION:PT1H
X-Robots-Tag:noindex
X-PUBLISHED-TTL:PT1H
BEGIN:VTIMEZONE
TZID:America/Chicago
BEGIN:DAYLIGHT
TZOFFSETFROM:-0600
TZOFFSETTO:-0500
TZNAME:CDT
DTSTART:20250309T080000
END:DAYLIGHT
BEGIN:STANDARD
TZOFFSETFROM:-0500
TZOFFSETTO:-0600
TZNAME:CST
DTSTART:20251102T070000
END:STANDARD
END:VTIMEZONE
BEGIN:VEVENT
DTSTART;TZID=America/Chicago:20250820T091500
DTEND;TZID=America/Chicago:20250820T093000
DTSTAMP:20260419T094247
CREATED:20250727T021740Z
LAST-MODIFIED:20250820T031622Z
UID:10001827-1755681300-1755682200@kettleparkseniorliving.com
SUMMARY:News/Current Events
DESCRIPTION:
URL:https://kettleparkseniorliving.com/event-calendar/news-current-events-98/
LOCATION:Lounge Area
CATEGORIES:Memory Care
END:VEVENT
BEGIN:VEVENT
DTSTART;TZID=America/Chicago:20250820T093000
DTEND;TZID=America/Chicago:20250820T100000
DTSTAMP:20260419T094247
CREATED:20250726T021644Z
LAST-MODIFIED:20250820T031622Z
UID:10001821-1755682200-1755684000@kettleparkseniorliving.com
SUMMARY:Get Fit
DESCRIPTION:
URL:https://kettleparkseniorliving.com/event-calendar/get-fit-159/
LOCATION:Lounge
CATEGORIES:Memory Care
END:VEVENT
BEGIN:VEVENT
DTSTART;TZID=America/Chicago:20250820T100000
DTEND;TZID=America/Chicago:20250820T110000
DTSTAMP:20260419T094247
CREATED:20250726T021644Z
LAST-MODIFIED:20250820T031622Z
UID:10001820-1755684000-1755687600@kettleparkseniorliving.com
SUMMARY:Coffee Clutch
DESCRIPTION:
URL:https://kettleparkseniorliving.com/event-calendar/coffee-clutch-54/
LOCATION:Lounge
CATEGORIES:Memory Care
END:VEVENT
BEGIN:VEVENT
DTSTART;TZID=America/Chicago:20250820T110000
DTEND;TZID=America/Chicago:20250820T113000
DTSTAMP:20260419T094247
CREATED:20250727T021740Z
LAST-MODIFIED:20250820T031622Z
UID:10001828-1755687600-1755689400@kettleparkseniorliving.com
SUMMARY:Gardening Group
DESCRIPTION:
URL:https://kettleparkseniorliving.com/event-calendar/gardening-group-41/
CATEGORIES:Memory Care
END:VEVENT
BEGIN:VEVENT
DTSTART;TZID=America/Chicago:20250820T113000
DTEND;TZID=America/Chicago:20250820T120000
DTSTAMP:20260419T094247
CREATED:20250727T021740Z
LAST-MODIFIED:20250820T031622Z
UID:10001829-1755689400-1755691200@kettleparkseniorliving.com
SUMMARY:Walking Group
DESCRIPTION:
URL:https://kettleparkseniorliving.com/event-calendar/walking-group-165/
CATEGORIES:Memory Care
END:VEVENT
BEGIN:VEVENT
DTSTART;TZID=America/Chicago:20250820T130000
DTEND;TZID=America/Chicago:20250820T133000
DTSTAMP:20260419T094247
CREATED:20250727T021740Z
LAST-MODIFIED:20250805T024628Z
UID:10001831-1755694800-1755696600@kettleparkseniorliving.com
SUMMARY:Music Appreciation/Adult Coloring
DESCRIPTION:
URL:https://kettleparkseniorliving.com/event-calendar/music-appreciation-adult-coloring-5/
LOCATION:Lounge Area
CATEGORIES:Memory Care
END:VEVENT
BEGIN:VEVENT
DTSTART;TZID=America/Chicago:20250820T130000
DTEND;TZID=America/Chicago:20250820T150000
DTSTAMP:20260419T094247
CREATED:20250727T021740Z
LAST-MODIFIED:20250815T031625Z
UID:10001830-1755694800-1755702000@kettleparkseniorliving.com
SUMMARY:Scenic Ride
DESCRIPTION:
URL:https://kettleparkseniorliving.com/event-calendar/scenic-ride-7/
CATEGORIES:Memory Care
END:VEVENT
BEGIN:VEVENT
DTSTART;TZID=America/Chicago:20250820T133000
DTEND;TZID=America/Chicago:20250820T143000
DTSTAMP:20260419T094247
CREATED:20250804T023142Z
LAST-MODIFIED:20250820T031622Z
UID:10001968-1755696600-1755700200@kettleparkseniorliving.com
SUMMARY:Table Games
DESCRIPTION:
URL:https://kettleparkseniorliving.com/event-calendar/table-games-3/
LOCATION:Lounge Area
CATEGORIES:Memory Care
END:VEVENT
BEGIN:VEVENT
DTSTART;TZID=America/Chicago:20250820T150000
DTEND;TZID=America/Chicago:20250820T160000
DTSTAMP:20260419T094247
CREATED:20250727T021740Z
LAST-MODIFIED:20250820T031622Z
UID:10001832-1755702000-1755705600@kettleparkseniorliving.com
SUMMARY:Snack & Chat
DESCRIPTION:
URL:https://kettleparkseniorliving.com/event-calendar/snack-chat-17/
LOCATION:Lounge Area
CATEGORIES:Memory Care
END:VEVENT
BEGIN:VEVENT
DTSTART;TZID=America/Chicago:20250820T160000
DTEND;TZID=America/Chicago:20250820T163000
DTSTAMP:20260419T094247
CREATED:20250727T021740Z
LAST-MODIFIED:20250820T031622Z
UID:10001833-1755705600-1755707400@kettleparkseniorliving.com
SUMMARY:Walking Group
DESCRIPTION:
URL:https://kettleparkseniorliving.com/event-calendar/walking-group-166/
CATEGORIES:Memory Care
END:VEVENT
BEGIN:VEVENT
DTSTART;TZID=America/Chicago:20250820T180000
DTEND;TZID=America/Chicago:20250820T190000
DTSTAMP:20260419T094247
CREATED:20250727T021740Z
LAST-MODIFIED:20250820T031622Z
UID:10001834-1755712800-1755716400@kettleparkseniorliving.com
SUMMARY:Reminisce
DESCRIPTION:
URL:https://kettleparkseniorliving.com/event-calendar/reminisce-29/
LOCATION:Lounge Area
CATEGORIES:Memory Care
END:VEVENT
BEGIN:VEVENT
DTSTART;TZID=America/Chicago:20250820T193000
DTEND;TZID=America/Chicago:20250820T200000
DTSTAMP:20260419T094247
CREATED:20250727T021740Z
LAST-MODIFIED:20250820T031622Z
UID:10001835-1755718200-1755720000@kettleparkseniorliving.com
SUMMARY:Evening Snack
DESCRIPTION:
URL:https://kettleparkseniorliving.com/event-calendar/evening-snack-99/
CATEGORIES:Memory Care
END:VEVENT
END:VCALENDAR