BEGIN:VCALENDAR
VERSION:2.0
PRODID:-//Kettle Park Senior Living - ECPv6.11.2.1//NONSGML v1.0//EN
CALSCALE:GREGORIAN
METHOD:PUBLISH
X-WR-CALNAME:Kettle Park Senior Living
X-ORIGINAL-URL:https://kettleparkseniorliving.com
X-WR-CALDESC:Events for Kettle Park Senior Living
REFRESH-INTERVAL;VALUE=DURATION:PT1H
X-Robots-Tag:noindex
X-PUBLISHED-TTL:PT1H
BEGIN:VTIMEZONE
TZID:America/Chicago
BEGIN:DAYLIGHT
TZOFFSETFROM:-0600
TZOFFSETTO:-0500
TZNAME:CDT
DTSTART:20250309T080000
END:DAYLIGHT
BEGIN:STANDARD
TZOFFSETFROM:-0500
TZOFFSETTO:-0600
TZNAME:CST
DTSTART:20251102T070000
END:STANDARD
END:VTIMEZONE
BEGIN:VEVENT
DTSTART;TZID=America/Chicago:20250821T091500
DTEND;TZID=America/Chicago:20250821T093000
DTSTAMP:20260419T094247
CREATED:20250727T021740Z
LAST-MODIFIED:20250821T033213Z
UID:10001836-1755767700-1755768600@kettleparkseniorliving.com
SUMMARY:News/Current Events
DESCRIPTION:
URL:https://kettleparkseniorliving.com/event-calendar/news-current-events-99/
LOCATION:Lounge Area
CATEGORIES:Memory Care
END:VEVENT
BEGIN:VEVENT
DTSTART;TZID=America/Chicago:20250821T093000
DTEND;TZID=America/Chicago:20250821T100000
DTSTAMP:20260419T094247
CREATED:20250728T021638Z
LAST-MODIFIED:20250821T033213Z
UID:10001844-1755768600-1755770400@kettleparkseniorliving.com
SUMMARY:Get Fit
DESCRIPTION:
URL:https://kettleparkseniorliving.com/event-calendar/get-fit-160/
LOCATION:Lounge
CATEGORIES:Memory Care
END:VEVENT
BEGIN:VEVENT
DTSTART;TZID=America/Chicago:20250821T100000
DTEND;TZID=America/Chicago:20250821T110000
DTSTAMP:20260419T094247
CREATED:20250728T021638Z
LAST-MODIFIED:20250821T033213Z
UID:10001845-1755770400-1755774000@kettleparkseniorliving.com
SUMMARY:Linked Senior
DESCRIPTION:
URL:https://kettleparkseniorliving.com/event-calendar/linked-senior-15/
LOCATION:Lounge Area
CATEGORIES:Memory Care
END:VEVENT
BEGIN:VEVENT
DTSTART;TZID=America/Chicago:20250821T110000
DTEND;TZID=America/Chicago:20250821T120000
DTSTAMP:20260419T094247
CREATED:20250728T021638Z
LAST-MODIFIED:20250821T033213Z
UID:10001847-1755774000-1755777600@kettleparkseniorliving.com
SUMMARY:Dog Visits w/ Lucy and Tink
DESCRIPTION:
URL:https://kettleparkseniorliving.com/event-calendar/dog-visits-w-lucy-and-tink-29/
LOCATION:Lounge Area
CATEGORIES:Memory Care
END:VEVENT
BEGIN:VEVENT
DTSTART;TZID=America/Chicago:20250821T113000
DTEND;TZID=America/Chicago:20250821T120000
DTSTAMP:20260419T094247
CREATED:20250728T021638Z
LAST-MODIFIED:20250821T033213Z
UID:10001846-1755775800-1755777600@kettleparkseniorliving.com
SUMMARY:Walking Group
DESCRIPTION:
URL:https://kettleparkseniorliving.com/event-calendar/walking-group-167/
CATEGORIES:Memory Care
END:VEVENT
BEGIN:VEVENT
DTSTART;TZID=America/Chicago:20250821T130000
DTEND;TZID=America/Chicago:20250821T133000
DTSTAMP:20260419T094247
CREATED:20250728T021638Z
LAST-MODIFIED:20250805T024629Z
UID:10001848-1755781200-1755783000@kettleparkseniorliving.com
SUMMARY:Music Appreciation/Adult Coloring
DESCRIPTION:
URL:https://kettleparkseniorliving.com/event-calendar/music-appreciation-adult-coloring-6/
LOCATION:Lounge Area
CATEGORIES:Memory Care
END:VEVENT
BEGIN:VEVENT
DTSTART;TZID=America/Chicago:20250821T133000
DTEND;TZID=America/Chicago:20250821T143000
DTSTAMP:20260419T094247
CREATED:20250728T021638Z
LAST-MODIFIED:20250821T033213Z
UID:10001849-1755783000-1755786600@kettleparkseniorliving.com
SUMMARY:Balloon Games
DESCRIPTION:
URL:https://kettleparkseniorliving.com/event-calendar/balloon-games-15/
LOCATION:Lounge Area
CATEGORIES:Memory Care
END:VEVENT
BEGIN:VEVENT
DTSTART;TZID=America/Chicago:20250821T133000
DTEND;TZID=America/Chicago:20250821T150000
DTSTAMP:20260419T094247
CREATED:20250816T031638Z
LAST-MODIFIED:20250821T033213Z
UID:10002197-1755783000-1755788400@kettleparkseniorliving.com
SUMMARY:Scenic Ride
DESCRIPTION:
URL:https://kettleparkseniorliving.com/event-calendar/scenic-ride-9/
CATEGORIES:Memory Care
END:VEVENT
BEGIN:VEVENT
DTSTART;TZID=America/Chicago:20250821T143000
DTEND;TZID=America/Chicago:20250821T150000
DTSTAMP:20260419T094247
CREATED:20250728T021638Z
LAST-MODIFIED:20250821T033213Z
UID:10001850-1755786600-1755788400@kettleparkseniorliving.com
SUMMARY:Reminisce
DESCRIPTION:
URL:https://kettleparkseniorliving.com/event-calendar/reminisce-30/
LOCATION:Lounge Area
CATEGORIES:Memory Care
END:VEVENT
BEGIN:VEVENT
DTSTART;TZID=America/Chicago:20250821T150000
DTEND;TZID=America/Chicago:20250821T160000
DTSTAMP:20260419T094247
CREATED:20250728T021638Z
LAST-MODIFIED:20250821T033213Z
UID:10001851-1755788400-1755792000@kettleparkseniorliving.com
SUMMARY:Snack & Chat
DESCRIPTION:
URL:https://kettleparkseniorliving.com/event-calendar/snack-chat-18/
LOCATION:Lounge Area
CATEGORIES:Memory Care
END:VEVENT
BEGIN:VEVENT
DTSTART;TZID=America/Chicago:20250821T160000
DTEND;TZID=America/Chicago:20250821T170000
DTSTAMP:20260419T094247
CREATED:20250728T021638Z
LAST-MODIFIED:20250821T033213Z
UID:10001852-1755792000-1755795600@kettleparkseniorliving.com
SUMMARY:Move to the Music
DESCRIPTION:
URL:https://kettleparkseniorliving.com/event-calendar/move-to-the-music-29/
LOCATION:Lounge Area
CATEGORIES:Memory Care
END:VEVENT
BEGIN:VEVENT
DTSTART;TZID=America/Chicago:20250821T180000
DTEND;TZID=America/Chicago:20250821T190000
DTSTAMP:20260419T094247
CREATED:20250728T021638Z
LAST-MODIFIED:20250821T033212Z
UID:10001853-1755799200-1755802800@kettleparkseniorliving.com
SUMMARY:Active Game
DESCRIPTION:
URL:https://kettleparkseniorliving.com/event-calendar/active-game-60/
LOCATION:Lounge Area
CATEGORIES:Memory Care
END:VEVENT
BEGIN:VEVENT
DTSTART;TZID=America/Chicago:20250821T193000
DTEND;TZID=America/Chicago:20250821T200000
DTSTAMP:20260419T094247
CREATED:20250728T021638Z
LAST-MODIFIED:20250821T033212Z
UID:10001854-1755804600-1755806400@kettleparkseniorliving.com
SUMMARY:Evening Snack
DESCRIPTION:
URL:https://kettleparkseniorliving.com/event-calendar/evening-snack-100/
CATEGORIES:Memory Care
END:VEVENT
END:VCALENDAR