BEGIN:VCALENDAR
VERSION:2.0
PRODID:-//Kettle Park Senior Living - ECPv6.11.2.1//NONSGML v1.0//EN
CALSCALE:GREGORIAN
METHOD:PUBLISH
X-WR-CALNAME:Kettle Park Senior Living
X-ORIGINAL-URL:https://kettleparkseniorliving.com
X-WR-CALDESC:Events for Kettle Park Senior Living
REFRESH-INTERVAL;VALUE=DURATION:PT1H
X-Robots-Tag:noindex
X-PUBLISHED-TTL:PT1H
BEGIN:VTIMEZONE
TZID:America/Chicago
BEGIN:DAYLIGHT
TZOFFSETFROM:-0600
TZOFFSETTO:-0500
TZNAME:CDT
DTSTART:20250309T080000
END:DAYLIGHT
BEGIN:STANDARD
TZOFFSETFROM:-0500
TZOFFSETTO:-0600
TZNAME:CST
DTSTART:20251102T070000
END:STANDARD
END:VTIMEZONE
BEGIN:VEVENT
DTSTART;TZID=America/Chicago:20250823T091500
DTEND;TZID=America/Chicago:20250823T093000
DTSTAMP:20260419T094255
CREATED:20250729T021644Z
LAST-MODIFIED:20250823T034722Z
UID:10001870-1755940500-1755941400@kettleparkseniorliving.com
SUMMARY:News/Current Events
DESCRIPTION:
URL:https://kettleparkseniorliving.com/event-calendar/news-current-events-101/
LOCATION:Lounge Area
CATEGORIES:Memory Care
END:VEVENT
BEGIN:VEVENT
DTSTART;TZID=America/Chicago:20250823T093000
DTEND;TZID=America/Chicago:20250823T100000
DTSTAMP:20260419T094255
CREATED:20250729T021644Z
LAST-MODIFIED:20250823T034722Z
UID:10001871-1755941400-1755943200@kettleparkseniorliving.com
SUMMARY:Get Fit
DESCRIPTION:
URL:https://kettleparkseniorliving.com/event-calendar/get-fit-162/
LOCATION:Lounge
CATEGORIES:Memory Care
END:VEVENT
BEGIN:VEVENT
DTSTART;TZID=America/Chicago:20250823T100000
DTEND;TZID=America/Chicago:20250823T110000
DTSTAMP:20260419T094255
CREATED:20250730T021730Z
LAST-MODIFIED:20250823T034722Z
UID:10001884-1755943200-1755946800@kettleparkseniorliving.com
SUMMARY:Linked Sr.
DESCRIPTION:
URL:https://kettleparkseniorliving.com/event-calendar/linked-sr-15/
LOCATION:Lounge
CATEGORIES:Memory Care
END:VEVENT
BEGIN:VEVENT
DTSTART;TZID=America/Chicago:20250823T110000
DTEND;TZID=America/Chicago:20250823T233000
DTSTAMP:20260419T094255
CREATED:20250730T021730Z
LAST-MODIFIED:20250824T034658Z
UID:10001883-1755946800-1755991800@kettleparkseniorliving.com
SUMMARY:Sing-along
DESCRIPTION:
URL:https://kettleparkseniorliving.com/event-calendar/sing-along-17/
LOCATION:Lounge Area
CATEGORIES:Memory Care
END:VEVENT
BEGIN:VEVENT
DTSTART;TZID=America/Chicago:20250823T113000
DTEND;TZID=America/Chicago:20250823T120000
DTSTAMP:20260419T094255
CREATED:20250730T021730Z
LAST-MODIFIED:20250823T034722Z
UID:10001885-1755948600-1755950400@kettleparkseniorliving.com
SUMMARY:Walking Group
DESCRIPTION:
URL:https://kettleparkseniorliving.com/event-calendar/walking-group-171/
CATEGORIES:Memory Care
END:VEVENT
BEGIN:VEVENT
DTSTART;TZID=America/Chicago:20250823T130000
DTEND;TZID=America/Chicago:20250823T133000
DTSTAMP:20260419T094255
CREATED:20250730T021731Z
LAST-MODIFIED:20250805T024629Z
UID:10001887-1755954000-1755955800@kettleparkseniorliving.com
SUMMARY:Music Appreciation/Adult Coloring
DESCRIPTION:
URL:https://kettleparkseniorliving.com/event-calendar/music-appreciation-adult-coloring-8/
LOCATION:Lounge Area
CATEGORIES:Memory Care
END:VEVENT
BEGIN:VEVENT
DTSTART;TZID=America/Chicago:20250823T133000
DTEND;TZID=America/Chicago:20250823T143000
DTSTAMP:20260419T094255
CREATED:20250730T021730Z
LAST-MODIFIED:20250823T034722Z
UID:10001886-1755955800-1755959400@kettleparkseniorliving.com
SUMMARY:Let's Create
DESCRIPTION:
URL:https://kettleparkseniorliving.com/event-calendar/lets-create-10/
LOCATION:Lounge
CATEGORIES:Memory Care
END:VEVENT
BEGIN:VEVENT
DTSTART;TZID=America/Chicago:20250823T150000
DTEND;TZID=America/Chicago:20250823T160000
DTSTAMP:20260419T094255
CREATED:20250729T021644Z
LAST-MODIFIED:20250823T034722Z
UID:10001872-1755961200-1755964800@kettleparkseniorliving.com
SUMMARY:Snack & Chat
DESCRIPTION:
URL:https://kettleparkseniorliving.com/event-calendar/snack-chat-20/
LOCATION:Lounge Area
CATEGORIES:Memory Care
END:VEVENT
BEGIN:VEVENT
DTSTART;TZID=America/Chicago:20250823T160000
DTEND;TZID=America/Chicago:20250823T163000
DTSTAMP:20260419T094255
CREATED:20250730T021730Z
LAST-MODIFIED:20250823T034722Z
UID:10001880-1755964800-1755966600@kettleparkseniorliving.com
SUMMARY:Walking Group
DESCRIPTION:
URL:https://kettleparkseniorliving.com/event-calendar/walking-group-170/
CATEGORIES:Memory Care
END:VEVENT
BEGIN:VEVENT
DTSTART;TZID=America/Chicago:20250823T180000
DTEND;TZID=America/Chicago:20250823T190000
DTSTAMP:20260419T094255
CREATED:20250730T021730Z
LAST-MODIFIED:20250823T034722Z
UID:10001881-1755972000-1755975600@kettleparkseniorliving.com
SUMMARY:Active Game
DESCRIPTION:
URL:https://kettleparkseniorliving.com/event-calendar/active-game-61/
LOCATION:Lounge
CATEGORIES:Memory Care
END:VEVENT
BEGIN:VEVENT
DTSTART;TZID=America/Chicago:20250823T193000
DTEND;TZID=America/Chicago:20250823T200000
DTSTAMP:20260419T094255
CREATED:20250730T021730Z
LAST-MODIFIED:20250823T034722Z
UID:10001882-1755977400-1755979200@kettleparkseniorliving.com
SUMMARY:Evening Snack
DESCRIPTION:
URL:https://kettleparkseniorliving.com/event-calendar/evening-snack-102/
CATEGORIES:Memory Care
END:VEVENT
END:VCALENDAR