BEGIN:VCALENDAR
VERSION:2.0
PRODID:-//Kettle Park Senior Living - ECPv6.11.2.1//NONSGML v1.0//EN
CALSCALE:GREGORIAN
METHOD:PUBLISH
X-ORIGINAL-URL:https://kettleparkseniorliving.com
X-WR-CALDESC:Events for Kettle Park Senior Living
REFRESH-INTERVAL;VALUE=DURATION:PT1H
X-Robots-Tag:noindex
X-PUBLISHED-TTL:PT1H
BEGIN:VTIMEZONE
TZID:America/Chicago
BEGIN:DAYLIGHT
TZOFFSETFROM:-0600
TZOFFSETTO:-0500
TZNAME:CDT
DTSTART:20250309T080000
END:DAYLIGHT
BEGIN:STANDARD
TZOFFSETFROM:-0500
TZOFFSETTO:-0600
TZNAME:CST
DTSTART:20251102T070000
END:STANDARD
END:VTIMEZONE
BEGIN:VEVENT
DTSTART;VALUE=DATE:20250911
DTEND;VALUE=DATE:20250912
DTSTAMP:20260419T133647
CREATED:20250819T020124Z
LAST-MODIFIED:20250910T043122Z
UID:10002242-1757548800-1757635199@kettleparkseniorliving.com
SUMMARY:Red\, White & Blue Day
DESCRIPTION:
URL:https://kettleparkseniorliving.com/event-calendar/red-white-blue-day/
CATEGORIES:Memory Care,Senior Living
END:VEVENT
BEGIN:VEVENT
DTSTART;TZID=America/Chicago:20250911T091500
DTEND;TZID=America/Chicago:20250911T093000
DTSTAMP:20260419T133647
CREATED:20250815T031633Z
LAST-MODIFIED:20250911T043122Z
UID:10002184-1757582100-1757583000@kettleparkseniorliving.com
SUMMARY:News/Current Events
DESCRIPTION:
URL:https://kettleparkseniorliving.com/event-calendar/news-current-events-120/
LOCATION:Lounge Area
CATEGORIES:Memory Care
END:VEVENT
BEGIN:VEVENT
DTSTART;TZID=America/Chicago:20250911T093000
DTEND;TZID=America/Chicago:20250911T100000
DTSTAMP:20260419T133647
CREATED:20250814T031632Z
LAST-MODIFIED:20250911T043122Z
UID:10002181-1757583000-1757584800@kettleparkseniorliving.com
SUMMARY:Get Fit
DESCRIPTION:
URL:https://kettleparkseniorliving.com/event-calendar/get-fit-181/
LOCATION:Lounge
CATEGORIES:Memory Care
END:VEVENT
BEGIN:VEVENT
DTSTART;TZID=America/Chicago:20250911T100000
DTEND;TZID=America/Chicago:20250911T110000
DTSTAMP:20260419T133647
CREATED:20250814T031632Z
LAST-MODIFIED:20250911T043123Z
UID:10002180-1757584800-1757588400@kettleparkseniorliving.com
SUMMARY:Linked Senior
DESCRIPTION:
URL:https://kettleparkseniorliving.com/event-calendar/linked-senior-18/
LOCATION:Lounge Area
CATEGORIES:Memory Care
END:VEVENT
BEGIN:VEVENT
DTSTART;TZID=America/Chicago:20250911T110000
DTEND;TZID=America/Chicago:20250911T120000
DTSTAMP:20260419T133647
CREATED:20250815T031633Z
LAST-MODIFIED:20250911T043123Z
UID:10002186-1757588400-1757592000@kettleparkseniorliving.com
SUMMARY:Dog Visits w/ Lucy and Tink
DESCRIPTION:
URL:https://kettleparkseniorliving.com/event-calendar/dog-visits-w-lucy-and-tink-35/
LOCATION:Lounge Area
CATEGORIES:Memory Care
END:VEVENT
BEGIN:VEVENT
DTSTART;TZID=America/Chicago:20250911T113000
DTEND;TZID=America/Chicago:20250911T120000
DTSTAMP:20260419T133647
CREATED:20250815T031633Z
LAST-MODIFIED:20250911T043123Z
UID:10002185-1757590200-1757592000@kettleparkseniorliving.com
SUMMARY:Walking Group
DESCRIPTION:
URL:https://kettleparkseniorliving.com/event-calendar/walking-group-200/
CATEGORIES:Memory Care
END:VEVENT
BEGIN:VEVENT
DTSTART;TZID=America/Chicago:20250911T133000
DTEND;TZID=America/Chicago:20250911T143000
DTSTAMP:20260419T133647
CREATED:20250815T031633Z
LAST-MODIFIED:20250831T041631Z
UID:10002187-1757597400-1757601000@kettleparkseniorliving.com
SUMMARY:Balloon Games
DESCRIPTION:
URL:https://kettleparkseniorliving.com/event-calendar/balloon-games-18/
LOCATION:Lounge Area
CATEGORIES:Memory Care
END:VEVENT
BEGIN:VEVENT
DTSTART;TZID=America/Chicago:20250911T133000
DTEND;TZID=America/Chicago:20250911T143000
DTSTAMP:20260419T133647
CREATED:20250819T020124Z
LAST-MODIFIED:20250911T043123Z
UID:10002243-1757597400-1757601000@kettleparkseniorliving.com
SUMMARY:Yahara Strummers Ukulele
DESCRIPTION:
URL:https://kettleparkseniorliving.com/event-calendar/yahara-strummers-ukulele/
LOCATION:Dining Room
CATEGORIES:Memory Care,Senior Living
END:VEVENT
BEGIN:VEVENT
DTSTART;TZID=America/Chicago:20250911T143000
DTEND;TZID=America/Chicago:20250911T150000
DTSTAMP:20260419T133647
CREATED:20250815T031633Z
LAST-MODIFIED:20250911T043123Z
UID:10002188-1757601000-1757602800@kettleparkseniorliving.com
SUMMARY:Reminisce
DESCRIPTION:
URL:https://kettleparkseniorliving.com/event-calendar/reminisce-36/
LOCATION:Lounge Area
CATEGORIES:Memory Care
END:VEVENT
BEGIN:VEVENT
DTSTART;TZID=America/Chicago:20250911T150000
DTEND;TZID=America/Chicago:20250911T160000
DTSTAMP:20260419T133647
CREATED:20250815T031633Z
LAST-MODIFIED:20250911T043123Z
UID:10002189-1757602800-1757606400@kettleparkseniorliving.com
SUMMARY:Snack & Chat
DESCRIPTION:
URL:https://kettleparkseniorliving.com/event-calendar/snack-chat-38/
LOCATION:Lounge Area
CATEGORIES:Memory Care
END:VEVENT
BEGIN:VEVENT
DTSTART;TZID=America/Chicago:20250911T160000
DTEND;TZID=America/Chicago:20250911T170000
DTSTAMP:20260419T133647
CREATED:20250815T031633Z
LAST-MODIFIED:20250911T043123Z
UID:10002190-1757606400-1757610000@kettleparkseniorliving.com
SUMMARY:Move to the Music
DESCRIPTION:
URL:https://kettleparkseniorliving.com/event-calendar/move-to-the-music-33/
LOCATION:Lounge Area
CATEGORIES:Memory Care
END:VEVENT
BEGIN:VEVENT
DTSTART;TZID=America/Chicago:20250911T180000
DTEND;TZID=America/Chicago:20250911T190000
DTSTAMP:20260419T133647
CREATED:20250815T031633Z
LAST-MODIFIED:20250911T043123Z
UID:10002191-1757613600-1757617200@kettleparkseniorliving.com
SUMMARY:Active Game
DESCRIPTION:
URL:https://kettleparkseniorliving.com/event-calendar/active-game-70/
LOCATION:Lounge Area
CATEGORIES:Memory Care
END:VEVENT
BEGIN:VEVENT
DTSTART;TZID=America/Chicago:20250911T193000
DTEND;TZID=America/Chicago:20250911T200000
DTSTAMP:20260419T133647
CREATED:20250815T031633Z
LAST-MODIFIED:20250911T043135Z
UID:10002192-1757619000-1757620800@kettleparkseniorliving.com
SUMMARY:Evening Snack
DESCRIPTION:
URL:https://kettleparkseniorliving.com/event-calendar/evening-snack-121/
CATEGORIES:Memory Care
END:VEVENT
END:VCALENDAR