BEGIN:VCALENDAR
VERSION:2.0
PRODID:-//Kettle Park Senior Living - ECPv6.11.2.1//NONSGML v1.0//EN
CALSCALE:GREGORIAN
METHOD:PUBLISH
X-ORIGINAL-URL:https://kettleparkseniorliving.com
X-WR-CALDESC:Events for Kettle Park Senior Living
REFRESH-INTERVAL;VALUE=DURATION:PT1H
X-Robots-Tag:noindex
X-PUBLISHED-TTL:PT1H
BEGIN:VTIMEZONE
TZID:America/Chicago
BEGIN:DAYLIGHT
TZOFFSETFROM:-0600
TZOFFSETTO:-0500
TZNAME:CDT
DTSTART:20250309T080000
END:DAYLIGHT
BEGIN:STANDARD
TZOFFSETFROM:-0500
TZOFFSETTO:-0600
TZNAME:CST
DTSTART:20251102T070000
END:STANDARD
END:VTIMEZONE
BEGIN:VEVENT
DTSTART;TZID=America/Chicago:20250917T091500
DTEND;TZID=America/Chicago:20250917T093000
DTSTAMP:20260419T120329
CREATED:20250820T031632Z
LAST-MODIFIED:20250917T043216Z
UID:10002273-1758100500-1758101400@kettleparkseniorliving.com
SUMMARY:News/Current Events
DESCRIPTION:
URL:https://kettleparkseniorliving.com/event-calendar/news-current-events-126/
LOCATION:Lounge Area
CATEGORIES:Memory Care
END:VEVENT
BEGIN:VEVENT
DTSTART;TZID=America/Chicago:20250917T093000
DTEND;TZID=America/Chicago:20250917T100000
DTSTAMP:20260419T120329
CREATED:20250820T031632Z
LAST-MODIFIED:20250917T043216Z
UID:10002274-1758101400-1758103200@kettleparkseniorliving.com
SUMMARY:Get Fit
DESCRIPTION:
URL:https://kettleparkseniorliving.com/event-calendar/get-fit-187/
LOCATION:Lounge
CATEGORIES:Memory Care
END:VEVENT
BEGIN:VEVENT
DTSTART;TZID=America/Chicago:20250917T100000
DTEND;TZID=America/Chicago:20250917T110000
DTSTAMP:20260419T120329
CREATED:20250820T031632Z
LAST-MODIFIED:20250917T043216Z
UID:10002277-1758103200-1758106800@kettleparkseniorliving.com
SUMMARY:Coffee Clutch
DESCRIPTION:
URL:https://kettleparkseniorliving.com/event-calendar/coffee-clutch-69/
LOCATION:Lounge
CATEGORIES:Memory Care
END:VEVENT
BEGIN:VEVENT
DTSTART;TZID=America/Chicago:20250917T110000
DTEND;TZID=America/Chicago:20250917T113000
DTSTAMP:20260419T120329
CREATED:20250820T031632Z
LAST-MODIFIED:20250917T043216Z
UID:10002276-1758106800-1758108600@kettleparkseniorliving.com
SUMMARY:Gardening Group
DESCRIPTION:
URL:https://kettleparkseniorliving.com/event-calendar/gardening-group-49/
CATEGORIES:Memory Care
END:VEVENT
BEGIN:VEVENT
DTSTART;TZID=America/Chicago:20250917T113000
DTEND;TZID=America/Chicago:20250917T120000
DTSTAMP:20260419T120329
CREATED:20250820T031632Z
LAST-MODIFIED:20250917T043216Z
UID:10002275-1758108600-1758110400@kettleparkseniorliving.com
SUMMARY:Walking Group
DESCRIPTION:
URL:https://kettleparkseniorliving.com/event-calendar/walking-group-208/
CATEGORIES:Memory Care
END:VEVENT
BEGIN:VEVENT
DTSTART;TZID=America/Chicago:20250917T130000
DTEND;TZID=America/Chicago:20250917T150000
DTSTAMP:20260419T120329
CREATED:20250821T033223Z
LAST-MODIFIED:20250914T043121Z
UID:10002283-1758114000-1758121200@kettleparkseniorliving.com
SUMMARY:Scenic Ride
DESCRIPTION:
URL:https://kettleparkseniorliving.com/event-calendar/scenic-ride-10/
CATEGORIES:Memory Care
END:VEVENT
BEGIN:VEVENT
DTSTART;TZID=America/Chicago:20250917T133000
DTEND;TZID=America/Chicago:20250917T143000
DTSTAMP:20260419T120329
CREATED:20250821T033223Z
LAST-MODIFIED:20250914T043121Z
UID:10002284-1758115800-1758119400@kettleparkseniorliving.com
SUMMARY:Table Games
DESCRIPTION:
URL:https://kettleparkseniorliving.com/event-calendar/table-games-7/
LOCATION:Lounge Area
CATEGORIES:Memory Care
END:VEVENT
BEGIN:VEVENT
DTSTART;TZID=America/Chicago:20250917T140000
DTEND;TZID=America/Chicago:20250917T150000
DTSTAMP:20260419T120329
CREATED:20250915T043136Z
LAST-MODIFIED:20250917T043217Z
UID:10002684-1758117600-1758121200@kettleparkseniorliving.com
SUMMARY:Entertainment with Campfire Kevin
DESCRIPTION:
URL:https://kettleparkseniorliving.com/event-calendar/entertainment-with-campfire-kevin/
LOCATION:Dining Room
CATEGORIES:Memory Care
END:VEVENT
BEGIN:VEVENT
DTSTART;TZID=America/Chicago:20250917T150000
DTEND;TZID=America/Chicago:20250917T160000
DTSTAMP:20260419T120329
CREATED:20250821T033223Z
LAST-MODIFIED:20250917T043217Z
UID:10002285-1758121200-1758124800@kettleparkseniorliving.com
SUMMARY:Snack & Chat
DESCRIPTION:
URL:https://kettleparkseniorliving.com/event-calendar/snack-chat-44/
LOCATION:Lounge Area
CATEGORIES:Memory Care
END:VEVENT
BEGIN:VEVENT
DTSTART;TZID=America/Chicago:20250917T160000
DTEND;TZID=America/Chicago:20250917T163000
DTSTAMP:20260419T120329
CREATED:20250821T033223Z
LAST-MODIFIED:20250917T043217Z
UID:10002286-1758124800-1758126600@kettleparkseniorliving.com
SUMMARY:Walking Group
DESCRIPTION:
URL:https://kettleparkseniorliving.com/event-calendar/walking-group-209/
CATEGORIES:Memory Care
END:VEVENT
BEGIN:VEVENT
DTSTART;TZID=America/Chicago:20250917T180000
DTEND;TZID=America/Chicago:20250917T190000
DTSTAMP:20260419T120329
CREATED:20250821T033223Z
LAST-MODIFIED:20250917T043217Z
UID:10002287-1758132000-1758135600@kettleparkseniorliving.com
SUMMARY:Reminisce
DESCRIPTION:
URL:https://kettleparkseniorliving.com/event-calendar/reminisce-37/
LOCATION:Lounge Area
CATEGORIES:Memory Care
END:VEVENT
BEGIN:VEVENT
DTSTART;TZID=America/Chicago:20250917T193000
DTEND;TZID=America/Chicago:20250917T200000
DTSTAMP:20260419T120329
CREATED:20250821T033223Z
LAST-MODIFIED:20250917T043217Z
UID:10002288-1758137400-1758139200@kettleparkseniorliving.com
SUMMARY:Evening Snack
DESCRIPTION:
URL:https://kettleparkseniorliving.com/event-calendar/evening-snack-127/
CATEGORIES:Memory Care
END:VEVENT
END:VCALENDAR