BEGIN:VCALENDAR
VERSION:2.0
PRODID:-//Kettle Park Senior Living - ECPv6.11.2.1//NONSGML v1.0//EN
CALSCALE:GREGORIAN
METHOD:PUBLISH
X-ORIGINAL-URL:https://kettleparkseniorliving.com
X-WR-CALDESC:Events for Kettle Park Senior Living
REFRESH-INTERVAL;VALUE=DURATION:PT1H
X-Robots-Tag:noindex
X-PUBLISHED-TTL:PT1H
BEGIN:VTIMEZONE
TZID:America/Chicago
BEGIN:DAYLIGHT
TZOFFSETFROM:-0600
TZOFFSETTO:-0500
TZNAME:CDT
DTSTART:20250309T080000
END:DAYLIGHT
BEGIN:STANDARD
TZOFFSETFROM:-0500
TZOFFSETTO:-0600
TZNAME:CST
DTSTART:20251102T070000
END:STANDARD
END:VTIMEZONE
BEGIN:VEVENT
DTSTART;TZID=America/Chicago:20250921T091500
DTEND;TZID=America/Chicago:20250921T093000
DTSTAMP:20260419T120329
CREATED:20250824T034707Z
LAST-MODIFIED:20250921T044645Z
UID:10002330-1758446100-1758447000@kettleparkseniorliving.com
SUMMARY:News/Current Events
DESCRIPTION:
URL:https://kettleparkseniorliving.com/event-calendar/news-current-events-130/
LOCATION:Lounge Area
CATEGORIES:Memory Care
END:VEVENT
BEGIN:VEVENT
DTSTART;TZID=America/Chicago:20250921T093000
DTEND;TZID=America/Chicago:20250921T100000
DTSTAMP:20260419T120329
CREATED:20250824T034707Z
LAST-MODIFIED:20250921T044645Z
UID:10002329-1758447000-1758448800@kettleparkseniorliving.com
SUMMARY:Get Fit
DESCRIPTION:
URL:https://kettleparkseniorliving.com/event-calendar/get-fit-191/
LOCATION:Lounge Area
CATEGORIES:Memory Care
END:VEVENT
BEGIN:VEVENT
DTSTART;TZID=America/Chicago:20250921T100000
DTEND;TZID=America/Chicago:20250921T103000
DTSTAMP:20260419T120329
CREATED:20250824T034707Z
LAST-MODIFIED:20250921T044645Z
UID:10002328-1758448800-1758450600@kettleparkseniorliving.com
SUMMARY:TV Church Service
DESCRIPTION:
URL:https://kettleparkseniorliving.com/event-calendar/tv-church-service-19/
LOCATION:Lounge Area
CATEGORIES:Memory Care
END:VEVENT
BEGIN:VEVENT
DTSTART;TZID=America/Chicago:20250921T103000
DTEND;TZID=America/Chicago:20250921T113000
DTSTAMP:20260419T120329
CREATED:20250824T034707Z
LAST-MODIFIED:20250921T044646Z
UID:10002331-1758450600-1758454200@kettleparkseniorliving.com
SUMMARY:Hymn Sing
DESCRIPTION:
URL:https://kettleparkseniorliving.com/event-calendar/hymn-sing-31/
LOCATION:Lounge Area
CATEGORIES:Memory Care
END:VEVENT
BEGIN:VEVENT
DTSTART;TZID=America/Chicago:20250921T113000
DTEND;TZID=America/Chicago:20250921T120000
DTSTAMP:20260419T120329
CREATED:20250825T034637Z
LAST-MODIFIED:20250921T044646Z
UID:10002336-1758454200-1758456000@kettleparkseniorliving.com
SUMMARY:Walking Group
DESCRIPTION:
URL:https://kettleparkseniorliving.com/event-calendar/walking-group-215/
CATEGORIES:Memory Care
END:VEVENT
BEGIN:VEVENT
DTSTART;TZID=America/Chicago:20250921T133000
DTEND;TZID=America/Chicago:20250921T143000
DTSTAMP:20260419T120329
CREATED:20250825T034637Z
LAST-MODIFIED:20250921T044646Z
UID:10002337-1758461400-1758465000@kettleparkseniorliving.com
SUMMARY:Word Games
DESCRIPTION:
URL:https://kettleparkseniorliving.com/event-calendar/word-games-19/
LOCATION:Lounge Area
CATEGORIES:Memory Care
END:VEVENT
BEGIN:VEVENT
DTSTART;TZID=America/Chicago:20250921T143000
DTEND;TZID=America/Chicago:20250921T150000
DTSTAMP:20260419T120329
CREATED:20250825T034637Z
LAST-MODIFIED:20250921T044646Z
UID:10002338-1758465000-1758466800@kettleparkseniorliving.com
SUMMARY:Active Game
DESCRIPTION:
URL:https://kettleparkseniorliving.com/event-calendar/active-game-75/
LOCATION:Lounge Area
CATEGORIES:Memory Care
END:VEVENT
BEGIN:VEVENT
DTSTART;TZID=America/Chicago:20250921T150000
DTEND;TZID=America/Chicago:20250921T160000
DTSTAMP:20260419T120329
CREATED:20250825T034637Z
LAST-MODIFIED:20250921T044646Z
UID:10002339-1758466800-1758470400@kettleparkseniorliving.com
SUMMARY:Snack & Chat
DESCRIPTION:
URL:https://kettleparkseniorliving.com/event-calendar/snack-chat-48/
LOCATION:Lounge Area
CATEGORIES:Memory Care
END:VEVENT
BEGIN:VEVENT
DTSTART;TZID=America/Chicago:20250921T180000
DTEND;TZID=America/Chicago:20250921T193000
DTSTAMP:20260419T120329
CREATED:20250825T034637Z
LAST-MODIFIED:20250921T044646Z
UID:10002340-1758477600-1758483000@kettleparkseniorliving.com
SUMMARY:Active Games
DESCRIPTION:
URL:https://kettleparkseniorliving.com/event-calendar/active-games-19/
LOCATION:Lounge Area
CATEGORIES:Memory Care
END:VEVENT
BEGIN:VEVENT
DTSTART;TZID=America/Chicago:20250921T193000
DTEND;TZID=America/Chicago:20250921T200000
DTSTAMP:20260419T120329
CREATED:20250825T034637Z
LAST-MODIFIED:20250921T044644Z
UID:10002341-1758483000-1758484800@kettleparkseniorliving.com
SUMMARY:Evening Snack
DESCRIPTION:
URL:https://kettleparkseniorliving.com/event-calendar/evening-snack-131/
CATEGORIES:Memory Care
END:VEVENT
END:VCALENDAR