BEGIN:VCALENDAR
VERSION:2.0
PRODID:-//Kettle Park Senior Living - ECPv6.11.2.1//NONSGML v1.0//EN
CALSCALE:GREGORIAN
METHOD:PUBLISH
X-ORIGINAL-URL:https://kettleparkseniorliving.com
X-WR-CALDESC:Events for Kettle Park Senior Living
REFRESH-INTERVAL;VALUE=DURATION:PT1H
X-Robots-Tag:noindex
X-PUBLISHED-TTL:PT1H
BEGIN:VTIMEZONE
TZID:America/Chicago
BEGIN:DAYLIGHT
TZOFFSETFROM:-0600
TZOFFSETTO:-0500
TZNAME:CDT
DTSTART:20250309T080000
END:DAYLIGHT
BEGIN:STANDARD
TZOFFSETFROM:-0500
TZOFFSETTO:-0600
TZNAME:CST
DTSTART:20251102T070000
END:STANDARD
END:VTIMEZONE
BEGIN:VEVENT
DTSTART;VALUE=DATE:20250930
DTEND;VALUE=DATE:20251001
DTSTAMP:20260419T120351
CREATED:20250902T043143Z
LAST-MODIFIED:20250929T051635Z
UID:10002493-1759190400-1759276799@kettleparkseniorliving.com
SUMMARY:Happy Birthday Nancy M.!
DESCRIPTION:
URL:https://kettleparkseniorliving.com/event-calendar/happy-birthday-nancy-m/
CATEGORIES:Memory Care
END:VEVENT
BEGIN:VEVENT
DTSTART;TZID=America/Chicago:20250930T091500
DTEND;TZID=America/Chicago:20250930T093000
DTSTAMP:20260419T120351
CREATED:20250902T043143Z
LAST-MODIFIED:20250930T053131Z
UID:10002496-1759223700-1759224600@kettleparkseniorliving.com
SUMMARY:News/Current Events
DESCRIPTION:
URL:https://kettleparkseniorliving.com/event-calendar/news-current-events-139/
LOCATION:Lounge Area
CATEGORIES:Memory Care
END:VEVENT
BEGIN:VEVENT
DTSTART;TZID=America/Chicago:20250930T093000
DTEND;TZID=America/Chicago:20250930T100000
DTSTAMP:20260419T120351
CREATED:20250902T043143Z
LAST-MODIFIED:20250930T053131Z
UID:10002497-1759224600-1759226400@kettleparkseniorliving.com
SUMMARY:Get Fit
DESCRIPTION:
URL:https://kettleparkseniorliving.com/event-calendar/get-fit-200/
LOCATION:Lounge Area
CATEGORIES:Memory Care
END:VEVENT
BEGIN:VEVENT
DTSTART;TZID=America/Chicago:20250930T093000
DTEND;TZID=America/Chicago:20250930T110000
DTSTAMP:20260419T120351
CREATED:20250902T043143Z
LAST-MODIFIED:20250930T053131Z
UID:10002495-1759224600-1759230000@kettleparkseniorliving.com
SUMMARY:Activities with Kathy
DESCRIPTION:
URL:https://kettleparkseniorliving.com/event-calendar/reading-w-kathy-20/
LOCATION:Lounge Area
CATEGORIES:Memory Care
END:VEVENT
BEGIN:VEVENT
DTSTART;TZID=America/Chicago:20250930T110000
DTEND;TZID=America/Chicago:20250930T120000
DTSTAMP:20260419T120351
CREATED:20250902T043144Z
LAST-MODIFIED:20250930T053131Z
UID:10002498-1759230000-1759233600@kettleparkseniorliving.com
SUMMARY:Dog Visits w/ Lucy and Tink
DESCRIPTION:
URL:https://kettleparkseniorliving.com/event-calendar/dog-visits-w-lucy-and-tink-40/
LOCATION:Lounge Area
CATEGORIES:Memory Care
END:VEVENT
BEGIN:VEVENT
DTSTART;TZID=America/Chicago:20250930T113000
DTEND;TZID=America/Chicago:20250930T120000
DTSTAMP:20260419T120351
CREATED:20250902T043144Z
LAST-MODIFIED:20250923T044624Z
UID:10002499-1759231800-1759233600@kettleparkseniorliving.com
SUMMARY:Walking Group
DESCRIPTION:
URL:https://kettleparkseniorliving.com/event-calendar/walking-group-227/
CATEGORIES:Memory Care
END:VEVENT
BEGIN:VEVENT
DTSTART;TZID=America/Chicago:20250930T130000
DTEND;TZID=America/Chicago:20250930T140000
DTSTAMP:20260419T120351
CREATED:20250902T043144Z
LAST-MODIFIED:20250930T053131Z
UID:10002500-1759237200-1759240800@kettleparkseniorliving.com
SUMMARY:Devotions with Chaplin Lee
DESCRIPTION:
URL:https://kettleparkseniorliving.com/event-calendar/devotions-with-chaplin-lee-39/
LOCATION:Lounge Area
CATEGORIES:Memory Care
END:VEVENT
BEGIN:VEVENT
DTSTART;TZID=America/Chicago:20250930T133000
DTEND;TZID=America/Chicago:20250930T143000
DTSTAMP:20260419T120351
CREATED:20250902T043144Z
LAST-MODIFIED:20250930T053131Z
UID:10002501-1759239000-1759242600@kettleparkseniorliving.com
SUMMARY:Outside Games
DESCRIPTION:
URL:https://kettleparkseniorliving.com/event-calendar/outside-games-6/
CATEGORIES:Memory Care
END:VEVENT
BEGIN:VEVENT
DTSTART;TZID=America/Chicago:20250930T150000
DTEND;TZID=America/Chicago:20250930T160000
DTSTAMP:20260419T120351
CREATED:20250903T043132Z
LAST-MODIFIED:20250930T053131Z
UID:10002507-1759244400-1759248000@kettleparkseniorliving.com
SUMMARY:Snack & Chat
DESCRIPTION:
URL:https://kettleparkseniorliving.com/event-calendar/snack-chat-57/
LOCATION:Lounge Area
CATEGORIES:Memory Care
END:VEVENT
BEGIN:VEVENT
DTSTART;TZID=America/Chicago:20250930T180000
DTEND;TZID=America/Chicago:20250930T190000
DTSTAMP:20260419T120351
CREATED:20250903T043132Z
LAST-MODIFIED:20250930T053131Z
UID:10002508-1759255200-1759258800@kettleparkseniorliving.com
SUMMARY:Fun with Trivia
DESCRIPTION:
URL:https://kettleparkseniorliving.com/event-calendar/fun-with-trivia-20/
LOCATION:Lounge Area
CATEGORIES:Memory Care
END:VEVENT
BEGIN:VEVENT
DTSTART;TZID=America/Chicago:20250930T193000
DTEND;TZID=America/Chicago:20250930T200000
DTSTAMP:20260419T120351
CREATED:20250903T043132Z
LAST-MODIFIED:20250930T053131Z
UID:10002509-1759260600-1759262400@kettleparkseniorliving.com
SUMMARY:Evening Snack
DESCRIPTION:
URL:https://kettleparkseniorliving.com/event-calendar/evening-snack-140/
CATEGORIES:Memory Care
END:VEVENT
END:VCALENDAR