BEGIN:VCALENDAR
VERSION:2.0
PRODID:-//Kettle Park Senior Living - ECPv6.11.2.1//NONSGML v1.0//EN
CALSCALE:GREGORIAN
METHOD:PUBLISH
X-ORIGINAL-URL:https://kettleparkseniorliving.com
X-WR-CALDESC:Events for Kettle Park Senior Living
REFRESH-INTERVAL;VALUE=DURATION:PT1H
X-Robots-Tag:noindex
X-PUBLISHED-TTL:PT1H
BEGIN:VTIMEZONE
TZID:America/Chicago
BEGIN:DAYLIGHT
TZOFFSETFROM:-0600
TZOFFSETTO:-0500
TZNAME:CDT
DTSTART:20250309T080000
END:DAYLIGHT
BEGIN:STANDARD
TZOFFSETFROM:-0500
TZOFFSETTO:-0600
TZNAME:CST
DTSTART:20251102T070000
END:STANDARD
END:VTIMEZONE
BEGIN:VEVENT
DTSTART;TZID=America/Chicago:20251008T091500
DTEND;TZID=America/Chicago:20251008T093000
DTSTAMP:20260419T141800
CREATED:20250909T043133Z
LAST-MODIFIED:20251008T053157Z
UID:10002601-1759914900-1759915800@kettleparkseniorliving.com
SUMMARY:News/Current Events
DESCRIPTION:
URL:https://kettleparkseniorliving.com/event-calendar/news-current-events-147/
LOCATION:Lounge Area
CATEGORIES:Memory Care
END:VEVENT
BEGIN:VEVENT
DTSTART;TZID=America/Chicago:20251008T093000
DTEND;TZID=America/Chicago:20251008T100000
DTSTAMP:20260419T141800
CREATED:20250909T043133Z
LAST-MODIFIED:20251008T053157Z
UID:10002602-1759915800-1759917600@kettleparkseniorliving.com
SUMMARY:Get Fit
DESCRIPTION:
URL:https://kettleparkseniorliving.com/event-calendar/get-fit-208/
LOCATION:Lounge Area
CATEGORIES:Memory Care
END:VEVENT
BEGIN:VEVENT
DTSTART;TZID=America/Chicago:20251008T100000
DTEND;TZID=America/Chicago:20251008T110000
DTSTAMP:20260419T141800
CREATED:20250909T043133Z
LAST-MODIFIED:20251008T053157Z
UID:10002603-1759917600-1759921200@kettleparkseniorliving.com
SUMMARY:Coffee Clutch
DESCRIPTION:
URL:https://kettleparkseniorliving.com/event-calendar/coffee-clutch-81/
LOCATION:Lounge
CATEGORIES:Memory Care
END:VEVENT
BEGIN:VEVENT
DTSTART;TZID=America/Chicago:20251008T113000
DTEND;TZID=America/Chicago:20251008T114500
DTSTAMP:20260419T141800
CREATED:20251004T053121Z
LAST-MODIFIED:20251008T053157Z
UID:10003085-1759923000-1759923900@kettleparkseniorliving.com
SUMMARY:Walking Group
DESCRIPTION:
URL:https://kettleparkseniorliving.com/event-calendar/walking-group-323/
CATEGORIES:Memory Care
END:VEVENT
BEGIN:VEVENT
DTSTART;TZID=America/Chicago:20251008T113000
DTEND;TZID=America/Chicago:20251008T120000
DTSTAMP:20260419T141800
CREATED:20250909T043133Z
LAST-MODIFIED:20250923T044628Z
UID:10002604-1759923000-1759924800@kettleparkseniorliving.com
SUMMARY:Walking Group
DESCRIPTION:
URL:https://kettleparkseniorliving.com/event-calendar/walking-group-236/
CATEGORIES:Memory Care
END:VEVENT
BEGIN:VEVENT
DTSTART;TZID=America/Chicago:20251008T133000
DTEND;TZID=America/Chicago:20251008T143000
DTSTAMP:20260419T141800
CREATED:20250909T043133Z
LAST-MODIFIED:20250928T051625Z
UID:10002605-1759930200-1759933800@kettleparkseniorliving.com
SUMMARY:Table Games
DESCRIPTION:
URL:https://kettleparkseniorliving.com/event-calendar/table-games-10/
LOCATION:Lounge Area
CATEGORIES:Memory Care
END:VEVENT
BEGIN:VEVENT
DTSTART;TZID=America/Chicago:20251008T150000
DTEND;TZID=America/Chicago:20251008T160000
DTSTAMP:20260419T141800
CREATED:20250909T043134Z
LAST-MODIFIED:20251008T053157Z
UID:10002606-1759935600-1759939200@kettleparkseniorliving.com
SUMMARY:Snack & Chat
DESCRIPTION:
URL:https://kettleparkseniorliving.com/event-calendar/snack-chat-65/
LOCATION:Lounge Area
CATEGORIES:Memory Care
END:VEVENT
BEGIN:VEVENT
DTSTART;TZID=America/Chicago:20251008T160000
DTEND;TZID=America/Chicago:20251008T161500
DTSTAMP:20260419T141800
CREATED:20251002T053125Z
LAST-MODIFIED:20251008T053157Z
UID:10003035-1759939200-1759940100@kettleparkseniorliving.com
SUMMARY:Walking Group
DESCRIPTION:
URL:https://kettleparkseniorliving.com/event-calendar/walking-group-292/
CATEGORIES:Memory Care
END:VEVENT
BEGIN:VEVENT
DTSTART;TZID=America/Chicago:20251008T160000
DTEND;TZID=America/Chicago:20251008T163000
DTSTAMP:20260419T141800
CREATED:20250923T044628Z
LAST-MODIFIED:20250927T051643Z
UID:10002825-1759939200-1759941000@kettleparkseniorliving.com
SUMMARY:Walking Group
DESCRIPTION:
URL:https://kettleparkseniorliving.com/event-calendar/walking-group-263/
CATEGORIES:Memory Care
END:VEVENT
BEGIN:VEVENT
DTSTART;TZID=America/Chicago:20251008T180000
DTEND;TZID=America/Chicago:20251008T190000
DTSTAMP:20260419T141800
CREATED:20250909T043134Z
LAST-MODIFIED:20251008T053157Z
UID:10002607-1759946400-1759950000@kettleparkseniorliving.com
SUMMARY:Reminisce
DESCRIPTION:
URL:https://kettleparkseniorliving.com/event-calendar/reminisce-43/
LOCATION:Lounge Area
CATEGORIES:Memory Care
END:VEVENT
BEGIN:VEVENT
DTSTART;TZID=America/Chicago:20251008T193000
DTEND;TZID=America/Chicago:20251008T200000
DTSTAMP:20260419T141800
CREATED:20250909T043134Z
LAST-MODIFIED:20251008T053157Z
UID:10002608-1759951800-1759953600@kettleparkseniorliving.com
SUMMARY:Evening Snack
DESCRIPTION:
URL:https://kettleparkseniorliving.com/event-calendar/evening-snack-148/
CATEGORIES:Memory Care
END:VEVENT
END:VCALENDAR