BEGIN:VCALENDAR
VERSION:2.0
PRODID:-//Kettle Park Senior Living - ECPv6.11.2.1//NONSGML v1.0//EN
CALSCALE:GREGORIAN
METHOD:PUBLISH
X-ORIGINAL-URL:https://kettleparkseniorliving.com
X-WR-CALDESC:Events for Kettle Park Senior Living
REFRESH-INTERVAL;VALUE=DURATION:PT1H
X-Robots-Tag:noindex
X-PUBLISHED-TTL:PT1H
BEGIN:VTIMEZONE
TZID:America/Chicago
BEGIN:DAYLIGHT
TZOFFSETFROM:-0600
TZOFFSETTO:-0500
TZNAME:CDT
DTSTART:20250309T080000
END:DAYLIGHT
BEGIN:STANDARD
TZOFFSETFROM:-0500
TZOFFSETTO:-0600
TZNAME:CST
DTSTART:20251102T070000
END:STANDARD
END:VTIMEZONE
BEGIN:VEVENT
DTSTART;TZID=America/Chicago:20251020T091500
DTEND;TZID=America/Chicago:20251020T093000
DTSTAMP:20260419T141800
CREATED:20250921T044655Z
LAST-MODIFIED:20251020T061622Z
UID:10002785-1760951700-1760952600@kettleparkseniorliving.com
SUMMARY:News/Current Events
DESCRIPTION:
URL:https://kettleparkseniorliving.com/event-calendar/news-current-events-159/
LOCATION:Lounge Area
CATEGORIES:Memory Care
END:VEVENT
BEGIN:VEVENT
DTSTART;TZID=America/Chicago:20251020T093000
DTEND;TZID=America/Chicago:20251020T100000
DTSTAMP:20260419T141800
CREATED:20250921T044655Z
LAST-MODIFIED:20251020T061622Z
UID:10002786-1760952600-1760954400@kettleparkseniorliving.com
SUMMARY:Get Fit
DESCRIPTION:
URL:https://kettleparkseniorliving.com/event-calendar/get-fit-220/
LOCATION:Lounge Area
CATEGORIES:Memory Care
END:VEVENT
BEGIN:VEVENT
DTSTART;TZID=America/Chicago:20251020T100000
DTEND;TZID=America/Chicago:20251020T103000
DTSTAMP:20260419T141800
CREATED:20250921T044655Z
LAST-MODIFIED:20251020T061622Z
UID:10002787-1760954400-1760956200@kettleparkseniorliving.com
SUMMARY:Coffee Clutch & Linked Senior
DESCRIPTION:
URL:https://kettleparkseniorliving.com/event-calendar/coffee-clutch-linked-senior-22/
LOCATION:Lounge
CATEGORIES:Memory Care
END:VEVENT
BEGIN:VEVENT
DTSTART;TZID=America/Chicago:20251020T113000
DTEND;TZID=America/Chicago:20251020T114500
DTSTAMP:20260419T141800
CREATED:20251004T053125Z
LAST-MODIFIED:20251020T061622Z
UID:10003097-1760959800-1760960700@kettleparkseniorliving.com
SUMMARY:Walking Group
DESCRIPTION:
URL:https://kettleparkseniorliving.com/event-calendar/walking-group-335/
CATEGORIES:Memory Care
END:VEVENT
BEGIN:VEVENT
DTSTART;TZID=America/Chicago:20251020T113000
DTEND;TZID=America/Chicago:20251020T120000
DTSTAMP:20260419T141800
CREATED:20250921T044655Z
LAST-MODIFIED:20250923T044633Z
UID:10002788-1760959800-1760961600@kettleparkseniorliving.com
SUMMARY:Walking Group
DESCRIPTION:
URL:https://kettleparkseniorliving.com/event-calendar/walking-group-251/
CATEGORIES:Memory Care
END:VEVENT
BEGIN:VEVENT
DTSTART;TZID=America/Chicago:20251020T134500
DTEND;TZID=America/Chicago:20251020T143000
DTSTAMP:20260419T141800
CREATED:20250921T044655Z
LAST-MODIFIED:20251020T061622Z
UID:10002789-1760967900-1760970600@kettleparkseniorliving.com
SUMMARY:UMC Devotions
DESCRIPTION:
URL:https://kettleparkseniorliving.com/event-calendar/umc-devotions-50/
LOCATION:Lounge Area
CATEGORIES:Memory Care
END:VEVENT
BEGIN:VEVENT
DTSTART;TZID=America/Chicago:20251020T143000
DTEND;TZID=America/Chicago:20251020T150000
DTSTAMP:20260419T141800
CREATED:20250921T044655Z
LAST-MODIFIED:20251020T061622Z
UID:10002790-1760970600-1760972400@kettleparkseniorliving.com
SUMMARY:Scattagories
DESCRIPTION:
URL:https://kettleparkseniorliving.com/event-calendar/scattagories-10/
LOCATION:Lounge
CATEGORIES:Memory Care
END:VEVENT
BEGIN:VEVENT
DTSTART;TZID=America/Chicago:20251020T150000
DTEND;TZID=America/Chicago:20251020T160000
DTSTAMP:20260419T141800
CREATED:20250921T044655Z
LAST-MODIFIED:20251020T061622Z
UID:10002791-1760972400-1760976000@kettleparkseniorliving.com
SUMMARY:Happy Hour
DESCRIPTION:
URL:https://kettleparkseniorliving.com/event-calendar/happy-hour-41/
LOCATION:Lounge Area
CATEGORIES:Memory Care
END:VEVENT
BEGIN:VEVENT
DTSTART;TZID=America/Chicago:20251020T150000
DTEND;TZID=America/Chicago:20251020T160000
DTSTAMP:20260419T141800
CREATED:20250921T044655Z
LAST-MODIFIED:20250929T051641Z
UID:10002792-1760972400-1760976000@kettleparkseniorliving.com
SUMMARY:Snack & Chat
DESCRIPTION:
URL:https://kettleparkseniorliving.com/event-calendar/snack-chat-77/
LOCATION:Lounge Area
CATEGORIES:Memory Care
END:VEVENT
BEGIN:VEVENT
DTSTART;TZID=America/Chicago:20251020T160000
DTEND;TZID=America/Chicago:20251020T161500
DTSTAMP:20260419T141800
CREATED:20251002T053130Z
LAST-MODIFIED:20251020T061622Z
UID:10003047-1760976000-1760976900@kettleparkseniorliving.com
SUMMARY:Walking Group
DESCRIPTION:
URL:https://kettleparkseniorliving.com/event-calendar/walking-group-304/
CATEGORIES:Memory Care
END:VEVENT
BEGIN:VEVENT
DTSTART;TZID=America/Chicago:20251020T160000
DTEND;TZID=America/Chicago:20251020T163000
DTSTAMP:20260419T141800
CREATED:20250923T044633Z
LAST-MODIFIED:20250927T051647Z
UID:10002834-1760976000-1760977800@kettleparkseniorliving.com
SUMMARY:Walking Group
DESCRIPTION:
URL:https://kettleparkseniorliving.com/event-calendar/walking-group-272/
CATEGORIES:Memory Care
END:VEVENT
BEGIN:VEVENT
DTSTART;TZID=America/Chicago:20251020T193000
DTEND;TZID=America/Chicago:20251020T200000
DTSTAMP:20260419T141800
CREATED:20250921T044655Z
LAST-MODIFIED:20251020T061622Z
UID:10002793-1760988600-1760990400@kettleparkseniorliving.com
SUMMARY:Evening Snack
DESCRIPTION:
URL:https://kettleparkseniorliving.com/event-calendar/evening-snack-160/
CATEGORIES:Memory Care
END:VEVENT
END:VCALENDAR