BEGIN:VCALENDAR
VERSION:2.0
PRODID:-//Kettle Park Senior Living - ECPv6.11.2.1//NONSGML v1.0//EN
CALSCALE:GREGORIAN
METHOD:PUBLISH
X-WR-CALNAME:Kettle Park Senior Living
X-ORIGINAL-URL:https://kettleparkseniorliving.com
X-WR-CALDESC:Events for Kettle Park Senior Living
REFRESH-INTERVAL;VALUE=DURATION:PT1H
X-Robots-Tag:noindex
X-PUBLISHED-TTL:PT1H
BEGIN:VTIMEZONE
TZID:America/Chicago
BEGIN:DAYLIGHT
TZOFFSETFROM:-0600
TZOFFSETTO:-0500
TZNAME:CDT
DTSTART:20250309T080000
END:DAYLIGHT
BEGIN:STANDARD
TZOFFSETFROM:-0500
TZOFFSETTO:-0600
TZNAME:CST
DTSTART:20251102T070000
END:STANDARD
END:VTIMEZONE
BEGIN:VEVENT
DTSTART;TZID=America/Chicago:20251024T091500
DTEND;TZID=America/Chicago:20251024T093000
DTSTAMP:20260419T141623
CREATED:20250925T050211Z
LAST-MODIFIED:20251024T063145Z
UID:10002871-1761297300-1761298200@kettleparkseniorliving.com
SUMMARY:News/Current Events
DESCRIPTION:
URL:https://kettleparkseniorliving.com/event-calendar/news-current-events-163/
LOCATION:Lounge Area
CATEGORIES:Memory Care
END:VEVENT
BEGIN:VEVENT
DTSTART;TZID=America/Chicago:20251024T093000
DTEND;TZID=America/Chicago:20251024T100000
DTSTAMP:20260419T141623
CREATED:20250925T050211Z
LAST-MODIFIED:20251024T063145Z
UID:10002872-1761298200-1761300000@kettleparkseniorliving.com
SUMMARY:Get Fit
DESCRIPTION:
URL:https://kettleparkseniorliving.com/event-calendar/get-fit-224/
LOCATION:Lounge Area
CATEGORIES:Memory Care
END:VEVENT
BEGIN:VEVENT
DTSTART;TZID=America/Chicago:20251024T100000
DTEND;TZID=America/Chicago:20251024T103000
DTSTAMP:20260419T141623
CREATED:20250925T050212Z
LAST-MODIFIED:20251024T063145Z
UID:10002873-1761300000-1761301800@kettleparkseniorliving.com
SUMMARY:Devotions with Chaplin Lee
DESCRIPTION:
URL:https://kettleparkseniorliving.com/event-calendar/devotions-with-chaplin-lee-46/
LOCATION:Lounge
CATEGORIES:Memory Care
END:VEVENT
BEGIN:VEVENT
DTSTART;TZID=America/Chicago:20251024T103000
DTEND;TZID=America/Chicago:20251024T110000
DTSTAMP:20260419T141623
CREATED:20250925T050212Z
LAST-MODIFIED:20251024T063145Z
UID:10002874-1761301800-1761303600@kettleparkseniorliving.com
SUMMARY:Coffee Clutch & Link Senior
DESCRIPTION:
URL:https://kettleparkseniorliving.com/event-calendar/coffee-clutch-link-senior-24/
LOCATION:Lounge
CATEGORIES:Memory Care
END:VEVENT
BEGIN:VEVENT
DTSTART;TZID=America/Chicago:20251024T113000
DTEND;TZID=America/Chicago:20251024T114500
DTSTAMP:20260419T141623
CREATED:20251004T053127Z
LAST-MODIFIED:20251024T063145Z
UID:10003101-1761305400-1761306300@kettleparkseniorliving.com
SUMMARY:Walking Group
DESCRIPTION:
URL:https://kettleparkseniorliving.com/event-calendar/walking-group-339/
CATEGORIES:Memory Care
END:VEVENT
BEGIN:VEVENT
DTSTART;TZID=America/Chicago:20251024T133000
DTEND;TZID=America/Chicago:20251024T150000
DTSTAMP:20260419T141623
CREATED:20250925T050212Z
LAST-MODIFIED:20251024T063145Z
UID:10002875-1761312600-1761318000@kettleparkseniorliving.com
SUMMARY:BINGO
DESCRIPTION:
URL:https://kettleparkseniorliving.com/event-calendar/bingo-83/
LOCATION:Dining Room
CATEGORIES:Memory Care
END:VEVENT
BEGIN:VEVENT
DTSTART;TZID=America/Chicago:20251024T150000
DTEND;TZID=America/Chicago:20251024T160000
DTSTAMP:20260419T141623
CREATED:20250925T050212Z
LAST-MODIFIED:20251024T063145Z
UID:10002876-1761318000-1761321600@kettleparkseniorliving.com
SUMMARY:Snack & Chat
DESCRIPTION:
URL:https://kettleparkseniorliving.com/event-calendar/snack-chat-81/
LOCATION:Lounge Area
CATEGORIES:Memory Care
END:VEVENT
BEGIN:VEVENT
DTSTART;TZID=America/Chicago:20251024T160000
DTEND;TZID=America/Chicago:20251024T161500
DTSTAMP:20260419T141623
CREATED:20250928T051630Z
LAST-MODIFIED:20251003T053130Z
UID:10002965-1761321600-1761322500@kettleparkseniorliving.com
SUMMARY:Walking Group
DESCRIPTION:
URL:https://kettleparkseniorliving.com/event-calendar/walking-group-284/
CATEGORIES:Memory Care
END:VEVENT
BEGIN:VEVENT
DTSTART;TZID=America/Chicago:20251024T160000
DTEND;TZID=America/Chicago:20251024T161500
DTSTAMP:20260419T141623
CREATED:20251002T053132Z
LAST-MODIFIED:20251024T063145Z
UID:10003051-1761321600-1761322500@kettleparkseniorliving.com
SUMMARY:Walking Group
DESCRIPTION:
URL:https://kettleparkseniorliving.com/event-calendar/walking-group-308/
CATEGORIES:Memory Care
END:VEVENT
BEGIN:VEVENT
DTSTART;TZID=America/Chicago:20251024T160000
DTEND;TZID=America/Chicago:20251024T163000
DTSTAMP:20260419T141623
CREATED:20250925T050212Z
LAST-MODIFIED:20250927T051648Z
UID:10002877-1761321600-1761323400@kettleparkseniorliving.com
SUMMARY:Walking Group
DESCRIPTION:
URL:https://kettleparkseniorliving.com/event-calendar/walking-group-275/
CATEGORIES:Memory Care
END:VEVENT
BEGIN:VEVENT
DTSTART;TZID=America/Chicago:20251024T180000
DTEND;TZID=America/Chicago:20251024T193000
DTSTAMP:20260419T141623
CREATED:20250925T050212Z
LAST-MODIFIED:20251024T063145Z
UID:10002878-1761328800-1761334200@kettleparkseniorliving.com
SUMMARY:Friday Night Movie
DESCRIPTION:
URL:https://kettleparkseniorliving.com/event-calendar/friday-night-movie-48/
LOCATION:Lounge Area
CATEGORIES:Memory Care
END:VEVENT
BEGIN:VEVENT
DTSTART;TZID=America/Chicago:20251024T193000
DTEND;TZID=America/Chicago:20251024T200000
DTSTAMP:20260419T141623
CREATED:20250925T050212Z
LAST-MODIFIED:20251024T063145Z
UID:10002879-1761334200-1761336000@kettleparkseniorliving.com
SUMMARY:Evening Snack
DESCRIPTION:
URL:https://kettleparkseniorliving.com/event-calendar/evening-snack-164/
CATEGORIES:Memory Care
END:VEVENT
END:VCALENDAR