BEGIN:VCALENDAR
VERSION:2.0
PRODID:-//Kettle Park Senior Living - ECPv6.11.2.1//NONSGML v1.0//EN
CALSCALE:GREGORIAN
METHOD:PUBLISH
X-ORIGINAL-URL:https://kettleparkseniorliving.com
X-WR-CALDESC:Events for Kettle Park Senior Living
REFRESH-INTERVAL;VALUE=DURATION:PT1H
X-Robots-Tag:noindex
X-PUBLISHED-TTL:PT1H
BEGIN:VTIMEZONE
TZID:America/Chicago
BEGIN:DAYLIGHT
TZOFFSETFROM:-0600
TZOFFSETTO:-0500
TZNAME:CDT
DTSTART:20250309T080000
END:DAYLIGHT
BEGIN:STANDARD
TZOFFSETFROM:-0500
TZOFFSETTO:-0600
TZNAME:CST
DTSTART:20251102T070000
END:STANDARD
END:VTIMEZONE
BEGIN:VEVENT
DTSTART;TZID=America/Chicago:20251031T091500
DTEND;TZID=America/Chicago:20251031T093000
DTSTAMP:20260419T141828
CREATED:20251002T053134Z
LAST-MODIFIED:20251031T064622Z
UID:10003058-1761902100-1761903000@kettleparkseniorliving.com
SUMMARY:News/Current Events
DESCRIPTION:
URL:https://kettleparkseniorliving.com/event-calendar/news-current-events-170/
LOCATION:Lounge Area
CATEGORIES:Memory Care
END:VEVENT
BEGIN:VEVENT
DTSTART;TZID=America/Chicago:20251031T093000
DTEND;TZID=America/Chicago:20251031T100000
DTSTAMP:20260419T141828
CREATED:20251002T053134Z
LAST-MODIFIED:20251031T064622Z
UID:10003061-1761903000-1761904800@kettleparkseniorliving.com
SUMMARY:Get Fit
DESCRIPTION:
URL:https://kettleparkseniorliving.com/event-calendar/get-fit-231/
LOCATION:Lounge Area
CATEGORIES:Memory Care
END:VEVENT
BEGIN:VEVENT
DTSTART;TZID=America/Chicago:20251031T100000
DTEND;TZID=America/Chicago:20251031T103000
DTSTAMP:20260419T141828
CREATED:20251002T053134Z
LAST-MODIFIED:20251031T064622Z
UID:10003060-1761904800-1761906600@kettleparkseniorliving.com
SUMMARY:Devotions with Chaplin Lee
DESCRIPTION:
URL:https://kettleparkseniorliving.com/event-calendar/devotions-with-chaplin-lee-48/
LOCATION:Lounge
CATEGORIES:Memory Care
END:VEVENT
BEGIN:VEVENT
DTSTART;TZID=America/Chicago:20251031T103000
DTEND;TZID=America/Chicago:20251031T110000
DTSTAMP:20260419T141828
CREATED:20251002T053134Z
LAST-MODIFIED:20251031T064622Z
UID:10003059-1761906600-1761908400@kettleparkseniorliving.com
SUMMARY:Coffee Clutch & Link Senior
DESCRIPTION:
URL:https://kettleparkseniorliving.com/event-calendar/coffee-clutch-link-senior-25/
LOCATION:Lounge
CATEGORIES:Memory Care
END:VEVENT
BEGIN:VEVENT
DTSTART;TZID=America/Chicago:20251031T113000
DTEND;TZID=America/Chicago:20251031T114500
DTSTAMP:20260419T141828
CREATED:20251004T053130Z
LAST-MODIFIED:20251031T064622Z
UID:10003109-1761910200-1761911100@kettleparkseniorliving.com
SUMMARY:Walking Group
DESCRIPTION:
URL:https://kettleparkseniorliving.com/event-calendar/walking-group-346/
CATEGORIES:Memory Care
END:VEVENT
BEGIN:VEVENT
DTSTART;TZID=America/Chicago:20251031T133000
DTEND;TZID=America/Chicago:20251031T150000
DTSTAMP:20260419T141828
CREATED:20251002T053134Z
LAST-MODIFIED:20251031T064622Z
UID:10003062-1761917400-1761922800@kettleparkseniorliving.com
SUMMARY:BINGO
DESCRIPTION:
URL:https://kettleparkseniorliving.com/event-calendar/bingo-86/
LOCATION:Dining Room
CATEGORIES:Memory Care
END:VEVENT
BEGIN:VEVENT
DTSTART;TZID=America/Chicago:20251031T150000
DTEND;TZID=America/Chicago:20251031T160000
DTSTAMP:20260419T141828
CREATED:20251002T053134Z
LAST-MODIFIED:20251031T064622Z
UID:10003063-1761922800-1761926400@kettleparkseniorliving.com
SUMMARY:Snack & Chat
DESCRIPTION:
URL:https://kettleparkseniorliving.com/event-calendar/snack-chat-88/
LOCATION:Lounge Area
CATEGORIES:Memory Care
END:VEVENT
BEGIN:VEVENT
DTSTART;TZID=America/Chicago:20251031T160000
DTEND;TZID=America/Chicago:20251031T161500
DTSTAMP:20260419T141828
CREATED:20251002T053135Z
LAST-MODIFIED:20251031T064622Z
UID:10003064-1761926400-1761927300@kettleparkseniorliving.com
SUMMARY:Walking Group
DESCRIPTION:
URL:https://kettleparkseniorliving.com/event-calendar/walking-group-315/
CATEGORIES:Memory Care
END:VEVENT
BEGIN:VEVENT
DTSTART;TZID=America/Chicago:20251031T160000
DTEND;TZID=America/Chicago:20251031T161500
DTSTAMP:20260419T141828
CREATED:20251002T053135Z
LAST-MODIFIED:20251003T053132Z
UID:10003065-1761926400-1761927300@kettleparkseniorliving.com
SUMMARY:Walking Group
DESCRIPTION:
URL:https://kettleparkseniorliving.com/event-calendar/walking-group-316/
CATEGORIES:Memory Care
END:VEVENT
BEGIN:VEVENT
DTSTART;TZID=America/Chicago:20251031T180000
DTEND;TZID=America/Chicago:20251031T193000
DTSTAMP:20260419T141828
CREATED:20251002T053135Z
LAST-MODIFIED:20251031T064622Z
UID:10003066-1761933600-1761939000@kettleparkseniorliving.com
SUMMARY:Friday Night Movie
DESCRIPTION:
URL:https://kettleparkseniorliving.com/event-calendar/friday-night-movie-50/
LOCATION:Lounge Area
CATEGORIES:Memory Care
END:VEVENT
BEGIN:VEVENT
DTSTART;TZID=America/Chicago:20251031T180000
DTEND;TZID=America/Chicago:20251031T200000
DTSTAMP:20260419T141828
CREATED:20251002T031635Z
LAST-MODIFIED:20251031T064622Z
UID:10003028-1761933600-1761940800@kettleparkseniorliving.com
SUMMARY:Trick or Treating
DESCRIPTION:
URL:https://kettleparkseniorliving.com/event-calendar/trick-or-treating/
LOCATION:Dining Room
CATEGORIES:Memory Care,Senior Living
END:VEVENT
BEGIN:VEVENT
DTSTART;TZID=America/Chicago:20251031T193000
DTEND;TZID=America/Chicago:20251031T200000
DTSTAMP:20260419T141828
CREATED:20251002T053135Z
LAST-MODIFIED:20251031T064619Z
UID:10003067-1761939000-1761940800@kettleparkseniorliving.com
SUMMARY:Evening Snack
DESCRIPTION:
URL:https://kettleparkseniorliving.com/event-calendar/evening-snack-171/
CATEGORIES:Memory Care
END:VEVENT
END:VCALENDAR