BEGIN:VCALENDAR
VERSION:2.0
PRODID:-//Kettle Park Senior Living - ECPv6.11.2.1//NONSGML v1.0//EN
CALSCALE:GREGORIAN
METHOD:PUBLISH
X-WR-CALNAME:Kettle Park Senior Living
X-ORIGINAL-URL:https://kettleparkseniorliving.com
X-WR-CALDESC:Events for Kettle Park Senior Living
REFRESH-INTERVAL;VALUE=DURATION:PT1H
X-Robots-Tag:noindex
X-PUBLISHED-TTL:PT1H
BEGIN:VTIMEZONE
TZID:America/Chicago
BEGIN:DAYLIGHT
TZOFFSETFROM:-0600
TZOFFSETTO:-0500
TZNAME:CDT
DTSTART:20250309T080000
END:DAYLIGHT
BEGIN:STANDARD
TZOFFSETFROM:-0500
TZOFFSETTO:-0600
TZNAME:CST
DTSTART:20251102T070000
END:STANDARD
END:VTIMEZONE
BEGIN:VEVENT
DTSTART;TZID=America/Chicago:20251106T091500
DTEND;TZID=America/Chicago:20251106T093000
DTSTAMP:20260419T161532
CREATED:20251008T053206Z
LAST-MODIFIED:20251106T070122Z
UID:10003170-1762420500-1762421400@kettleparkseniorliving.com
SUMMARY:News/Current Events
DESCRIPTION:
URL:https://kettleparkseniorliving.com/event-calendar/news-current-events-176/
LOCATION:Lounge Area
CATEGORIES:Memory Care
END:VEVENT
BEGIN:VEVENT
DTSTART;TZID=America/Chicago:20251106T093000
DTEND;TZID=America/Chicago:20251106T100000
DTSTAMP:20260419T161532
CREATED:20251008T053206Z
LAST-MODIFIED:20251106T070122Z
UID:10003171-1762421400-1762423200@kettleparkseniorliving.com
SUMMARY:Get Fit
DESCRIPTION:
URL:https://kettleparkseniorliving.com/event-calendar/get-fit-237/
LOCATION:Lounge Area
CATEGORIES:Memory Care
END:VEVENT
BEGIN:VEVENT
DTSTART;TZID=America/Chicago:20251106T100000
DTEND;TZID=America/Chicago:20251106T110000
DTSTAMP:20260419T161532
CREATED:20251008T053206Z
LAST-MODIFIED:20251106T070122Z
UID:10003172-1762423200-1762426800@kettleparkseniorliving.com
SUMMARY:Linked Senior
DESCRIPTION:
URL:https://kettleparkseniorliving.com/event-calendar/linked-senior-26/
LOCATION:Lounge Area
CATEGORIES:Memory Care
END:VEVENT
BEGIN:VEVENT
DTSTART;TZID=America/Chicago:20251106T110000
DTEND;TZID=America/Chicago:20251106T120000
DTSTAMP:20260419T161532
CREATED:20251008T053206Z
LAST-MODIFIED:20251106T070123Z
UID:10003173-1762426800-1762430400@kettleparkseniorliving.com
SUMMARY:Dog Visits w/ Lucy and Tink
DESCRIPTION:
URL:https://kettleparkseniorliving.com/event-calendar/dog-visits-w-lucy-and-tink-51/
LOCATION:Lounge Area
CATEGORIES:Memory Care
END:VEVENT
BEGIN:VEVENT
DTSTART;TZID=America/Chicago:20251106T113000
DTEND;TZID=America/Chicago:20251106T114500
DTSTAMP:20260419T161532
CREATED:20251008T053206Z
LAST-MODIFIED:20251106T070123Z
UID:10003174-1762428600-1762429500@kettleparkseniorliving.com
SUMMARY:Walking Group
DESCRIPTION:
URL:https://kettleparkseniorliving.com/event-calendar/walking-group-356/
CATEGORIES:Memory Care
END:VEVENT
BEGIN:VEVENT
DTSTART;TZID=America/Chicago:20251106T133000
DTEND;TZID=America/Chicago:20251106T150000
DTSTAMP:20260419T161532
CREATED:20251024T063148Z
LAST-MODIFIED:20251106T070123Z
UID:10003438-1762435800-1762441200@kettleparkseniorliving.com
SUMMARY:Bowling
DESCRIPTION:
URL:https://kettleparkseniorliving.com/event-calendar/bowling-5/
LOCATION:Lounge Area
CATEGORIES:Memory Care
END:VEVENT
BEGIN:VEVENT
DTSTART;TZID=America/Chicago:20251106T150000
DTEND;TZID=America/Chicago:20251106T160000
DTSTAMP:20260419T161532
CREATED:20251008T053206Z
LAST-MODIFIED:20251106T070123Z
UID:10003175-1762441200-1762444800@kettleparkseniorliving.com
SUMMARY:Snack & Chat
DESCRIPTION:
URL:https://kettleparkseniorliving.com/event-calendar/snack-chat-93/
LOCATION:Lounge Area
CATEGORIES:Memory Care
END:VEVENT
BEGIN:VEVENT
DTSTART;TZID=America/Chicago:20251106T160000
DTEND;TZID=America/Chicago:20251106T161500
DTSTAMP:20260419T161532
CREATED:20251008T053206Z
LAST-MODIFIED:20251106T070123Z
UID:10003176-1762444800-1762445700@kettleparkseniorliving.com
SUMMARY:Walking Group
DESCRIPTION:
URL:https://kettleparkseniorliving.com/event-calendar/walking-group-357/
CATEGORIES:Memory Care
END:VEVENT
BEGIN:VEVENT
DTSTART;TZID=America/Chicago:20251106T193000
DTEND;TZID=America/Chicago:20251106T200000
DTSTAMP:20260419T161532
CREATED:20251008T053206Z
LAST-MODIFIED:20251106T070123Z
UID:10003177-1762457400-1762459200@kettleparkseniorliving.com
SUMMARY:Evening Snack
DESCRIPTION:
URL:https://kettleparkseniorliving.com/event-calendar/evening-snack-177/
CATEGORIES:Memory Care
END:VEVENT
END:VCALENDAR