BEGIN:VCALENDAR
VERSION:2.0
PRODID:-//Kettle Park Senior Living - ECPv6.11.2.1//NONSGML v1.0//EN
CALSCALE:GREGORIAN
METHOD:PUBLISH
X-ORIGINAL-URL:https://kettleparkseniorliving.com
X-WR-CALDESC:Events for Kettle Park Senior Living
REFRESH-INTERVAL;VALUE=DURATION:PT1H
X-Robots-Tag:noindex
X-PUBLISHED-TTL:PT1H
BEGIN:VTIMEZONE
TZID:America/Chicago
BEGIN:DAYLIGHT
TZOFFSETFROM:-0600
TZOFFSETTO:-0500
TZNAME:CDT
DTSTART:20250309T080000
END:DAYLIGHT
BEGIN:STANDARD
TZOFFSETFROM:-0500
TZOFFSETTO:-0600
TZNAME:CST
DTSTART:20251102T070000
END:STANDARD
END:VTIMEZONE
BEGIN:VEVENT
DTSTART;TZID=America/Chicago:20251107T091500
DTEND;TZID=America/Chicago:20251107T093000
DTSTAMP:20260419T154712
CREATED:20251009T053141Z
LAST-MODIFIED:20251107T070121Z
UID:10003184-1762506900-1762507800@kettleparkseniorliving.com
SUMMARY:News/Current Events
DESCRIPTION:
URL:https://kettleparkseniorliving.com/event-calendar/news-current-events-177/
LOCATION:Lounge Area
CATEGORIES:Memory Care
END:VEVENT
BEGIN:VEVENT
DTSTART;TZID=America/Chicago:20251107T093000
DTEND;TZID=America/Chicago:20251107T100000
DTSTAMP:20260419T154712
CREATED:20251009T053141Z
LAST-MODIFIED:20251107T070122Z
UID:10003185-1762507800-1762509600@kettleparkseniorliving.com
SUMMARY:Get Fit
DESCRIPTION:
URL:https://kettleparkseniorliving.com/event-calendar/get-fit-238/
LOCATION:Lounge Area
CATEGORIES:Memory Care
END:VEVENT
BEGIN:VEVENT
DTSTART;TZID=America/Chicago:20251107T100000
DTEND;TZID=America/Chicago:20251107T103000
DTSTAMP:20260419T154712
CREATED:20251009T053141Z
LAST-MODIFIED:20251107T070122Z
UID:10003186-1762509600-1762511400@kettleparkseniorliving.com
SUMMARY:Devotions with Chaplin Lee
DESCRIPTION:
URL:https://kettleparkseniorliving.com/event-calendar/devotions-with-chaplin-lee-50/
LOCATION:Lounge
CATEGORIES:Memory Care
END:VEVENT
BEGIN:VEVENT
DTSTART;TZID=America/Chicago:20251107T103000
DTEND;TZID=America/Chicago:20251107T110000
DTSTAMP:20260419T154712
CREATED:20251009T053142Z
LAST-MODIFIED:20251107T070122Z
UID:10003187-1762511400-1762513200@kettleparkseniorliving.com
SUMMARY:Coffee Clutch & Link Senior
DESCRIPTION:
URL:https://kettleparkseniorliving.com/event-calendar/coffee-clutch-link-senior-26/
LOCATION:Lounge
CATEGORIES:Memory Care
END:VEVENT
BEGIN:VEVENT
DTSTART;TZID=America/Chicago:20251107T113000
DTEND;TZID=America/Chicago:20251107T114500
DTSTAMP:20260419T154712
CREATED:20251009T053142Z
LAST-MODIFIED:20251107T070122Z
UID:10003188-1762515000-1762515900@kettleparkseniorliving.com
SUMMARY:Walking Group
DESCRIPTION:
URL:https://kettleparkseniorliving.com/event-calendar/walking-group-358/
CATEGORIES:Memory Care
END:VEVENT
BEGIN:VEVENT
DTSTART;TZID=America/Chicago:20251107T133000
DTEND;TZID=America/Chicago:20251107T150000
DTSTAMP:20260419T154712
CREATED:20251009T053142Z
LAST-MODIFIED:20251107T070122Z
UID:10003189-1762522200-1762527600@kettleparkseniorliving.com
SUMMARY:BINGO
DESCRIPTION:
URL:https://kettleparkseniorliving.com/event-calendar/bingo-89/
LOCATION:Dining Room
CATEGORIES:Memory Care
END:VEVENT
BEGIN:VEVENT
DTSTART;TZID=America/Chicago:20251107T150000
DTEND;TZID=America/Chicago:20251107T160000
DTSTAMP:20260419T154712
CREATED:20251009T053142Z
LAST-MODIFIED:20251107T070122Z
UID:10003190-1762527600-1762531200@kettleparkseniorliving.com
SUMMARY:Snack & Chat
DESCRIPTION:
URL:https://kettleparkseniorliving.com/event-calendar/snack-chat-94/
LOCATION:Lounge Area
CATEGORIES:Memory Care
END:VEVENT
BEGIN:VEVENT
DTSTART;TZID=America/Chicago:20251107T160000
DTEND;TZID=America/Chicago:20251107T161500
DTSTAMP:20260419T154712
CREATED:20251009T053142Z
LAST-MODIFIED:20251107T070122Z
UID:10003191-1762531200-1762532100@kettleparkseniorliving.com
SUMMARY:Walking Group
DESCRIPTION:
URL:https://kettleparkseniorliving.com/event-calendar/walking-group-359/
CATEGORIES:Memory Care
END:VEVENT
BEGIN:VEVENT
DTSTART;TZID=America/Chicago:20251107T193000
DTEND;TZID=America/Chicago:20251107T200000
DTSTAMP:20260419T154712
CREATED:20251009T053142Z
LAST-MODIFIED:20251107T070122Z
UID:10003192-1762543800-1762545600@kettleparkseniorliving.com
SUMMARY:Evening Snack
DESCRIPTION:
URL:https://kettleparkseniorliving.com/event-calendar/evening-snack-178/
CATEGORIES:Memory Care
END:VEVENT
END:VCALENDAR