BEGIN:VCALENDAR
VERSION:2.0
PRODID:-//Kettle Park Senior Living - ECPv6.11.2.1//NONSGML v1.0//EN
CALSCALE:GREGORIAN
METHOD:PUBLISH
X-WR-CALNAME:Kettle Park Senior Living
X-ORIGINAL-URL:https://kettleparkseniorliving.com
X-WR-CALDESC:Events for Kettle Park Senior Living
REFRESH-INTERVAL;VALUE=DURATION:PT1H
X-Robots-Tag:noindex
X-PUBLISHED-TTL:PT1H
BEGIN:VTIMEZONE
TZID:America/Chicago
BEGIN:DAYLIGHT
TZOFFSETFROM:-0600
TZOFFSETTO:-0500
TZNAME:CDT
DTSTART:20250309T080000
END:DAYLIGHT
BEGIN:STANDARD
TZOFFSETFROM:-0500
TZOFFSETTO:-0600
TZNAME:CST
DTSTART:20251102T070000
END:STANDARD
END:VTIMEZONE
BEGIN:VEVENT
DTSTART;TZID=America/Chicago:20251127T091500
DTEND;TZID=America/Chicago:20251127T093000
DTSTAMP:20260419T154527
CREATED:20251029T064639Z
LAST-MODIFIED:20251127T074622Z
UID:10003519-1764234900-1764235800@kettleparkseniorliving.com
SUMMARY:News/Current Events
DESCRIPTION:
URL:https://kettleparkseniorliving.com/event-calendar/news-current-events-197/
LOCATION:Lounge Area
CATEGORIES:Memory Care
END:VEVENT
BEGIN:VEVENT
DTSTART;TZID=America/Chicago:20251127T093000
DTEND;TZID=America/Chicago:20251127T100000
DTSTAMP:20260419T154527
CREATED:20251029T064639Z
LAST-MODIFIED:20251127T074622Z
UID:10003520-1764235800-1764237600@kettleparkseniorliving.com
SUMMARY:Get Fit
DESCRIPTION:
URL:https://kettleparkseniorliving.com/event-calendar/get-fit-258/
LOCATION:Lounge Area
CATEGORIES:Memory Care
END:VEVENT
BEGIN:VEVENT
DTSTART;TZID=America/Chicago:20251127T100000
DTEND;TZID=America/Chicago:20251127T110000
DTSTAMP:20260419T154527
CREATED:20251029T064639Z
LAST-MODIFIED:20251127T074622Z
UID:10003521-1764237600-1764241200@kettleparkseniorliving.com
SUMMARY:Linked Senior
DESCRIPTION:
URL:https://kettleparkseniorliving.com/event-calendar/linked-senior-29/
LOCATION:Lounge Area
CATEGORIES:Memory Care
END:VEVENT
BEGIN:VEVENT
DTSTART;TZID=America/Chicago:20251127T110000
DTEND;TZID=America/Chicago:20251127T120000
DTSTAMP:20260419T154527
CREATED:20251029T064639Z
LAST-MODIFIED:20251106T070130Z
UID:10003522-1764241200-1764244800@kettleparkseniorliving.com
SUMMARY:Dog Visits w/ Lucy and Tink
DESCRIPTION:
URL:https://kettleparkseniorliving.com/event-calendar/dog-visits-w-lucy-and-tink-57/
LOCATION:Lounge Area
CATEGORIES:Memory Care
END:VEVENT
BEGIN:VEVENT
DTSTART;TZID=America/Chicago:20251127T113000
DTEND;TZID=America/Chicago:20251127T114500
DTSTAMP:20260419T154527
CREATED:20251029T064639Z
LAST-MODIFIED:20251127T074622Z
UID:10003523-1764243000-1764243900@kettleparkseniorliving.com
SUMMARY:Walking Group
DESCRIPTION:
URL:https://kettleparkseniorliving.com/event-calendar/walking-group-398/
CATEGORIES:Memory Care
END:VEVENT
BEGIN:VEVENT
DTSTART;TZID=America/Chicago:20251127T120000
DTEND;TZID=America/Chicago:20251127T150000
DTSTAMP:20260419T154527
CREATED:20251107T070128Z
LAST-MODIFIED:20251127T074622Z
UID:10003656-1764244800-1764255600@kettleparkseniorliving.com
SUMMARY:Packer/Lions
DESCRIPTION:
URL:https://kettleparkseniorliving.com/event-calendar/packer-lions/
CATEGORIES:Memory Care
END:VEVENT
BEGIN:VEVENT
DTSTART;TZID=America/Chicago:20251127T133000
DTEND;TZID=America/Chicago:20251127T150000
DTSTAMP:20260419T154527
CREATED:20251029T064639Z
LAST-MODIFIED:20251106T070130Z
UID:10003524-1764250200-1764255600@kettleparkseniorliving.com
SUMMARY:Bowling
DESCRIPTION:
URL:https://kettleparkseniorliving.com/event-calendar/bowling-8/
LOCATION:Lounge Area
CATEGORIES:Memory Care
END:VEVENT
BEGIN:VEVENT
DTSTART;TZID=America/Chicago:20251127T150000
DTEND;TZID=America/Chicago:20251127T160000
DTSTAMP:20260419T154527
CREATED:20251029T064639Z
LAST-MODIFIED:20251127T074622Z
UID:10003525-1764255600-1764259200@kettleparkseniorliving.com
SUMMARY:Snack & Chat
DESCRIPTION:
URL:https://kettleparkseniorliving.com/event-calendar/snack-chat-111/
LOCATION:Lounge Area
CATEGORIES:Memory Care
END:VEVENT
BEGIN:VEVENT
DTSTART;TZID=America/Chicago:20251127T160000
DTEND;TZID=America/Chicago:20251127T161500
DTSTAMP:20260419T154527
CREATED:20251029T064639Z
LAST-MODIFIED:20251127T074622Z
UID:10003526-1764259200-1764260100@kettleparkseniorliving.com
SUMMARY:Walking Group
DESCRIPTION:
URL:https://kettleparkseniorliving.com/event-calendar/walking-group-399/
CATEGORIES:Memory Care
END:VEVENT
BEGIN:VEVENT
DTSTART;TZID=America/Chicago:20251127T193000
DTEND;TZID=America/Chicago:20251127T200000
DTSTAMP:20260419T154527
CREATED:20251029T064639Z
LAST-MODIFIED:20251127T074622Z
UID:10003527-1764271800-1764273600@kettleparkseniorliving.com
SUMMARY:Evening Snack
DESCRIPTION:
URL:https://kettleparkseniorliving.com/event-calendar/evening-snack-198/
CATEGORIES:Memory Care
END:VEVENT
END:VCALENDAR