BEGIN:VCALENDAR
VERSION:2.0
PRODID:-//Kettle Park Senior Living - ECPv6.11.2.1//NONSGML v1.0//EN
CALSCALE:GREGORIAN
METHOD:PUBLISH
X-ORIGINAL-URL:https://kettleparkseniorliving.com
X-WR-CALDESC:Events for Kettle Park Senior Living
REFRESH-INTERVAL;VALUE=DURATION:PT1H
X-Robots-Tag:noindex
X-PUBLISHED-TTL:PT1H
BEGIN:VTIMEZONE
TZID:America/Chicago
BEGIN:DAYLIGHT
TZOFFSETFROM:-0600
TZOFFSETTO:-0500
TZNAME:CDT
DTSTART:20250309T080000
END:DAYLIGHT
BEGIN:STANDARD
TZOFFSETFROM:-0500
TZOFFSETTO:-0600
TZNAME:CST
DTSTART:20251102T070000
END:STANDARD
END:VTIMEZONE
BEGIN:VEVENT
DTSTART;TZID=America/Chicago:20251207T091500
DTEND;TZID=America/Chicago:20251207T093000
DTSTAMP:20260419T175541
CREATED:20251108T070136Z
LAST-MODIFIED:20251207T003121Z
UID:10003669-1765098900-1765099800@kettleparkseniorliving.com
SUMMARY:News/Current Events
DESCRIPTION:
URL:https://kettleparkseniorliving.com/event-calendar/news-current-events-207/
LOCATION:Lounge Area
CATEGORIES:Memory Care
END:VEVENT
BEGIN:VEVENT
DTSTART;TZID=America/Chicago:20251207T093000
DTEND;TZID=America/Chicago:20251207T100000
DTSTAMP:20260419T175541
CREATED:20251108T070136Z
LAST-MODIFIED:20251207T003121Z
UID:10003670-1765099800-1765101600@kettleparkseniorliving.com
SUMMARY:Get Fit
DESCRIPTION:
URL:https://kettleparkseniorliving.com/event-calendar/get-fit-268/
LOCATION:Lounge Area
CATEGORIES:Memory Care
END:VEVENT
BEGIN:VEVENT
DTSTART;TZID=America/Chicago:20251207T100000
DTEND;TZID=America/Chicago:20251207T103000
DTSTAMP:20260419T175541
CREATED:20251108T070136Z
LAST-MODIFIED:20251207T003121Z
UID:10003671-1765101600-1765103400@kettleparkseniorliving.com
SUMMARY:TV Church Service
DESCRIPTION:
URL:https://kettleparkseniorliving.com/event-calendar/tv-church-service-30/
LOCATION:Lounge Area
CATEGORIES:Memory Care
END:VEVENT
BEGIN:VEVENT
DTSTART;TZID=America/Chicago:20251207T103000
DTEND;TZID=America/Chicago:20251207T113000
DTSTAMP:20260419T175541
CREATED:20251108T070137Z
LAST-MODIFIED:20251207T003121Z
UID:10003672-1765103400-1765107000@kettleparkseniorliving.com
SUMMARY:Hymn Sing
DESCRIPTION:
URL:https://kettleparkseniorliving.com/event-calendar/hymn-sing-42/
LOCATION:Lounge Area
CATEGORIES:Memory Care
END:VEVENT
BEGIN:VEVENT
DTSTART;TZID=America/Chicago:20251207T113000
DTEND;TZID=America/Chicago:20251207T114500
DTSTAMP:20260419T175541
CREATED:20251108T070137Z
LAST-MODIFIED:20251207T003121Z
UID:10003673-1765107000-1765107900@kettleparkseniorliving.com
SUMMARY:Walking Group
DESCRIPTION:
URL:https://kettleparkseniorliving.com/event-calendar/walking-group-418/
CATEGORIES:Memory Care
END:VEVENT
BEGIN:VEVENT
DTSTART;TZID=America/Chicago:20251207T133000
DTEND;TZID=America/Chicago:20251207T143000
DTSTAMP:20260419T175541
CREATED:20251108T070137Z
LAST-MODIFIED:20251207T003121Z
UID:10003674-1765114200-1765117800@kettleparkseniorliving.com
SUMMARY:Word Games
DESCRIPTION:
URL:https://kettleparkseniorliving.com/event-calendar/word-games-30/
LOCATION:Lounge Area
CATEGORIES:Memory Care
END:VEVENT
BEGIN:VEVENT
DTSTART;TZID=America/Chicago:20251207T143000
DTEND;TZID=America/Chicago:20251207T150000
DTSTAMP:20260419T175541
CREATED:20251108T070137Z
LAST-MODIFIED:20251207T003121Z
UID:10003675-1765117800-1765119600@kettleparkseniorliving.com
SUMMARY:Active Game
DESCRIPTION:
URL:https://kettleparkseniorliving.com/event-calendar/active-game-113/
LOCATION:Lounge Area
CATEGORIES:Memory Care
END:VEVENT
BEGIN:VEVENT
DTSTART;TZID=America/Chicago:20251207T150000
DTEND;TZID=America/Chicago:20251207T160000
DTSTAMP:20260419T175541
CREATED:20251108T070137Z
LAST-MODIFIED:20251207T003132Z
UID:10003676-1765119600-1765123200@kettleparkseniorliving.com
SUMMARY:Snack & Chat
DESCRIPTION:
URL:https://kettleparkseniorliving.com/event-calendar/snack-chat-120/
LOCATION:Lounge Area
CATEGORIES:Memory Care
END:VEVENT
BEGIN:VEVENT
DTSTART;TZID=America/Chicago:20251207T152500
DTEND;TZID=America/Chicago:20251207T170000
DTSTAMP:20260419T175541
CREATED:20251205T003140Z
LAST-MODIFIED:20251207T003132Z
UID:10004065-1765121100-1765126800@kettleparkseniorliving.com
SUMMARY:Packers/Bears
DESCRIPTION:
URL:https://kettleparkseniorliving.com/event-calendar/packers-bears/
LOCATION:TV Room
CATEGORIES:Memory Care
END:VEVENT
BEGIN:VEVENT
DTSTART;TZID=America/Chicago:20251207T160000
DTEND;TZID=America/Chicago:20251207T161500
DTSTAMP:20260419T175541
CREATED:20251108T070137Z
LAST-MODIFIED:20251207T003132Z
UID:10003677-1765123200-1765124100@kettleparkseniorliving.com
SUMMARY:Walking Group
DESCRIPTION:
URL:https://kettleparkseniorliving.com/event-calendar/walking-group-419/
CATEGORIES:Memory Care
END:VEVENT
BEGIN:VEVENT
DTSTART;TZID=America/Chicago:20251207T180000
DTEND;TZID=America/Chicago:20251207T193000
DTSTAMP:20260419T175541
CREATED:20251108T070137Z
LAST-MODIFIED:20251208T003149Z
UID:10003678-1765130400-1765135800@kettleparkseniorliving.com
SUMMARY:Active Games
DESCRIPTION:
URL:https://kettleparkseniorliving.com/event-calendar/active-games-30/
LOCATION:Lounge Area
CATEGORIES:Memory Care
END:VEVENT
BEGIN:VEVENT
DTSTART;TZID=America/Chicago:20251207T193000
DTEND;TZID=America/Chicago:20251207T200000
DTSTAMP:20260419T175541
CREATED:20251108T070137Z
LAST-MODIFIED:20251208T003149Z
UID:10003679-1765135800-1765137600@kettleparkseniorliving.com
SUMMARY:Evening Snack
DESCRIPTION:
URL:https://kettleparkseniorliving.com/event-calendar/evening-snack-208/
CATEGORIES:Memory Care
END:VEVENT
END:VCALENDAR