BEGIN:VCALENDAR
VERSION:2.0
PRODID:-//Kettle Park Senior Living - ECPv6.11.2.1//NONSGML v1.0//EN
CALSCALE:GREGORIAN
METHOD:PUBLISH
X-WR-CALNAME:Kettle Park Senior Living
X-ORIGINAL-URL:https://kettleparkseniorliving.com
X-WR-CALDESC:Events for Kettle Park Senior Living
REFRESH-INTERVAL;VALUE=DURATION:PT1H
X-Robots-Tag:noindex
X-PUBLISHED-TTL:PT1H
BEGIN:VTIMEZONE
TZID:America/Chicago
BEGIN:DAYLIGHT
TZOFFSETFROM:-0600
TZOFFSETTO:-0500
TZNAME:CDT
DTSTART:20250309T080000
END:DAYLIGHT
BEGIN:STANDARD
TZOFFSETFROM:-0500
TZOFFSETTO:-0600
TZNAME:CST
DTSTART:20251102T070000
END:STANDARD
END:VTIMEZONE
BEGIN:VEVENT
DTSTART;TZID=America/Chicago:20251208T091500
DTEND;TZID=America/Chicago:20251208T093000
DTSTAMP:20260419T192617
CREATED:20251109T070131Z
LAST-MODIFIED:20251208T003149Z
UID:10003688-1765185300-1765186200@kettleparkseniorliving.com
SUMMARY:News/Current Events
DESCRIPTION:
URL:https://kettleparkseniorliving.com/event-calendar/news-current-events-208/
LOCATION:Lounge Area
CATEGORIES:Memory Care
END:VEVENT
BEGIN:VEVENT
DTSTART;TZID=America/Chicago:20251208T093000
DTEND;TZID=America/Chicago:20251208T100000
DTSTAMP:20260419T192617
CREATED:20251109T070131Z
LAST-MODIFIED:20251208T003149Z
UID:10003687-1765186200-1765188000@kettleparkseniorliving.com
SUMMARY:Get Fit
DESCRIPTION:
URL:https://kettleparkseniorliving.com/event-calendar/get-fit-269/
LOCATION:Lounge Area
CATEGORIES:Memory Care
END:VEVENT
BEGIN:VEVENT
DTSTART;TZID=America/Chicago:20251208T100000
DTEND;TZID=America/Chicago:20251208T103000
DTSTAMP:20260419T192617
CREATED:20251109T070131Z
LAST-MODIFIED:20251208T003149Z
UID:10003686-1765188000-1765189800@kettleparkseniorliving.com
SUMMARY:Coffee Clutch & Linked Senior
DESCRIPTION:
URL:https://kettleparkseniorliving.com/event-calendar/coffee-clutch-linked-senior-29/
LOCATION:Lounge
CATEGORIES:Memory Care
END:VEVENT
BEGIN:VEVENT
DTSTART;TZID=America/Chicago:20251208T113000
DTEND;TZID=America/Chicago:20251208T114500
DTSTAMP:20260419T192617
CREATED:20251109T070131Z
LAST-MODIFIED:20251208T003149Z
UID:10003689-1765193400-1765194300@kettleparkseniorliving.com
SUMMARY:Walking Group
DESCRIPTION:
URL:https://kettleparkseniorliving.com/event-calendar/walking-group-420/
CATEGORIES:Memory Care
END:VEVENT
BEGIN:VEVENT
DTSTART;TZID=America/Chicago:20251208T134500
DTEND;TZID=America/Chicago:20251208T143000
DTSTAMP:20260419T192617
CREATED:20251109T070131Z
LAST-MODIFIED:20251208T003149Z
UID:10003690-1765201500-1765204200@kettleparkseniorliving.com
SUMMARY:UMC Devotions
DESCRIPTION:
URL:https://kettleparkseniorliving.com/event-calendar/umc-devotions-58/
LOCATION:Lounge Area
CATEGORIES:Memory Care
END:VEVENT
BEGIN:VEVENT
DTSTART;TZID=America/Chicago:20251208T140000
DTEND;TZID=America/Chicago:20251208T150000
DTSTAMP:20260419T192617
CREATED:20251109T034626Z
LAST-MODIFIED:20251208T004624Z
UID:10003684-1765202400-1765206000@kettleparkseniorliving.com
SUMMARY:Entertainment-Stella Maris Outreach Choir
DESCRIPTION:
URL:https://kettleparkseniorliving.com/event-calendar/entertainment-stella-maris-outreach-choir/
LOCATION:Dining Room
CATEGORIES:Memory Care,Senior Living
END:VEVENT
BEGIN:VEVENT
DTSTART;TZID=America/Chicago:20251208T143000
DTEND;TZID=America/Chicago:20251208T150000
DTSTAMP:20260419T192617
CREATED:20251109T070131Z
LAST-MODIFIED:20251208T003150Z
UID:10003691-1765204200-1765206000@kettleparkseniorliving.com
SUMMARY:Scattagories
DESCRIPTION:
URL:https://kettleparkseniorliving.com/event-calendar/scattagories-17/
LOCATION:Lounge
CATEGORIES:Memory Care
END:VEVENT
BEGIN:VEVENT
DTSTART;TZID=America/Chicago:20251208T150000
DTEND;TZID=America/Chicago:20251208T160000
DTSTAMP:20260419T192617
CREATED:20251109T070131Z
LAST-MODIFIED:20251208T003148Z
UID:10003692-1765206000-1765209600@kettleparkseniorliving.com
SUMMARY:Happy Hour
DESCRIPTION:
URL:https://kettleparkseniorliving.com/event-calendar/happy-hour-55/
LOCATION:Lounge Area
CATEGORIES:Memory Care
END:VEVENT
BEGIN:VEVENT
DTSTART;TZID=America/Chicago:20251208T160000
DTEND;TZID=America/Chicago:20251208T161500
DTSTAMP:20260419T192617
CREATED:20251109T070131Z
LAST-MODIFIED:20251208T003150Z
UID:10003693-1765209600-1765210500@kettleparkseniorliving.com
SUMMARY:Walking Group
DESCRIPTION:
URL:https://kettleparkseniorliving.com/event-calendar/walking-group-421/
CATEGORIES:Memory Care
END:VEVENT
BEGIN:VEVENT
DTSTART;TZID=America/Chicago:20251208T193000
DTEND;TZID=America/Chicago:20251208T200000
DTSTAMP:20260419T192617
CREATED:20251109T070132Z
LAST-MODIFIED:20251209T003134Z
UID:10003694-1765222200-1765224000@kettleparkseniorliving.com
SUMMARY:Evening Snack
DESCRIPTION:
URL:https://kettleparkseniorliving.com/event-calendar/evening-snack-209/
CATEGORIES:Memory Care
END:VEVENT
END:VCALENDAR