BEGIN:VCALENDAR
VERSION:2.0
PRODID:-//Kettle Park Senior Living - ECPv6.11.2.1//NONSGML v1.0//EN
CALSCALE:GREGORIAN
METHOD:PUBLISH
X-ORIGINAL-URL:https://kettleparkseniorliving.com
X-WR-CALDESC:Events for Kettle Park Senior Living
REFRESH-INTERVAL;VALUE=DURATION:PT1H
X-Robots-Tag:noindex
X-PUBLISHED-TTL:PT1H
BEGIN:VTIMEZONE
TZID:America/Chicago
BEGIN:DAYLIGHT
TZOFFSETFROM:-0600
TZOFFSETTO:-0500
TZNAME:CDT
DTSTART:20250309T080000
END:DAYLIGHT
BEGIN:STANDARD
TZOFFSETFROM:-0500
TZOFFSETTO:-0600
TZNAME:CST
DTSTART:20251102T070000
END:STANDARD
END:VTIMEZONE
BEGIN:VEVENT
DTSTART;TZID=America/Chicago:20251210T091500
DTEND;TZID=America/Chicago:20251210T093000
DTSTAMP:20260419T224013
CREATED:20251111T070135Z
LAST-MODIFIED:20251210T004627Z
UID:10003722-1765358100-1765359000@kettleparkseniorliving.com
SUMMARY:News/Current Events
DESCRIPTION:
URL:https://kettleparkseniorliving.com/event-calendar/news-current-events-210/
LOCATION:Lounge Area
CATEGORIES:Memory Care
END:VEVENT
BEGIN:VEVENT
DTSTART;TZID=America/Chicago:20251210T093000
DTEND;TZID=America/Chicago:20251210T100000
DTSTAMP:20260419T224013
CREATED:20251111T070135Z
LAST-MODIFIED:20251210T004627Z
UID:10003723-1765359000-1765360800@kettleparkseniorliving.com
SUMMARY:Get Fit
DESCRIPTION:
URL:https://kettleparkseniorliving.com/event-calendar/get-fit-271/
LOCATION:Lounge Area
CATEGORIES:Memory Care
END:VEVENT
BEGIN:VEVENT
DTSTART;TZID=America/Chicago:20251210T100000
DTEND;TZID=America/Chicago:20251210T110000
DTSTAMP:20260419T224013
CREATED:20251111T070136Z
LAST-MODIFIED:20251210T004627Z
UID:10003724-1765360800-1765364400@kettleparkseniorliving.com
SUMMARY:Coffee Clutch / Link Senior
DESCRIPTION:
URL:https://kettleparkseniorliving.com/event-calendar/coffee-clutch-link-senior-35/
LOCATION:Lounge
CATEGORIES:Memory Care
END:VEVENT
BEGIN:VEVENT
DTSTART;TZID=America/Chicago:20251210T113000
DTEND;TZID=America/Chicago:20251210T114500
DTSTAMP:20260419T224013
CREATED:20251111T070136Z
LAST-MODIFIED:20251210T004627Z
UID:10003725-1765366200-1765367100@kettleparkseniorliving.com
SUMMARY:Walking Group
DESCRIPTION:
URL:https://kettleparkseniorliving.com/event-calendar/walking-group-424/
CATEGORIES:Memory Care
END:VEVENT
BEGIN:VEVENT
DTSTART;TZID=America/Chicago:20251210T133000
DTEND;TZID=America/Chicago:20251210T143000
DTSTAMP:20260419T224013
CREATED:20251111T070136Z
LAST-MODIFIED:20251210T004627Z
UID:10003726-1765373400-1765377000@kettleparkseniorliving.com
SUMMARY:Bean Bags
DESCRIPTION:
URL:https://kettleparkseniorliving.com/event-calendar/bean-bags-5/
LOCATION:Lounge Area
CATEGORIES:Memory Care
END:VEVENT
BEGIN:VEVENT
DTSTART;TZID=America/Chicago:20251210T140000
DTEND;TZID=America/Chicago:20251210T150000
DTSTAMP:20260419T224013
CREATED:20251118T041628Z
LAST-MODIFIED:20251210T010204Z
UID:10003821-1765375200-1765378800@kettleparkseniorliving.com
SUMMARY:Entertainment-Craig Siemson
DESCRIPTION:
URL:https://kettleparkseniorliving.com/event-calendar/entertainment-craig-siemson-2/
LOCATION:Dining Room
CATEGORIES:Memory Care,Senior Living
END:VEVENT
BEGIN:VEVENT
DTSTART;TZID=America/Chicago:20251210T150000
DTEND;TZID=America/Chicago:20251210T160000
DTSTAMP:20260419T224013
CREATED:20251111T070136Z
LAST-MODIFIED:20251210T004627Z
UID:10003727-1765378800-1765382400@kettleparkseniorliving.com
SUMMARY:Snack & Chat
DESCRIPTION:
URL:https://kettleparkseniorliving.com/event-calendar/snack-chat-122/
LOCATION:Lounge Area
CATEGORIES:Memory Care
END:VEVENT
BEGIN:VEVENT
DTSTART;TZID=America/Chicago:20251210T160000
DTEND;TZID=America/Chicago:20251210T161500
DTSTAMP:20260419T224013
CREATED:20251111T070136Z
LAST-MODIFIED:20251210T004627Z
UID:10003728-1765382400-1765383300@kettleparkseniorliving.com
SUMMARY:Walking Group
DESCRIPTION:
URL:https://kettleparkseniorliving.com/event-calendar/walking-group-425/
CATEGORIES:Memory Care
END:VEVENT
BEGIN:VEVENT
DTSTART;TZID=America/Chicago:20251210T193000
DTEND;TZID=America/Chicago:20251210T200000
DTSTAMP:20260419T224013
CREATED:20251111T070136Z
LAST-MODIFIED:20251211T004629Z
UID:10003729-1765395000-1765396800@kettleparkseniorliving.com
SUMMARY:Evening Snack
DESCRIPTION:
URL:https://kettleparkseniorliving.com/event-calendar/evening-snack-211/
CATEGORIES:Memory Care
END:VEVENT
END:VCALENDAR