BEGIN:VCALENDAR
VERSION:2.0
PRODID:-//Kettle Park Senior Living - ECPv6.11.2.1//NONSGML v1.0//EN
CALSCALE:GREGORIAN
METHOD:PUBLISH
X-WR-CALNAME:Kettle Park Senior Living
X-ORIGINAL-URL:https://kettleparkseniorliving.com
X-WR-CALDESC:Events for Kettle Park Senior Living
REFRESH-INTERVAL;VALUE=DURATION:PT1H
X-Robots-Tag:noindex
X-PUBLISHED-TTL:PT1H
BEGIN:VTIMEZONE
TZID:America/Chicago
BEGIN:DAYLIGHT
TZOFFSETFROM:-0600
TZOFFSETTO:-0500
TZNAME:CDT
DTSTART:20250309T080000
END:DAYLIGHT
BEGIN:STANDARD
TZOFFSETFROM:-0500
TZOFFSETTO:-0600
TZNAME:CST
DTSTART:20251102T070000
END:STANDARD
END:VTIMEZONE
BEGIN:VEVENT
DTSTART;TZID=America/Chicago:20251212T091500
DTEND;TZID=America/Chicago:20251212T093000
DTSTAMP:20260420T014922
CREATED:20251113T070143Z
LAST-MODIFIED:20251212T004715Z
UID:10003751-1765530900-1765531800@kettleparkseniorliving.com
SUMMARY:News/Current Events
DESCRIPTION:
URL:https://kettleparkseniorliving.com/event-calendar/news-current-events-212/
LOCATION:Lounge Area
CATEGORIES:Memory Care
END:VEVENT
BEGIN:VEVENT
DTSTART;TZID=America/Chicago:20251212T093000
DTEND;TZID=America/Chicago:20251212T100000
DTSTAMP:20260420T014922
CREATED:20251113T070144Z
LAST-MODIFIED:20251212T004715Z
UID:10003752-1765531800-1765533600@kettleparkseniorliving.com
SUMMARY:Get Fit
DESCRIPTION:
URL:https://kettleparkseniorliving.com/event-calendar/get-fit-273/
LOCATION:Lounge Area
CATEGORIES:Memory Care
END:VEVENT
BEGIN:VEVENT
DTSTART;TZID=America/Chicago:20251212T100000
DTEND;TZID=America/Chicago:20251212T103000
DTSTAMP:20260420T014922
CREATED:20251113T070144Z
LAST-MODIFIED:20251212T004715Z
UID:10003753-1765533600-1765535400@kettleparkseniorliving.com
SUMMARY:Devotions with Chaplin Lee
DESCRIPTION:
URL:https://kettleparkseniorliving.com/event-calendar/devotions-with-chaplin-lee-60/
LOCATION:Lounge
CATEGORIES:Memory Care
END:VEVENT
BEGIN:VEVENT
DTSTART;TZID=America/Chicago:20251212T103000
DTEND;TZID=America/Chicago:20251212T110000
DTSTAMP:20260420T014922
CREATED:20251113T070144Z
LAST-MODIFIED:20251212T004715Z
UID:10003754-1765535400-1765537200@kettleparkseniorliving.com
SUMMARY:Coffee Clutch & Link Senior
DESCRIPTION:
URL:https://kettleparkseniorliving.com/event-calendar/coffee-clutch-link-senior-36/
LOCATION:Lounge
CATEGORIES:Memory Care
END:VEVENT
BEGIN:VEVENT
DTSTART;TZID=America/Chicago:20251212T113000
DTEND;TZID=America/Chicago:20251212T114500
DTSTAMP:20260420T014922
CREATED:20251113T070144Z
LAST-MODIFIED:20251212T004715Z
UID:10003755-1765539000-1765539900@kettleparkseniorliving.com
SUMMARY:Walking Group
DESCRIPTION:
URL:https://kettleparkseniorliving.com/event-calendar/walking-group-428/
CATEGORIES:Memory Care
END:VEVENT
BEGIN:VEVENT
DTSTART;TZID=America/Chicago:20251212T133000
DTEND;TZID=America/Chicago:20251212T150000
DTSTAMP:20260420T014922
CREATED:20251113T070144Z
LAST-MODIFIED:20251204T003127Z
UID:10003756-1765546200-1765551600@kettleparkseniorliving.com
SUMMARY:BINGO
DESCRIPTION:
URL:https://kettleparkseniorliving.com/event-calendar/bingo-104/
LOCATION:Dining Room
CATEGORIES:Memory Care
END:VEVENT
BEGIN:VEVENT
DTSTART;TZID=America/Chicago:20251212T140000
DTEND;TZID=America/Chicago:20251212T150000
DTSTAMP:20260420T014922
CREATED:20251205T003141Z
LAST-MODIFIED:20251212T004715Z
UID:10004066-1765548000-1765551600@kettleparkseniorliving.com
SUMMARY:Entertainment w Mark
DESCRIPTION:
URL:https://kettleparkseniorliving.com/event-calendar/entertainment-w-mark/
LOCATION:Fireplace Lounge
CATEGORIES:Memory Care
END:VEVENT
BEGIN:VEVENT
DTSTART;TZID=America/Chicago:20251212T150000
DTEND;TZID=America/Chicago:20251212T160000
DTSTAMP:20260420T014922
CREATED:20251113T070144Z
LAST-MODIFIED:20251212T004715Z
UID:10003757-1765551600-1765555200@kettleparkseniorliving.com
SUMMARY:Snack & Chat
DESCRIPTION:
URL:https://kettleparkseniorliving.com/event-calendar/snack-chat-124/
LOCATION:Lounge Area
CATEGORIES:Memory Care
END:VEVENT
BEGIN:VEVENT
DTSTART;TZID=America/Chicago:20251212T160000
DTEND;TZID=America/Chicago:20251212T161500
DTSTAMP:20260420T014922
CREATED:20251113T070144Z
LAST-MODIFIED:20251212T004715Z
UID:10003758-1765555200-1765556100@kettleparkseniorliving.com
SUMMARY:Walking Group
DESCRIPTION:
URL:https://kettleparkseniorliving.com/event-calendar/walking-group-429/
CATEGORIES:Memory Care
END:VEVENT
BEGIN:VEVENT
DTSTART;TZID=America/Chicago:20251212T193000
DTEND;TZID=America/Chicago:20251212T200000
DTSTAMP:20260420T014922
CREATED:20251113T070144Z
LAST-MODIFIED:20251213T004630Z
UID:10003759-1765567800-1765569600@kettleparkseniorliving.com
SUMMARY:Evening Snack
DESCRIPTION:
URL:https://kettleparkseniorliving.com/event-calendar/evening-snack-213/
CATEGORIES:Memory Care
END:VEVENT
END:VCALENDAR