BEGIN:VCALENDAR
VERSION:2.0
PRODID:-//Kettle Park Senior Living - ECPv6.11.2.1//NONSGML v1.0//EN
CALSCALE:GREGORIAN
METHOD:PUBLISH
X-WR-CALNAME:Kettle Park Senior Living
X-ORIGINAL-URL:https://kettleparkseniorliving.com
X-WR-CALDESC:Events for Kettle Park Senior Living
REFRESH-INTERVAL;VALUE=DURATION:PT1H
X-Robots-Tag:noindex
X-PUBLISHED-TTL:PT1H
BEGIN:VTIMEZONE
TZID:America/Chicago
BEGIN:DAYLIGHT
TZOFFSETFROM:-0600
TZOFFSETTO:-0500
TZNAME:CDT
DTSTART:20250309T080000
END:DAYLIGHT
BEGIN:STANDARD
TZOFFSETFROM:-0500
TZOFFSETTO:-0600
TZNAME:CST
DTSTART:20251102T070000
END:STANDARD
END:VTIMEZONE
BEGIN:VEVENT
DTSTART;TZID=America/Chicago:20251214T091500
DTEND;TZID=America/Chicago:20251214T093000
DTSTAMP:20260420T050312
CREATED:20251115T070130Z
LAST-MODIFIED:20251214T010123Z
UID:10003774-1765703700-1765704600@kettleparkseniorliving.com
SUMMARY:News/Current Events
DESCRIPTION:
URL:https://kettleparkseniorliving.com/event-calendar/news-current-events-214/
LOCATION:Lounge Area
CATEGORIES:Memory Care
END:VEVENT
BEGIN:VEVENT
DTSTART;TZID=America/Chicago:20251214T093000
DTEND;TZID=America/Chicago:20251214T100000
DTSTAMP:20260420T050312
CREATED:20251115T070130Z
LAST-MODIFIED:20251214T010123Z
UID:10003775-1765704600-1765706400@kettleparkseniorliving.com
SUMMARY:Get Fit
DESCRIPTION:
URL:https://kettleparkseniorliving.com/event-calendar/get-fit-275/
LOCATION:Lounge Area
CATEGORIES:Memory Care
END:VEVENT
BEGIN:VEVENT
DTSTART;TZID=America/Chicago:20251214T100000
DTEND;TZID=America/Chicago:20251214T103000
DTSTAMP:20260420T050312
CREATED:20251115T070130Z
LAST-MODIFIED:20251214T010123Z
UID:10003776-1765706400-1765708200@kettleparkseniorliving.com
SUMMARY:TV Church Service
DESCRIPTION:
URL:https://kettleparkseniorliving.com/event-calendar/tv-church-service-31/
LOCATION:Lounge Area
CATEGORIES:Memory Care
END:VEVENT
BEGIN:VEVENT
DTSTART;TZID=America/Chicago:20251214T103000
DTEND;TZID=America/Chicago:20251214T113000
DTSTAMP:20260420T050312
CREATED:20251115T070130Z
LAST-MODIFIED:20251214T010123Z
UID:10003777-1765708200-1765711800@kettleparkseniorliving.com
SUMMARY:Hymn Sing
DESCRIPTION:
URL:https://kettleparkseniorliving.com/event-calendar/hymn-sing-43/
LOCATION:Lounge Area
CATEGORIES:Memory Care
END:VEVENT
BEGIN:VEVENT
DTSTART;TZID=America/Chicago:20251214T113000
DTEND;TZID=America/Chicago:20251214T114500
DTSTAMP:20260420T050312
CREATED:20251115T070130Z
LAST-MODIFIED:20251214T010123Z
UID:10003778-1765711800-1765712700@kettleparkseniorliving.com
SUMMARY:Walking Group
DESCRIPTION:
URL:https://kettleparkseniorliving.com/event-calendar/walking-group-432/
CATEGORIES:Memory Care
END:VEVENT
BEGIN:VEVENT
DTSTART;TZID=America/Chicago:20251214T133000
DTEND;TZID=America/Chicago:20251214T143000
DTSTAMP:20260420T050312
CREATED:20251115T070130Z
LAST-MODIFIED:20251214T010123Z
UID:10003779-1765719000-1765722600@kettleparkseniorliving.com
SUMMARY:Word Games
DESCRIPTION:
URL:https://kettleparkseniorliving.com/event-calendar/word-games-31/
LOCATION:Lounge Area
CATEGORIES:Memory Care
END:VEVENT
BEGIN:VEVENT
DTSTART;TZID=America/Chicago:20251214T143000
DTEND;TZID=America/Chicago:20251214T150000
DTSTAMP:20260420T050312
CREATED:20251115T070130Z
LAST-MODIFIED:20251214T010123Z
UID:10003780-1765722600-1765724400@kettleparkseniorliving.com
SUMMARY:Active Game
DESCRIPTION:
URL:https://kettleparkseniorliving.com/event-calendar/active-game-116/
LOCATION:Lounge Area
CATEGORIES:Memory Care
END:VEVENT
BEGIN:VEVENT
DTSTART;TZID=America/Chicago:20251214T150000
DTEND;TZID=America/Chicago:20251214T160000
DTSTAMP:20260420T050312
CREATED:20251115T070130Z
LAST-MODIFIED:20251214T010123Z
UID:10003781-1765724400-1765728000@kettleparkseniorliving.com
SUMMARY:Snack & Chat
DESCRIPTION:
URL:https://kettleparkseniorliving.com/event-calendar/snack-chat-126/
LOCATION:Lounge Area
CATEGORIES:Memory Care
END:VEVENT
BEGIN:VEVENT
DTSTART;TZID=America/Chicago:20251214T160000
DTEND;TZID=America/Chicago:20251214T161500
DTSTAMP:20260420T050312
CREATED:20251115T070130Z
LAST-MODIFIED:20251214T010134Z
UID:10003782-1765728000-1765728900@kettleparkseniorliving.com
SUMMARY:Walking Group
DESCRIPTION:
URL:https://kettleparkseniorliving.com/event-calendar/walking-group-433/
CATEGORIES:Memory Care
END:VEVENT
BEGIN:VEVENT
DTSTART;TZID=America/Chicago:20251214T180000
DTEND;TZID=America/Chicago:20251214T193000
DTSTAMP:20260420T050312
CREATED:20251115T070130Z
LAST-MODIFIED:20251215T011621Z
UID:10003783-1765735200-1765740600@kettleparkseniorliving.com
SUMMARY:Active Games
DESCRIPTION:
URL:https://kettleparkseniorliving.com/event-calendar/active-games-31/
LOCATION:Lounge Area
CATEGORIES:Memory Care
END:VEVENT
BEGIN:VEVENT
DTSTART;TZID=America/Chicago:20251214T193000
DTEND;TZID=America/Chicago:20251214T200000
DTSTAMP:20260420T050312
CREATED:20251115T070130Z
LAST-MODIFIED:20251215T011621Z
UID:10003784-1765740600-1765742400@kettleparkseniorliving.com
SUMMARY:Evening Snack
DESCRIPTION:
URL:https://kettleparkseniorliving.com/event-calendar/evening-snack-215/
CATEGORIES:Memory Care
END:VEVENT
END:VCALENDAR