BEGIN:VCALENDAR
VERSION:2.0
PRODID:-//Kettle Park Senior Living - ECPv6.11.2.1//NONSGML v1.0//EN
CALSCALE:GREGORIAN
METHOD:PUBLISH
X-ORIGINAL-URL:https://kettleparkseniorliving.com
X-WR-CALDESC:Events for Kettle Park Senior Living
REFRESH-INTERVAL;VALUE=DURATION:PT1H
X-Robots-Tag:noindex
X-PUBLISHED-TTL:PT1H
BEGIN:VTIMEZONE
TZID:America/Chicago
BEGIN:DAYLIGHT
TZOFFSETFROM:-0600
TZOFFSETTO:-0500
TZNAME:CDT
DTSTART:20250309T080000
END:DAYLIGHT
BEGIN:STANDARD
TZOFFSETFROM:-0500
TZOFFSETTO:-0600
TZNAME:CST
DTSTART:20251102T070000
END:STANDARD
END:VTIMEZONE
BEGIN:VEVENT
DTSTART;TZID=America/Chicago:20251215T091500
DTEND;TZID=America/Chicago:20251215T093000
DTSTAMP:20260420T063656
CREATED:20251116T070154Z
LAST-MODIFIED:20251215T011621Z
UID:10003791-1765790100-1765791000@kettleparkseniorliving.com
SUMMARY:News/Current Events
DESCRIPTION:
URL:https://kettleparkseniorliving.com/event-calendar/news-current-events-215/
LOCATION:Lounge Area
CATEGORIES:Memory Care
END:VEVENT
BEGIN:VEVENT
DTSTART;TZID=America/Chicago:20251215T093000
DTEND;TZID=America/Chicago:20251215T100000
DTSTAMP:20260420T063656
CREATED:20251116T070154Z
LAST-MODIFIED:20251215T011621Z
UID:10003792-1765791000-1765792800@kettleparkseniorliving.com
SUMMARY:Get Fit
DESCRIPTION:
URL:https://kettleparkseniorliving.com/event-calendar/get-fit-276/
LOCATION:Lounge Area
CATEGORIES:Memory Care
END:VEVENT
BEGIN:VEVENT
DTSTART;TZID=America/Chicago:20251215T100000
DTEND;TZID=America/Chicago:20251215T103000
DTSTAMP:20260420T063656
CREATED:20251116T070154Z
LAST-MODIFIED:20251215T011621Z
UID:10003793-1765792800-1765794600@kettleparkseniorliving.com
SUMMARY:Coffee Clutch & Linked Senior
DESCRIPTION:
URL:https://kettleparkseniorliving.com/event-calendar/coffee-clutch-linked-senior-30/
LOCATION:Lounge
CATEGORIES:Memory Care
END:VEVENT
BEGIN:VEVENT
DTSTART;TZID=America/Chicago:20251215T113000
DTEND;TZID=America/Chicago:20251215T114500
DTSTAMP:20260420T063656
CREATED:20251116T070154Z
LAST-MODIFIED:20251215T011621Z
UID:10003794-1765798200-1765799100@kettleparkseniorliving.com
SUMMARY:Walking Group
DESCRIPTION:
URL:https://kettleparkseniorliving.com/event-calendar/walking-group-434/
CATEGORIES:Memory Care
END:VEVENT
BEGIN:VEVENT
DTSTART;TZID=America/Chicago:20251215T134500
DTEND;TZID=America/Chicago:20251215T143000
DTSTAMP:20260420T063656
CREATED:20251116T070154Z
LAST-MODIFIED:20251214T010134Z
UID:10003795-1765806300-1765809000@kettleparkseniorliving.com
SUMMARY:UMC Devotions
DESCRIPTION:
URL:https://kettleparkseniorliving.com/event-calendar/umc-devotions-59/
LOCATION:Lounge Area
CATEGORIES:Memory Care
END:VEVENT
BEGIN:VEVENT
DTSTART;TZID=America/Chicago:20251215T143000
DTEND;TZID=America/Chicago:20251215T150000
DTSTAMP:20260420T063656
CREATED:20251116T070154Z
LAST-MODIFIED:20251215T011621Z
UID:10003796-1765809000-1765810800@kettleparkseniorliving.com
SUMMARY:Scattagories
DESCRIPTION:
URL:https://kettleparkseniorliving.com/event-calendar/scattagories-18/
LOCATION:Lounge
CATEGORIES:Memory Care
END:VEVENT
BEGIN:VEVENT
DTSTART;TZID=America/Chicago:20251215T150000
DTEND;TZID=America/Chicago:20251215T160000
DTSTAMP:20260420T063656
CREATED:20251116T070154Z
LAST-MODIFIED:20251215T011621Z
UID:10003797-1765810800-1765814400@kettleparkseniorliving.com
SUMMARY:Happy Hour
DESCRIPTION:
URL:https://kettleparkseniorliving.com/event-calendar/happy-hour-57/
LOCATION:Lounge Area
CATEGORIES:Memory Care
END:VEVENT
BEGIN:VEVENT
DTSTART;TZID=America/Chicago:20251215T160000
DTEND;TZID=America/Chicago:20251215T161500
DTSTAMP:20260420T063656
CREATED:20251116T070154Z
LAST-MODIFIED:20251215T011621Z
UID:10003798-1765814400-1765815300@kettleparkseniorliving.com
SUMMARY:Walking Group
DESCRIPTION:
URL:https://kettleparkseniorliving.com/event-calendar/walking-group-435/
CATEGORIES:Memory Care
END:VEVENT
BEGIN:VEVENT
DTSTART;TZID=America/Chicago:20251215T193000
DTEND;TZID=America/Chicago:20251215T200000
DTSTAMP:20260420T063656
CREATED:20251116T070154Z
LAST-MODIFIED:20251216T011621Z
UID:10003799-1765827000-1765828800@kettleparkseniorliving.com
SUMMARY:Evening Snack
DESCRIPTION:
URL:https://kettleparkseniorliving.com/event-calendar/evening-snack-216/
CATEGORIES:Memory Care
END:VEVENT
END:VCALENDAR