BEGIN:VCALENDAR
VERSION:2.0
PRODID:-//Kettle Park Senior Living - ECPv6.11.2.1//NONSGML v1.0//EN
CALSCALE:GREGORIAN
METHOD:PUBLISH
X-ORIGINAL-URL:https://kettleparkseniorliving.com
X-WR-CALDESC:Events for Kettle Park Senior Living
REFRESH-INTERVAL;VALUE=DURATION:PT1H
X-Robots-Tag:noindex
X-PUBLISHED-TTL:PT1H
BEGIN:VTIMEZONE
TZID:America/Chicago
BEGIN:DAYLIGHT
TZOFFSETFROM:-0600
TZOFFSETTO:-0500
TZNAME:CDT
DTSTART:20250309T080000
END:DAYLIGHT
BEGIN:STANDARD
TZOFFSETFROM:-0500
TZOFFSETTO:-0600
TZNAME:CST
DTSTART:20251102T070000
END:STANDARD
END:VTIMEZONE
BEGIN:VEVENT
DTSTART;TZID=America/Chicago:20251217T091500
DTEND;TZID=America/Chicago:20251217T093000
DTSTAMP:20260420T100003
CREATED:20251118T070131Z
LAST-MODIFIED:20251217T011620Z
UID:10003828-1765962900-1765963800@kettleparkseniorliving.com
SUMMARY:News/Current Events
DESCRIPTION:
URL:https://kettleparkseniorliving.com/event-calendar/news-current-events-217/
LOCATION:Lounge Area
CATEGORIES:Memory Care
END:VEVENT
BEGIN:VEVENT
DTSTART;TZID=America/Chicago:20251217T093000
DTEND;TZID=America/Chicago:20251217T100000
DTSTAMP:20260420T100003
CREATED:20251118T070131Z
LAST-MODIFIED:20251217T011620Z
UID:10003829-1765963800-1765965600@kettleparkseniorliving.com
SUMMARY:Get Fit
DESCRIPTION:
URL:https://kettleparkseniorliving.com/event-calendar/get-fit-278/
LOCATION:Lounge Area
CATEGORIES:Memory Care
END:VEVENT
BEGIN:VEVENT
DTSTART;TZID=America/Chicago:20251217T100000
DTEND;TZID=America/Chicago:20251217T110000
DTSTAMP:20260420T100003
CREATED:20251118T070131Z
LAST-MODIFIED:20251217T011620Z
UID:10003830-1765965600-1765969200@kettleparkseniorliving.com
SUMMARY:Coffee Clutch / Link Senior
DESCRIPTION:
URL:https://kettleparkseniorliving.com/event-calendar/coffee-clutch-link-senior-37/
LOCATION:Lounge
CATEGORIES:Memory Care
END:VEVENT
BEGIN:VEVENT
DTSTART;TZID=America/Chicago:20251217T113000
DTEND;TZID=America/Chicago:20251217T114500
DTSTAMP:20260420T100003
CREATED:20251118T070131Z
LAST-MODIFIED:20251217T011621Z
UID:10003831-1765971000-1765971900@kettleparkseniorliving.com
SUMMARY:Walking Group
DESCRIPTION:
URL:https://kettleparkseniorliving.com/event-calendar/walking-group-438/
CATEGORIES:Memory Care
END:VEVENT
BEGIN:VEVENT
DTSTART;TZID=America/Chicago:20251217T133000
DTEND;TZID=America/Chicago:20251217T143000
DTSTAMP:20260420T100003
CREATED:20251118T070131Z
LAST-MODIFIED:20251217T011621Z
UID:10003832-1765978200-1765981800@kettleparkseniorliving.com
SUMMARY:Bean Bags
DESCRIPTION:
URL:https://kettleparkseniorliving.com/event-calendar/bean-bags-6/
LOCATION:Lounge Area
CATEGORIES:Memory Care
END:VEVENT
BEGIN:VEVENT
DTSTART;TZID=America/Chicago:20251217T150000
DTEND;TZID=America/Chicago:20251217T160000
DTSTAMP:20260420T100003
CREATED:20251118T070131Z
LAST-MODIFIED:20251217T011621Z
UID:10003833-1765983600-1765987200@kettleparkseniorliving.com
SUMMARY:Snack & Chat
DESCRIPTION:
URL:https://kettleparkseniorliving.com/event-calendar/snack-chat-128/
LOCATION:Lounge Area
CATEGORIES:Memory Care
END:VEVENT
BEGIN:VEVENT
DTSTART;TZID=America/Chicago:20251217T160000
DTEND;TZID=America/Chicago:20251217T161500
DTSTAMP:20260420T100003
CREATED:20251118T070131Z
LAST-MODIFIED:20251217T011621Z
UID:10003834-1765987200-1765988100@kettleparkseniorliving.com
SUMMARY:Walking Group
DESCRIPTION:
URL:https://kettleparkseniorliving.com/event-calendar/walking-group-439/
CATEGORIES:Memory Care
END:VEVENT
BEGIN:VEVENT
DTSTART;TZID=America/Chicago:20251217T193000
DTEND;TZID=America/Chicago:20251217T200000
DTSTAMP:20260420T100003
CREATED:20251118T070131Z
LAST-MODIFIED:20251218T011631Z
UID:10003835-1765999800-1766001600@kettleparkseniorliving.com
SUMMARY:Evening Snack
DESCRIPTION:
URL:https://kettleparkseniorliving.com/event-calendar/evening-snack-218/
CATEGORIES:Memory Care
END:VEVENT
END:VCALENDAR