BEGIN:VCALENDAR
VERSION:2.0
PRODID:-//Kettle Park Senior Living - ECPv6.11.2.1//NONSGML v1.0//EN
CALSCALE:GREGORIAN
METHOD:PUBLISH
X-ORIGINAL-URL:https://kettleparkseniorliving.com
X-WR-CALDESC:Events for Kettle Park Senior Living
REFRESH-INTERVAL;VALUE=DURATION:PT1H
X-Robots-Tag:noindex
X-PUBLISHED-TTL:PT1H
BEGIN:VTIMEZONE
TZID:America/Chicago
BEGIN:DAYLIGHT
TZOFFSETFROM:-0600
TZOFFSETTO:-0500
TZNAME:CDT
DTSTART:20260308T080000
END:DAYLIGHT
BEGIN:STANDARD
TZOFFSETFROM:-0500
TZOFFSETTO:-0600
TZNAME:CST
DTSTART:20261101T070000
END:STANDARD
END:VTIMEZONE
BEGIN:VEVENT
DTSTART;TZID=America/Chicago:20260519T100000
DTEND;TZID=America/Chicago:20260519T110000
DTSTAMP:20260421T151449
CREATED:20260420T094637Z
LAST-MODIFIED:20260421T095039Z
UID:10005890-1779184800-1779188400@kettleparkseniorliving.com
SUMMARY:Daily Chronicles / Trivia
DESCRIPTION:
URL:https://kettleparkseniorliving.com/event-calendar/daily-chronicles-trivia-17/
LOCATION:Lounge Area
CATEGORIES:Memory Care
END:VEVENT
BEGIN:VEVENT
DTSTART;TZID=America/Chicago:20260519T110000
DTEND;TZID=America/Chicago:20260519T120000
DTSTAMP:20260421T151449
CREATED:20260420T071629Z
LAST-MODIFIED:20260421T071627Z
UID:10005885-1779188400-1779192000@kettleparkseniorliving.com
SUMMARY:Exercise-Bands
DESCRIPTION:
URL:https://kettleparkseniorliving.com/event-calendar/exercise-bands-66/
LOCATION:Community Room
CATEGORIES:Senior Living
END:VEVENT
BEGIN:VEVENT
DTSTART;TZID=America/Chicago:20260519T113000
DTEND;TZID=America/Chicago:20260519T114500
DTSTAMP:20260421T151449
CREATED:20260420T094637Z
LAST-MODIFIED:20260421T095039Z
UID:10005892-1779190200-1779191100@kettleparkseniorliving.com
SUMMARY:Walking Group
DESCRIPTION:
URL:https://kettleparkseniorliving.com/event-calendar/walking-group-744/
CATEGORIES:Memory Care
END:VEVENT
BEGIN:VEVENT
DTSTART;TZID=America/Chicago:20260519T130000
DTEND;TZID=America/Chicago:20260519T140000
DTSTAMP:20260421T151449
CREATED:20260420T071629Z
LAST-MODIFIED:20260421T071627Z
UID:10005886-1779195600-1779199200@kettleparkseniorliving.com
SUMMARY:Spark League- Robot Soccer
DESCRIPTION:
URL:https://kettleparkseniorliving.com/event-calendar/spark-league-robot-soccer-5/
LOCATION:Dining Room
CATEGORIES:Senior Living
END:VEVENT
BEGIN:VEVENT
DTSTART;TZID=America/Chicago:20260519T140000
DTEND;TZID=America/Chicago:20260519T150000
DTSTAMP:20260421T151449
CREATED:20260420T071629Z
LAST-MODIFIED:20260421T071627Z
UID:10005887-1779199200-1779202800@kettleparkseniorliving.com
SUMMARY:Bingo
DESCRIPTION:
URL:https://kettleparkseniorliving.com/event-calendar/bingo-168/
LOCATION:Community Room
CATEGORIES:Senior Living
END:VEVENT
BEGIN:VEVENT
DTSTART;TZID=America/Chicago:20260519T150000
DTEND;TZID=America/Chicago:20260519T160000
DTSTAMP:20260421T151449
CREATED:20260420T094637Z
LAST-MODIFIED:20260421T095039Z
UID:10005893-1779202800-1779206400@kettleparkseniorliving.com
SUMMARY:Snack & Chat
DESCRIPTION:
URL:https://kettleparkseniorliving.com/event-calendar/snack-chat-259/
LOCATION:Lounge Area
CATEGORIES:Memory Care
END:VEVENT
BEGIN:VEVENT
DTSTART;TZID=America/Chicago:20260519T151500
DTEND;TZID=America/Chicago:20260519T161500
DTSTAMP:20260421T151449
CREATED:20260420T071629Z
LAST-MODIFIED:20260421T071627Z
UID:10005888-1779203700-1779207300@kettleparkseniorliving.com
SUMMARY:Tuesday Trivia
DESCRIPTION:
URL:https://kettleparkseniorliving.com/event-calendar/tuesday-trivia-53/
LOCATION:Community Room
CATEGORIES:Senior Living
END:VEVENT
BEGIN:VEVENT
DTSTART;TZID=America/Chicago:20260519T160000
DTEND;TZID=America/Chicago:20260519T161500
DTSTAMP:20260421T151449
CREATED:20260420T094637Z
LAST-MODIFIED:20260421T095039Z
UID:10005894-1779206400-1779207300@kettleparkseniorliving.com
SUMMARY:Walking Group
DESCRIPTION:
URL:https://kettleparkseniorliving.com/event-calendar/walking-group-745/
CATEGORIES:Memory Care
END:VEVENT
BEGIN:VEVENT
DTSTART;TZID=America/Chicago:20260519T193000
DTEND;TZID=America/Chicago:20260519T200000
DTSTAMP:20260421T151449
CREATED:20260420T094637Z
LAST-MODIFIED:20260421T095050Z
UID:10005895-1779219000-1779220800@kettleparkseniorliving.com
SUMMARY:Evening Snack
DESCRIPTION:
URL:https://kettleparkseniorliving.com/event-calendar/evening-snack-371/
CATEGORIES:Memory Care
END:VEVENT
BEGIN:VEVENT
DTSTART;TZID=America/Chicago:20260520T093000
DTEND;TZID=America/Chicago:20260520T100000
DTSTAMP:20260421T151449
CREATED:20260421T094635Z
LAST-MODIFIED:20260421T095050Z
UID:10005901-1779269400-1779271200@kettleparkseniorliving.com
SUMMARY:Morning Stretch
DESCRIPTION:
URL:https://kettleparkseniorliving.com/event-calendar/morning-stretch-84/
LOCATION:Lounge Area
CATEGORIES:Memory Care
END:VEVENT
BEGIN:VEVENT
DTSTART;TZID=America/Chicago:20260520T100000
DTEND;TZID=America/Chicago:20260520T110000
DTSTAMP:20260421T151449
CREATED:20260421T071627Z
LAST-MODIFIED:20260421T071627Z
UID:10005896-1779271200-1779274800@kettleparkseniorliving.com
SUMMARY:Coffee Clutch
DESCRIPTION:
URL:https://kettleparkseniorliving.com/event-calendar/coffee-clutch-181/
LOCATION:Dining Room
CATEGORIES:Senior Living
END:VEVENT
BEGIN:VEVENT
DTSTART;TZID=America/Chicago:20260520T100000
DTEND;TZID=America/Chicago:20260520T110000
DTSTAMP:20260421T151449
CREATED:20260421T094635Z
LAST-MODIFIED:20260421T095050Z
UID:10005902-1779271200-1779274800@kettleparkseniorliving.com
SUMMARY:Coffee Clutch / Link Senior
DESCRIPTION:
URL:https://kettleparkseniorliving.com/event-calendar/coffee-clutch-link-senior-74/
LOCATION:Lounge
CATEGORIES:Memory Care
END:VEVENT
BEGIN:VEVENT
DTSTART;TZID=America/Chicago:20260520T103000
DTEND;TZID=America/Chicago:20260520T110000
DTSTAMP:20260421T151449
CREATED:20260421T094635Z
LAST-MODIFIED:20260421T095051Z
UID:10005903-1779273000-1779274800@kettleparkseniorliving.com
SUMMARY:Chats with Chaplain Ann
DESCRIPTION:
URL:https://kettleparkseniorliving.com/event-calendar/chats-with-chaplain-ann-26/
CATEGORIES:Memory Care
END:VEVENT
BEGIN:VEVENT
DTSTART;TZID=America/Chicago:20260520T110000
DTEND;TZID=America/Chicago:20260520T113000
DTSTAMP:20260421T151449
CREATED:20260421T071627Z
LAST-MODIFIED:20260421T071627Z
UID:10005897-1779274800-1779276600@kettleparkseniorliving.com
SUMMARY:Exercise-Weights
DESCRIPTION:
URL:https://kettleparkseniorliving.com/event-calendar/exercise-weights-86/
LOCATION:Community Room
CATEGORIES:Senior Living
END:VEVENT
BEGIN:VEVENT
DTSTART;TZID=America/Chicago:20260520T113000
DTEND;TZID=America/Chicago:20260520T114500
DTSTAMP:20260421T151449
CREATED:20260421T094635Z
LAST-MODIFIED:20260421T095051Z
UID:10005904-1779276600-1779277500@kettleparkseniorliving.com
SUMMARY:Walking Group
DESCRIPTION:
URL:https://kettleparkseniorliving.com/event-calendar/walking-group-746/
CATEGORIES:Memory Care
END:VEVENT
BEGIN:VEVENT
DTSTART;TZID=America/Chicago:20260520T130000
DTEND;TZID=America/Chicago:20260520T140000
DTSTAMP:20260421T151449
CREATED:20260421T071627Z
LAST-MODIFIED:20260421T071627Z
UID:10005898-1779282000-1779285600@kettleparkseniorliving.com
SUMMARY:Spark Practice
DESCRIPTION:
URL:https://kettleparkseniorliving.com/event-calendar/spark-practice-120/
LOCATION:Community Room
CATEGORIES:Senior Living
END:VEVENT
BEGIN:VEVENT
DTSTART;TZID=America/Chicago:20260520T140000
DTEND;TZID=America/Chicago:20260520T150000
DTSTAMP:20260421T151449
CREATED:20260421T071627Z
LAST-MODIFIED:20260421T071627Z
UID:10005899-1779285600-1779289200@kettleparkseniorliving.com
SUMMARY:Men's Group
DESCRIPTION:
URL:https://kettleparkseniorliving.com/event-calendar/mens-group-40/
LOCATION:Community Room
CATEGORIES:Senior Living
END:VEVENT
BEGIN:VEVENT
DTSTART;TZID=America/Chicago:20260520T150000
DTEND;TZID=America/Chicago:20260520T160000
DTSTAMP:20260421T151449
CREATED:20260421T094635Z
LAST-MODIFIED:20260421T095051Z
UID:10005905-1779289200-1779292800@kettleparkseniorliving.com
SUMMARY:Snack & Chat
DESCRIPTION:
URL:https://kettleparkseniorliving.com/event-calendar/snack-chat-260/
LOCATION:Lounge Area
CATEGORIES:Memory Care
END:VEVENT
BEGIN:VEVENT
DTSTART;TZID=America/Chicago:20260520T153000
DTEND;TZID=America/Chicago:20260520T160000
DTSTAMP:20260421T151449
CREATED:20260421T071628Z
LAST-MODIFIED:20260421T071628Z
UID:10005900-1779291000-1779292800@kettleparkseniorliving.com
SUMMARY:St. Ann's Devotions
DESCRIPTION:
URL:https://kettleparkseniorliving.com/event-calendar/st-anns-devotions-54/
LOCATION:Theater Room
CATEGORIES:Senior Living
END:VEVENT
BEGIN:VEVENT
DTSTART;TZID=America/Chicago:20260520T160000
DTEND;TZID=America/Chicago:20260520T161500
DTSTAMP:20260421T151449
CREATED:20260421T094635Z
LAST-MODIFIED:20260421T095051Z
UID:10005906-1779292800-1779293700@kettleparkseniorliving.com
SUMMARY:Walking Group
DESCRIPTION:
URL:https://kettleparkseniorliving.com/event-calendar/walking-group-747/
CATEGORIES:Memory Care
END:VEVENT
BEGIN:VEVENT
DTSTART;TZID=America/Chicago:20260520T193000
DTEND;TZID=America/Chicago:20260520T200000
DTSTAMP:20260421T151449
CREATED:20260421T094635Z
LAST-MODIFIED:20260421T095051Z
UID:10005907-1779305400-1779307200@kettleparkseniorliving.com
SUMMARY:Evening Snack
DESCRIPTION:
URL:https://kettleparkseniorliving.com/event-calendar/evening-snack-372/
CATEGORIES:Memory Care
END:VEVENT
END:VCALENDAR