BEGIN:VCALENDAR
VERSION:2.0
PRODID:-//Kettle Park Senior Living - ECPv6.11.2.1//NONSGML v1.0//EN
CALSCALE:GREGORIAN
METHOD:PUBLISH
X-ORIGINAL-URL:https://kettleparkseniorliving.com
X-WR-CALDESC:Events for Kettle Park Senior Living
REFRESH-INTERVAL;VALUE=DURATION:PT1H
X-Robots-Tag:noindex
X-PUBLISHED-TTL:PT1H
BEGIN:VTIMEZONE
TZID:America/Chicago
BEGIN:DAYLIGHT
TZOFFSETFROM:-0600
TZOFFSETTO:-0500
TZNAME:CDT
DTSTART:20260308T080000
END:DAYLIGHT
BEGIN:STANDARD
TZOFFSETFROM:-0500
TZOFFSETTO:-0600
TZNAME:CST
DTSTART:20261101T070000
END:STANDARD
END:VTIMEZONE
BEGIN:VEVENT
DTSTART;TZID=America/Chicago:20260515T103000
DTEND;TZID=America/Chicago:20260515T110000
DTSTAMP:20260419T173300
CREATED:20260416T091633Z
LAST-MODIFIED:20260419T094633Z
UID:10005845-1778841000-1778842800@kettleparkseniorliving.com
SUMMARY:Chats with Chaplain Ann
DESCRIPTION:
URL:https://kettleparkseniorliving.com/event-calendar/chats-with-chaplain-ann-25/
CATEGORIES:Memory Care
END:VEVENT
BEGIN:VEVENT
DTSTART;TZID=America/Chicago:20260515T110000
DTEND;TZID=America/Chicago:20260515T113000
DTSTAMP:20260419T173300
CREATED:20260416T070148Z
LAST-MODIFIED:20260419T071627Z
UID:10005840-1778842800-1778844600@kettleparkseniorliving.com
SUMMARY:Exercise-Balance
DESCRIPTION:
URL:https://kettleparkseniorliving.com/event-calendar/exercise-balance-38/
LOCATION:Community Room
CATEGORIES:Senior Living
END:VEVENT
BEGIN:VEVENT
DTSTART;TZID=America/Chicago:20260515T113000
DTEND;TZID=America/Chicago:20260515T114500
DTSTAMP:20260419T173300
CREATED:20260416T091633Z
LAST-MODIFIED:20260419T094633Z
UID:10005846-1778844600-1778845500@kettleparkseniorliving.com
SUMMARY:Walking Group
DESCRIPTION:
URL:https://kettleparkseniorliving.com/event-calendar/walking-group-736/
CATEGORIES:Memory Care
END:VEVENT
BEGIN:VEVENT
DTSTART;TZID=America/Chicago:20260515T130000
DTEND;TZID=America/Chicago:20260515T140000
DTSTAMP:20260419T173300
CREATED:20260416T070148Z
LAST-MODIFIED:20260419T071627Z
UID:10005841-1778850000-1778853600@kettleparkseniorliving.com
SUMMARY:Spark - Really Big Show
DESCRIPTION:
URL:https://kettleparkseniorliving.com/event-calendar/spark-really-big-show-25/
LOCATION:Theater Room
CATEGORIES:Senior Living
END:VEVENT
BEGIN:VEVENT
DTSTART;TZID=America/Chicago:20260515T140000
DTEND;TZID=America/Chicago:20260515T150000
DTSTAMP:20260419T173300
CREATED:20260416T070148Z
LAST-MODIFIED:20260419T071627Z
UID:10005842-1778853600-1778857200@kettleparkseniorliving.com
SUMMARY:Devotions with Chaplain Ann
DESCRIPTION:
URL:https://kettleparkseniorliving.com/event-calendar/devotions-with-chaplain-ann-8/
LOCATION:Theater Room
CATEGORIES:Senior Living
END:VEVENT
BEGIN:VEVENT
DTSTART;TZID=America/Chicago:20260515T150000
DTEND;TZID=America/Chicago:20260515T160000
DTSTAMP:20260419T173300
CREATED:20260416T070148Z
LAST-MODIFIED:20260419T071627Z
UID:10005843-1778857200-1778860800@kettleparkseniorliving.com
SUMMARY:Happy Hour
DESCRIPTION:
URL:https://kettleparkseniorliving.com/event-calendar/happy-hour-88/
LOCATION:Dining Room
CATEGORIES:Senior Living
END:VEVENT
BEGIN:VEVENT
DTSTART;TZID=America/Chicago:20260515T150000
DTEND;TZID=America/Chicago:20260515T160000
DTSTAMP:20260419T173300
CREATED:20260416T091633Z
LAST-MODIFIED:20260419T094633Z
UID:10005847-1778857200-1778860800@kettleparkseniorliving.com
SUMMARY:Snack & Chat
DESCRIPTION:
URL:https://kettleparkseniorliving.com/event-calendar/snack-chat-256/
LOCATION:Lounge Area
CATEGORIES:Memory Care
END:VEVENT
BEGIN:VEVENT
DTSTART;TZID=America/Chicago:20260515T160000
DTEND;TZID=America/Chicago:20260515T161500
DTSTAMP:20260419T173300
CREATED:20260416T091633Z
LAST-MODIFIED:20260419T094633Z
UID:10005848-1778860800-1778861700@kettleparkseniorliving.com
SUMMARY:Walking Group
DESCRIPTION:
URL:https://kettleparkseniorliving.com/event-calendar/walking-group-737/
CATEGORIES:Memory Care
END:VEVENT
BEGIN:VEVENT
DTSTART;TZID=America/Chicago:20260515T193000
DTEND;TZID=America/Chicago:20260515T200000
DTSTAMP:20260419T173300
CREATED:20260416T091633Z
LAST-MODIFIED:20260419T094633Z
UID:10005849-1778873400-1778875200@kettleparkseniorliving.com
SUMMARY:Evening Snack
DESCRIPTION:
URL:https://kettleparkseniorliving.com/event-calendar/evening-snack-367/
CATEGORIES:Memory Care
END:VEVENT
BEGIN:VEVENT
DTSTART;TZID=America/Chicago:20260516T093000
DTEND;TZID=America/Chicago:20260516T100000
DTSTAMP:20260419T173300
CREATED:20260417T093134Z
LAST-MODIFIED:20260419T094633Z
UID:10005852-1778923800-1778925600@kettleparkseniorliving.com
SUMMARY:Morning Stretch
DESCRIPTION:
URL:https://kettleparkseniorliving.com/event-calendar/morning-stretch-80/
LOCATION:Lounge Area
CATEGORIES:Memory Care
END:VEVENT
BEGIN:VEVENT
DTSTART;TZID=America/Chicago:20260516T100000
DTEND;TZID=America/Chicago:20260516T103000
DTSTAMP:20260419T173300
CREATED:20260417T093134Z
LAST-MODIFIED:20260419T094633Z
UID:10005853-1778925600-1778927400@kettleparkseniorliving.com
SUMMARY:Morning Snack
DESCRIPTION:
URL:https://kettleparkseniorliving.com/event-calendar/morning-snack-58/
LOCATION:Lounge Area
CATEGORIES:Memory Care
END:VEVENT
BEGIN:VEVENT
DTSTART;TZID=America/Chicago:20260516T110000
DTEND;TZID=America/Chicago:20260516T223000
DTSTAMP:20260419T173300
CREATED:20260417T093134Z
LAST-MODIFIED:20260419T094633Z
UID:10005854-1778929200-1778970600@kettleparkseniorliving.com
SUMMARY:Trivia Games
DESCRIPTION:
URL:https://kettleparkseniorliving.com/event-calendar/trivia-games-13/
LOCATION:Lounge
CATEGORIES:Memory Care
END:VEVENT
BEGIN:VEVENT
DTSTART;TZID=America/Chicago:20260516T113000
DTEND;TZID=America/Chicago:20260516T114500
DTSTAMP:20260419T173300
CREATED:20260417T093134Z
LAST-MODIFIED:20260419T094633Z
UID:10005855-1778931000-1778931900@kettleparkseniorliving.com
SUMMARY:Walking Group
DESCRIPTION:
URL:https://kettleparkseniorliving.com/event-calendar/walking-group-738/
CATEGORIES:Memory Care
END:VEVENT
BEGIN:VEVENT
DTSTART;TZID=America/Chicago:20260516T133000
DTEND;TZID=America/Chicago:20260516T143000
DTSTAMP:20260419T173300
CREATED:20260417T070138Z
LAST-MODIFIED:20260419T071627Z
UID:10005850-1778938200-1778941800@kettleparkseniorliving.com
SUMMARY:Euchre Club
DESCRIPTION:
URL:https://kettleparkseniorliving.com/event-calendar/euchre-club-52/
LOCATION:Dining Room
CATEGORIES:Senior Living
END:VEVENT
BEGIN:VEVENT
DTSTART;TZID=America/Chicago:20260516T133000
DTEND;TZID=America/Chicago:20260516T143000
DTSTAMP:20260419T173300
CREATED:20260417T093134Z
LAST-MODIFIED:20260419T094633Z
UID:10005856-1778938200-1778941800@kettleparkseniorliving.com
SUMMARY:Balloon Volleyball
DESCRIPTION:
URL:https://kettleparkseniorliving.com/event-calendar/balloon-volleyball-6/
LOCATION:Lounge Area
CATEGORIES:Memory Care
END:VEVENT
BEGIN:VEVENT
DTSTART;TZID=America/Chicago:20260516T140000
DTEND;TZID=America/Chicago:20260516T150000
DTSTAMP:20260419T173300
CREATED:20260417T070138Z
LAST-MODIFIED:20260419T071627Z
UID:10005851-1778940000-1778943600@kettleparkseniorliving.com
SUMMARY:Saturday Matinee
DESCRIPTION:
URL:https://kettleparkseniorliving.com/event-calendar/saturday-matinee-54/
LOCATION:Theater Room
CATEGORIES:Senior Living
END:VEVENT
BEGIN:VEVENT
DTSTART;TZID=America/Chicago:20260516T150000
DTEND;TZID=America/Chicago:20260516T160000
DTSTAMP:20260419T173300
CREATED:20260417T093134Z
LAST-MODIFIED:20260419T094633Z
UID:10005857-1778943600-1778947200@kettleparkseniorliving.com
SUMMARY:Snack & Chat
DESCRIPTION:
URL:https://kettleparkseniorliving.com/event-calendar/snack-chat-257/
LOCATION:Lounge Area
CATEGORIES:Memory Care
END:VEVENT
BEGIN:VEVENT
DTSTART;TZID=America/Chicago:20260516T160000
DTEND;TZID=America/Chicago:20260516T161500
DTSTAMP:20260419T173300
CREATED:20260417T093134Z
LAST-MODIFIED:20260419T094633Z
UID:10005858-1778947200-1778948100@kettleparkseniorliving.com
SUMMARY:Walking Group
DESCRIPTION:
URL:https://kettleparkseniorliving.com/event-calendar/walking-group-739/
CATEGORIES:Memory Care
END:VEVENT
BEGIN:VEVENT
DTSTART;TZID=America/Chicago:20260516T180000
DTEND;TZID=America/Chicago:20260516T190000
DTSTAMP:20260419T173300
CREATED:20260417T093135Z
LAST-MODIFIED:20260419T094633Z
UID:10005859-1778954400-1778958000@kettleparkseniorliving.com
SUMMARY:Active Game
DESCRIPTION:
URL:https://kettleparkseniorliving.com/event-calendar/active-game-194/
LOCATION:Lounge
CATEGORIES:Memory Care
END:VEVENT
BEGIN:VEVENT
DTSTART;TZID=America/Chicago:20260516T193000
DTEND;TZID=America/Chicago:20260516T200000
DTSTAMP:20260419T173300
CREATED:20260417T093135Z
LAST-MODIFIED:20260419T094633Z
UID:10005860-1778959800-1778961600@kettleparkseniorliving.com
SUMMARY:Evening Snack
DESCRIPTION:
URL:https://kettleparkseniorliving.com/event-calendar/evening-snack-368/
CATEGORIES:Memory Care
END:VEVENT
BEGIN:VEVENT
DTSTART;TZID=America/Chicago:20260517T093000
DTEND;TZID=America/Chicago:20260517T100000
DTSTAMP:20260419T173300
CREATED:20260418T094634Z
LAST-MODIFIED:20260419T094634Z
UID:10005863-1779010200-1779012000@kettleparkseniorliving.com
SUMMARY:Morning Stretch
DESCRIPTION:
URL:https://kettleparkseniorliving.com/event-calendar/morning-stretch-81/
LOCATION:Lounge Area
CATEGORIES:Memory Care
END:VEVENT
BEGIN:VEVENT
DTSTART;TZID=America/Chicago:20260517T100000
DTEND;TZID=America/Chicago:20260517T103000
DTSTAMP:20260419T173300
CREATED:20260418T094634Z
LAST-MODIFIED:20260419T094633Z
UID:10005865-1779012000-1779013800@kettleparkseniorliving.com
SUMMARY:Morning Snack
DESCRIPTION:
URL:https://kettleparkseniorliving.com/event-calendar/morning-snack-59/
LOCATION:Lounge Area
CATEGORIES:Memory Care
END:VEVENT
BEGIN:VEVENT
DTSTART;TZID=America/Chicago:20260517T100000
DTEND;TZID=America/Chicago:20260517T110000
DTSTAMP:20260419T173300
CREATED:20260418T071627Z
LAST-MODIFIED:20260419T071627Z
UID:10005861-1779012000-1779015600@kettleparkseniorliving.com
SUMMARY:Bethel TV Church Service
DESCRIPTION:
URL:https://kettleparkseniorliving.com/event-calendar/bethel-tv-church-service-53/
LOCATION:Theater Room
CATEGORIES:Senior Living
END:VEVENT
BEGIN:VEVENT
DTSTART;TZID=America/Chicago:20260517T100000
DTEND;TZID=America/Chicago:20260517T110000
DTSTAMP:20260419T173300
CREATED:20260418T094634Z
LAST-MODIFIED:20260419T094633Z
UID:10005864-1779012000-1779015600@kettleparkseniorliving.com
SUMMARY:Church Service
DESCRIPTION:
URL:https://kettleparkseniorliving.com/event-calendar/church-service-8/
LOCATION:Lounge Area
CATEGORIES:Memory Care
END:VEVENT
BEGIN:VEVENT
DTSTART;TZID=America/Chicago:20260517T113000
DTEND;TZID=America/Chicago:20260517T114500
DTSTAMP:20260419T173300
CREATED:20260418T094635Z
LAST-MODIFIED:20260419T094634Z
UID:10005866-1779017400-1779018300@kettleparkseniorliving.com
SUMMARY:Walking Group
DESCRIPTION:
URL:https://kettleparkseniorliving.com/event-calendar/walking-group-740/
CATEGORIES:Memory Care
END:VEVENT
BEGIN:VEVENT
DTSTART;TZID=America/Chicago:20260517T133000
DTEND;TZID=America/Chicago:20260517T143000
DTSTAMP:20260419T173300
CREATED:20260418T094635Z
LAST-MODIFIED:20260419T094634Z
UID:10005867-1779024600-1779028200@kettleparkseniorliving.com
SUMMARY:Active Game
DESCRIPTION:
URL:https://kettleparkseniorliving.com/event-calendar/active-game-195/
LOCATION:Lounge Area
CATEGORIES:Memory Care
END:VEVENT
BEGIN:VEVENT
DTSTART;TZID=America/Chicago:20260517T140000
DTEND;TZID=America/Chicago:20260517T150000
DTSTAMP:20260419T173300
CREATED:20260418T071627Z
LAST-MODIFIED:20260419T094634Z
UID:10005862-1779026400-1779030000@kettleparkseniorliving.com
SUMMARY:Entertainment - Brian Montrey Guitar/Vocals
DESCRIPTION:
URL:https://kettleparkseniorliving.com/event-calendar/entertainment-brian-montrey-guitar-vocals-5/
LOCATION:Dining Room
CATEGORIES:Memory Care,Senior Living
END:VEVENT
BEGIN:VEVENT
DTSTART;TZID=America/Chicago:20260517T150000
DTEND;TZID=America/Chicago:20260517T160000
DTSTAMP:20260419T173300
CREATED:20260418T094635Z
LAST-MODIFIED:20260419T094634Z
UID:10005868-1779030000-1779033600@kettleparkseniorliving.com
SUMMARY:Snack & Chat
DESCRIPTION:
URL:https://kettleparkseniorliving.com/event-calendar/snack-chat-258/
LOCATION:Lounge Area
CATEGORIES:Memory Care
END:VEVENT
BEGIN:VEVENT
DTSTART;TZID=America/Chicago:20260517T160000
DTEND;TZID=America/Chicago:20260517T161500
DTSTAMP:20260419T173300
CREATED:20260418T094635Z
LAST-MODIFIED:20260419T094634Z
UID:10005869-1779033600-1779034500@kettleparkseniorliving.com
SUMMARY:Walking Group
DESCRIPTION:
URL:https://kettleparkseniorliving.com/event-calendar/walking-group-741/
CATEGORIES:Memory Care
END:VEVENT
BEGIN:VEVENT
DTSTART;TZID=America/Chicago:20260517T193000
DTEND;TZID=America/Chicago:20260517T200000
DTSTAMP:20260419T173300
CREATED:20260418T094635Z
LAST-MODIFIED:20260419T094634Z
UID:10005870-1779046200-1779048000@kettleparkseniorliving.com
SUMMARY:Evening Snack
DESCRIPTION:
URL:https://kettleparkseniorliving.com/event-calendar/evening-snack-369/
CATEGORIES:Memory Care
END:VEVENT
END:VCALENDAR