BEGIN:VCALENDAR
VERSION:2.0
PRODID:-//Kettle Park Senior Living - ECPv6.11.2.1//NONSGML v1.0//EN
CALSCALE:GREGORIAN
METHOD:PUBLISH
X-WR-CALNAME:Kettle Park Senior Living
X-ORIGINAL-URL:https://kettleparkseniorliving.com
X-WR-CALDESC:Events for Kettle Park Senior Living
REFRESH-INTERVAL;VALUE=DURATION:PT1H
X-Robots-Tag:noindex
X-PUBLISHED-TTL:PT1H
BEGIN:VTIMEZONE
TZID:America/Chicago
BEGIN:DAYLIGHT
TZOFFSETFROM:-0600
TZOFFSETTO:-0500
TZNAME:CDT
DTSTART:20250309T080000
END:DAYLIGHT
BEGIN:STANDARD
TZOFFSETFROM:-0500
TZOFFSETTO:-0600
TZNAME:CST
DTSTART:20251102T070000
END:STANDARD
END:VTIMEZONE
BEGIN:VEVENT
DTSTART;TZID=America/Chicago:20250831T130000
DTEND;TZID=America/Chicago:20250831T140000
DTSTAMP:20260419T143308
CREATED:20250802T014638Z
LAST-MODIFIED:20250831T024644Z
UID:10001925-1756645200-1756648800@kettleparkseniorliving.com
SUMMARY:Ladies Table Games
DESCRIPTION:
URL:https://kettleparkseniorliving.com/event-calendar/ladies-table-games-16/
LOCATION:Kitchen
CATEGORIES:Senior Living
END:VEVENT
BEGIN:VEVENT
DTSTART;TZID=America/Chicago:20250824T130000
DTEND;TZID=America/Chicago:20250824T140000
DTSTAMP:20260419T143308
CREATED:20250726T011703Z
LAST-MODIFIED:20250824T021701Z
UID:10001809-1756040400-1756044000@kettleparkseniorliving.com
SUMMARY:Ladies Table Games
DESCRIPTION:
URL:https://kettleparkseniorliving.com/event-calendar/ladies-table-games-15/
LOCATION:Kitchen
CATEGORIES:Senior Living
END:VEVENT
BEGIN:VEVENT
DTSTART;TZID=America/Chicago:20250817T130000
DTEND;TZID=America/Chicago:20250817T140000
DTSTAMP:20260419T143308
CREATED:20250719T011654Z
LAST-MODIFIED:20250817T020156Z
UID:10001677-1755435600-1755439200@kettleparkseniorliving.com
SUMMARY:Ladies Table Games
DESCRIPTION:
URL:https://kettleparkseniorliving.com/event-calendar/ladies-table-games-14/
LOCATION:Kitchen
CATEGORIES:Senior Living
END:VEVENT
BEGIN:VEVENT
DTSTART;TZID=America/Chicago:20250810T130000
DTEND;TZID=America/Chicago:20250810T140000
DTSTAMP:20260419T143308
CREATED:20250712T010132Z
LAST-MODIFIED:20250810T020144Z
UID:10001559-1754830800-1754834400@kettleparkseniorliving.com
SUMMARY:Ladies Table Games
DESCRIPTION:
URL:https://kettleparkseniorliving.com/event-calendar/ladies-table-games-13/
LOCATION:Kitchen
CATEGORIES:Senior Living
END:VEVENT
BEGIN:VEVENT
DTSTART;TZID=America/Chicago:20250803T130000
DTEND;TZID=America/Chicago:20250803T140000
DTSTAMP:20260419T143308
CREATED:20250705T004637Z
LAST-MODIFIED:20250803T014630Z
UID:10001435-1754226000-1754229600@kettleparkseniorliving.com
SUMMARY:Ladies Table Games
DESCRIPTION:
URL:https://kettleparkseniorliving.com/event-calendar/ladies-table-games-12/
LOCATION:Kitchen
CATEGORIES:Senior Living
END:VEVENT
BEGIN:VEVENT
DTSTART;TZID=America/Chicago:20250727T130000
DTEND;TZID=America/Chicago:20250727T140000
DTSTAMP:20260419T143308
CREATED:20250628T003142Z
LAST-MODIFIED:20250727T011629Z
UID:10001285-1753621200-1753624800@kettleparkseniorliving.com
SUMMARY:Ladies Table Games
DESCRIPTION:
URL:https://kettleparkseniorliving.com/event-calendar/ladies-table-games-11/
LOCATION:Kitchen
CATEGORIES:Senior Living
END:VEVENT
BEGIN:VEVENT
DTSTART;TZID=America/Chicago:20250723T133000
DTEND;TZID=America/Chicago:20250723T143000
DTSTAMP:20260419T143308
CREATED:20250708T011638Z
LAST-MODIFIED:20250723T020147Z
UID:10001489-1753277400-1753281000@kettleparkseniorliving.com
SUMMARY:Baking Group
DESCRIPTION:
URL:https://kettleparkseniorliving.com/event-calendar/baking-group-6/
LOCATION:Kitchen
CATEGORIES:Memory Care
END:VEVENT
BEGIN:VEVENT
DTSTART;TZID=America/Chicago:20250720T130000
DTEND;TZID=America/Chicago:20250720T140000
DTSTAMP:20260419T143308
CREATED:20250621T003200Z
LAST-MODIFIED:20250720T011631Z
UID:10001172-1753016400-1753020000@kettleparkseniorliving.com
SUMMARY:Ladies Table Games
DESCRIPTION:
URL:https://kettleparkseniorliving.com/event-calendar/ladies-table-games-10/
LOCATION:Kitchen
CATEGORIES:Senior Living
END:VEVENT
BEGIN:VEVENT
DTSTART;TZID=America/Chicago:20250713T130000
DTEND;TZID=America/Chicago:20250713T140000
DTSTAMP:20260419T143308
CREATED:20250613T223139Z
LAST-MODIFIED:20250713T010135Z
UID:10001068-1752411600-1752415200@kettleparkseniorliving.com
SUMMARY:Ladies Table Games
DESCRIPTION:
URL:https://kettleparkseniorliving.com/event-calendar/ladies-table-games-9/
LOCATION:Kitchen
CATEGORIES:Senior Living
END:VEVENT
BEGIN:VEVENT
DTSTART;TZID=America/Chicago:20250706T130000
DTEND;TZID=America/Chicago:20250706T140000
DTSTAMP:20260419T143308
CREATED:20250606T221635Z
LAST-MODIFIED:20250706T010126Z
UID:10000961-1751806800-1751810400@kettleparkseniorliving.com
SUMMARY:Ladies Table Games
DESCRIPTION:
URL:https://kettleparkseniorliving.com/event-calendar/ladies-table-games-8/
LOCATION:Kitchen
CATEGORIES:Senior Living
END:VEVENT
BEGIN:VEVENT
DTSTART;TZID=America/Chicago:20250629T130000
DTEND;TZID=America/Chicago:20250629T140000
DTSTAMP:20260419T143308
CREATED:20250530T215001Z
LAST-MODIFIED:20250629T003216Z
UID:10000819-1751202000-1751205600@kettleparkseniorliving.com
SUMMARY:Ladies Table Games
DESCRIPTION:
URL:https://kettleparkseniorliving.com/event-calendar/ladies-table-games-7/
LOCATION:Kitchen
CATEGORIES:Senior Living
END:VEVENT
BEGIN:VEVENT
DTSTART;TZID=America/Chicago:20250622T130000
DTEND;TZID=America/Chicago:20250622T140000
DTSTAMP:20260419T143308
CREATED:20250523T214638Z
LAST-MODIFIED:20250622T003313Z
UID:10000642-1750597200-1750600800@kettleparkseniorliving.com
SUMMARY:Ladies Table Games
DESCRIPTION:
URL:https://kettleparkseniorliving.com/event-calendar/ladies-table-games-6/
LOCATION:Kitchen
CATEGORIES:Senior Living
END:VEVENT
BEGIN:VEVENT
DTSTART;TZID=America/Chicago:20250615T130000
DTEND;TZID=America/Chicago:20250615T140000
DTSTAMP:20260419T143308
CREATED:20250516T213313Z
LAST-MODIFIED:20250614T223142Z
UID:10000484-1749992400-1749996000@kettleparkseniorliving.com
SUMMARY:Ladies Table Games
DESCRIPTION:
URL:https://kettleparkseniorliving.com/event-calendar/ladies-table-games-5/
LOCATION:Kitchen
CATEGORIES:Senior Living
END:VEVENT
BEGIN:VEVENT
DTSTART;TZID=America/Chicago:20250612T133000
DTEND;TZID=America/Chicago:20250612T143000
DTSTAMP:20260419T143308
CREATED:20250530T210131Z
LAST-MODIFIED:20250611T214650Z
UID:10000799-1749735000-1749738600@kettleparkseniorliving.com
SUMMARY:Baking Peanut Butter Cookies
DESCRIPTION:
URL:https://kettleparkseniorliving.com/event-calendar/baking-peanut-butter-cookies-2/
LOCATION:Kitchen
CATEGORIES:Memory Care
END:VEVENT
BEGIN:VEVENT
DTSTART;TZID=America/Chicago:20250608T130000
DTEND;TZID=America/Chicago:20250608T140000
DTSTAMP:20260419T143308
CREATED:20250514T205819Z
LAST-MODIFIED:20250607T221627Z
UID:10000416-1749387600-1749391200@kettleparkseniorliving.com
SUMMARY:Ladies Table Games
DESCRIPTION:
URL:https://kettleparkseniorliving.com/event-calendar/ladies-table-games-4/
LOCATION:Kitchen
CATEGORIES:Senior Living
END:VEVENT
BEGIN:VEVENT
DTSTART;TZID=America/Chicago:20250601T130000
DTEND;TZID=America/Chicago:20250601T140000
DTSTAMP:20260419T143308
CREATED:20250514T205818Z
LAST-MODIFIED:20250531T220125Z
UID:10000389-1748782800-1748786400@kettleparkseniorliving.com
SUMMARY:Ladies Table Games
DESCRIPTION:
URL:https://kettleparkseniorliving.com/event-calendar/ladies-table-games-3/
LOCATION:Kitchen
CATEGORIES:Senior Living
END:VEVENT
BEGIN:VEVENT
DTSTART;TZID=America/Chicago:20250525T130000
DTEND;TZID=America/Chicago:20250525T140000
DTSTAMP:20260419T143308
CREATED:20250514T205817Z
LAST-MODIFIED:20250524T214620Z
UID:10000355-1748178000-1748181600@kettleparkseniorliving.com
SUMMARY:Ladies Table Games
DESCRIPTION:
URL:https://kettleparkseniorliving.com/event-calendar/ladies-table-games-2/
LOCATION:Kitchen
CATEGORIES:Senior Living
END:VEVENT
BEGIN:VEVENT
DTSTART;TZID=America/Chicago:20250524T133000
DTEND;TZID=America/Chicago:20250524T143000
DTSTAMP:20260419T143308
CREATED:20250514T205756Z
LAST-MODIFIED:20250521T210212Z
UID:10000116-1748093400-1748097000@kettleparkseniorliving.com
SUMMARY:Baking Group
DESCRIPTION:
URL:https://kettleparkseniorliving.com/event-calendar/baking-group-2/
LOCATION:Kitchen
CATEGORIES:Memory Care
END:VEVENT
BEGIN:VEVENT
DTSTART;TZID=America/Chicago:20250518T130000
DTEND;TZID=America/Chicago:20250518T140000
DTSTAMP:20260419T143308
CREATED:20250514T205816Z
LAST-MODIFIED:20250517T214620Z
UID:10000318-1747573200-1747576800@kettleparkseniorliving.com
SUMMARY:Ladies Table Games
DESCRIPTION:
URL:https://kettleparkseniorliving.com/event-calendar/ladies-table-games/
LOCATION:Kitchen
CATEGORIES:Senior Living
END:VEVENT
BEGIN:VEVENT
DTSTART;TZID=America/Chicago:20250517T133000
DTEND;TZID=America/Chicago:20250517T143000
DTSTAMP:20260419T143308
CREATED:20250514T205753Z
LAST-MODIFIED:20250516T210142Z
UID:10000034-1747488600-1747492200@kettleparkseniorliving.com
SUMMARY:Baking Group
DESCRIPTION:
URL:https://kettleparkseniorliving.com/event-calendar/baking-group/
LOCATION:Kitchen
CATEGORIES:Memory Care
END:VEVENT
END:VCALENDAR