BEGIN:VCALENDAR
VERSION:2.0
PRODID:-//Kettle Park Senior Living - ECPv6.11.2.1//NONSGML v1.0//EN
CALSCALE:GREGORIAN
METHOD:PUBLISH
X-WR-CALNAME:Kettle Park Senior Living
X-ORIGINAL-URL:https://kettleparkseniorliving.com
X-WR-CALDESC:Events for Kettle Park Senior Living
REFRESH-INTERVAL;VALUE=DURATION:PT1H
X-Robots-Tag:noindex
X-PUBLISHED-TTL:PT1H
BEGIN:VTIMEZONE
TZID:America/Chicago
BEGIN:DAYLIGHT
TZOFFSETFROM:-0600
TZOFFSETTO:-0500
TZNAME:CDT
DTSTART:20250309T080000
END:DAYLIGHT
BEGIN:STANDARD
TZOFFSETFROM:-0500
TZOFFSETTO:-0600
TZNAME:CST
DTSTART:20251102T070000
END:STANDARD
END:VTIMEZONE
BEGIN:VEVENT
DTSTART;TZID=America/Chicago:20250905T180000
DTEND;TZID=America/Chicago:20250905T193000
DTSTAMP:20260422T144657
CREATED:20250809T024630Z
LAST-MODIFIED:20250905T043135Z
UID:10002101-1757095200-1757100600@kettleparkseniorliving.com
SUMMARY:Friday Night Movie
DESCRIPTION:
URL:https://kettleparkseniorliving.com/event-calendar/friday-night-movie-34/
LOCATION:Lounge Area
CATEGORIES:Memory Care
END:VEVENT
BEGIN:VEVENT
DTSTART;TZID=America/Chicago:20250905T150000
DTEND;TZID=America/Chicago:20250905T160000
DTSTAMP:20260422T144657
CREATED:20250809T024629Z
LAST-MODIFIED:20250905T043135Z
UID:10002099-1757084400-1757088000@kettleparkseniorliving.com
SUMMARY:Snack & Chat
DESCRIPTION:
URL:https://kettleparkseniorliving.com/event-calendar/snack-chat-32/
LOCATION:Lounge Area
CATEGORIES:Memory Care
END:VEVENT
BEGIN:VEVENT
DTSTART;TZID=America/Chicago:20250905T091500
DTEND;TZID=America/Chicago:20250905T093000
DTSTAMP:20260422T144657
CREATED:20250809T024629Z
LAST-MODIFIED:20250905T043135Z
UID:10002093-1757063700-1757064600@kettleparkseniorliving.com
SUMMARY:News/Current Events
DESCRIPTION:
URL:https://kettleparkseniorliving.com/event-calendar/news-current-events-114/
LOCATION:Lounge Area
CATEGORIES:Memory Care
END:VEVENT
BEGIN:VEVENT
DTSTART;TZID=America/Chicago:20250904T180000
DTEND;TZID=America/Chicago:20250904T190000
DTSTAMP:20260422T144657
CREATED:20250808T024728Z
LAST-MODIFIED:20250904T043147Z
UID:10002089-1757008800-1757012400@kettleparkseniorliving.com
SUMMARY:Active Game
DESCRIPTION:
URL:https://kettleparkseniorliving.com/event-calendar/active-game-67/
LOCATION:Lounge Area
CATEGORIES:Memory Care
END:VEVENT
BEGIN:VEVENT
DTSTART;TZID=America/Chicago:20250904T160000
DTEND;TZID=America/Chicago:20250904T170000
DTSTAMP:20260422T144657
CREATED:20250808T024728Z
LAST-MODIFIED:20250904T043147Z
UID:10002088-1757001600-1757005200@kettleparkseniorliving.com
SUMMARY:Move to the Music
DESCRIPTION:
URL:https://kettleparkseniorliving.com/event-calendar/move-to-the-music-32/
LOCATION:Lounge Area
CATEGORIES:Memory Care
END:VEVENT
BEGIN:VEVENT
DTSTART;TZID=America/Chicago:20250904T150000
DTEND;TZID=America/Chicago:20250904T160000
DTSTAMP:20260422T144657
CREATED:20250808T024728Z
LAST-MODIFIED:20250904T043147Z
UID:10002087-1756998000-1757001600@kettleparkseniorliving.com
SUMMARY:Snack & Chat
DESCRIPTION:
URL:https://kettleparkseniorliving.com/event-calendar/snack-chat-31/
LOCATION:Lounge Area
CATEGORIES:Memory Care
END:VEVENT
BEGIN:VEVENT
DTSTART;TZID=America/Chicago:20250904T143000
DTEND;TZID=America/Chicago:20250904T150000
DTSTAMP:20260422T144657
CREATED:20250808T024728Z
LAST-MODIFIED:20250904T043147Z
UID:10002086-1756996200-1756998000@kettleparkseniorliving.com
SUMMARY:Reminisce
DESCRIPTION:
URL:https://kettleparkseniorliving.com/event-calendar/reminisce-34/
LOCATION:Lounge Area
CATEGORIES:Memory Care
END:VEVENT
BEGIN:VEVENT
DTSTART;TZID=America/Chicago:20250904T133000
DTEND;TZID=America/Chicago:20250904T143000
DTSTAMP:20260422T144657
CREATED:20250808T024728Z
LAST-MODIFIED:20250831T041628Z
UID:10002085-1756992600-1756996200@kettleparkseniorliving.com
SUMMARY:Balloon Games
DESCRIPTION:
URL:https://kettleparkseniorliving.com/event-calendar/balloon-games-17/
LOCATION:Lounge Area
CATEGORIES:Memory Care
END:VEVENT
BEGIN:VEVENT
DTSTART;TZID=America/Chicago:20250904T110000
DTEND;TZID=America/Chicago:20250904T120000
DTSTAMP:20260422T144657
CREATED:20250808T024728Z
LAST-MODIFIED:20250904T043147Z
UID:10002083-1756983600-1756987200@kettleparkseniorliving.com
SUMMARY:Dog Visits w/ Lucy and Tink
DESCRIPTION:
URL:https://kettleparkseniorliving.com/event-calendar/dog-visits-w-lucy-and-tink-33/
LOCATION:Lounge Area
CATEGORIES:Memory Care
END:VEVENT
BEGIN:VEVENT
DTSTART;TZID=America/Chicago:20250904T100000
DTEND;TZID=America/Chicago:20250904T110000
DTSTAMP:20260422T144657
CREATED:20250808T024727Z
LAST-MODIFIED:20250904T043147Z
UID:10002080-1756980000-1756983600@kettleparkseniorliving.com
SUMMARY:Linked Senior
DESCRIPTION:
URL:https://kettleparkseniorliving.com/event-calendar/linked-senior-17/
LOCATION:Lounge Area
CATEGORIES:Memory Care
END:VEVENT
BEGIN:VEVENT
DTSTART;TZID=America/Chicago:20250904T091500
DTEND;TZID=America/Chicago:20250904T093000
DTSTAMP:20260422T144657
CREATED:20250808T024728Z
LAST-MODIFIED:20250904T043147Z
UID:10002082-1756977300-1756978200@kettleparkseniorliving.com
SUMMARY:News/Current Events
DESCRIPTION:
URL:https://kettleparkseniorliving.com/event-calendar/news-current-events-113/
LOCATION:Lounge Area
CATEGORIES:Memory Care
END:VEVENT
BEGIN:VEVENT
DTSTART;TZID=America/Chicago:20250903T180000
DTEND;TZID=America/Chicago:20250903T190000
DTSTAMP:20260422T144657
CREATED:20250808T024727Z
LAST-MODIFIED:20250903T043123Z
UID:10002078-1756922400-1756926000@kettleparkseniorliving.com
SUMMARY:Reminisce
DESCRIPTION:
URL:https://kettleparkseniorliving.com/event-calendar/reminisce-33/
LOCATION:Lounge Area
CATEGORIES:Memory Care
END:VEVENT
BEGIN:VEVENT
DTSTART;TZID=America/Chicago:20250903T150000
DTEND;TZID=America/Chicago:20250903T160000
DTSTAMP:20260422T144657
CREATED:20250807T024646Z
LAST-MODIFIED:20250903T043122Z
UID:10002068-1756911600-1756915200@kettleparkseniorliving.com
SUMMARY:Snack & Chat
DESCRIPTION:
URL:https://kettleparkseniorliving.com/event-calendar/snack-chat-30/
LOCATION:Lounge Area
CATEGORIES:Memory Care
END:VEVENT
BEGIN:VEVENT
DTSTART;TZID=America/Chicago:20250903T133000
DTEND;TZID=America/Chicago:20250903T143000
DTSTAMP:20260422T144657
CREATED:20250807T024646Z
LAST-MODIFIED:20250903T043122Z
UID:10002067-1756906200-1756909800@kettleparkseniorliving.com
SUMMARY:Table Games
DESCRIPTION:
URL:https://kettleparkseniorliving.com/event-calendar/table-games-5/
LOCATION:Lounge Area
CATEGORIES:Memory Care
END:VEVENT
BEGIN:VEVENT
DTSTART;TZID=America/Chicago:20250903T091500
DTEND;TZID=America/Chicago:20250903T093000
DTSTAMP:20260422T144657
CREATED:20250807T024645Z
LAST-MODIFIED:20250903T043122Z
UID:10002061-1756890900-1756891800@kettleparkseniorliving.com
SUMMARY:News/Current Events
DESCRIPTION:
URL:https://kettleparkseniorliving.com/event-calendar/news-current-events-112/
LOCATION:Lounge Area
CATEGORIES:Memory Care
END:VEVENT
BEGIN:VEVENT
DTSTART;TZID=America/Chicago:20250902T180000
DTEND;TZID=America/Chicago:20250902T190000
DTSTAMP:20260422T144657
CREATED:20250807T024645Z
LAST-MODIFIED:20250902T043133Z
UID:10002059-1756836000-1756839600@kettleparkseniorliving.com
SUMMARY:Fun with Trivia
DESCRIPTION:
URL:https://kettleparkseniorliving.com/event-calendar/fun-with-trivia-16/
LOCATION:Lounge Area
CATEGORIES:Memory Care
END:VEVENT
BEGIN:VEVENT
DTSTART;TZID=America/Chicago:20250902T150000
DTEND;TZID=America/Chicago:20250902T160000
DTSTAMP:20260422T144657
CREATED:20250807T024645Z
LAST-MODIFIED:20250902T043134Z
UID:10002058-1756825200-1756828800@kettleparkseniorliving.com
SUMMARY:Snack & Chat
DESCRIPTION:
URL:https://kettleparkseniorliving.com/event-calendar/snack-chat-29/
LOCATION:Lounge Area
CATEGORIES:Memory Care
END:VEVENT
BEGIN:VEVENT
DTSTART;TZID=America/Chicago:20250902T130000
DTEND;TZID=America/Chicago:20250902T140000
DTSTAMP:20260422T144657
CREATED:20250806T024639Z
LAST-MODIFIED:20250902T043134Z
UID:10002045-1756818000-1756821600@kettleparkseniorliving.com
SUMMARY:Devotions with Chaplin Lee
DESCRIPTION:
URL:https://kettleparkseniorliving.com/event-calendar/devotions-with-chaplin-lee-31/
LOCATION:Lounge Area
CATEGORIES:Memory Care
END:VEVENT
BEGIN:VEVENT
DTSTART;TZID=America/Chicago:20250902T110000
DTEND;TZID=America/Chicago:20250902T120000
DTSTAMP:20260422T144657
CREATED:20250806T024639Z
LAST-MODIFIED:20250902T043134Z
UID:10002043-1756810800-1756814400@kettleparkseniorliving.com
SUMMARY:Dog Visits w/ Lucy and Tink
DESCRIPTION:
URL:https://kettleparkseniorliving.com/event-calendar/dog-visits-w-lucy-and-tink-32/
LOCATION:Lounge Area
CATEGORIES:Memory Care
END:VEVENT
BEGIN:VEVENT
DTSTART;TZID=America/Chicago:20250902T093000
DTEND;TZID=America/Chicago:20250902T110000
DTSTAMP:20260422T144657
CREATED:20250806T024638Z
LAST-MODIFIED:20250902T043134Z
UID:10002041-1756805400-1756810800@kettleparkseniorliving.com
SUMMARY:Reading w/ Kathy
DESCRIPTION:
URL:https://kettleparkseniorliving.com/event-calendar/reading-w-kathy-16/
LOCATION:Lounge Area
CATEGORIES:Memory Care
END:VEVENT
BEGIN:VEVENT
DTSTART;TZID=America/Chicago:20250902T091500
DTEND;TZID=America/Chicago:20250902T093000
DTSTAMP:20260422T144657
CREATED:20250806T024638Z
LAST-MODIFIED:20250902T043134Z
UID:10002042-1756804500-1756805400@kettleparkseniorliving.com
SUMMARY:News/Current Events
DESCRIPTION:
URL:https://kettleparkseniorliving.com/event-calendar/news-current-events-111/
LOCATION:Lounge Area
CATEGORIES:Memory Care
END:VEVENT
BEGIN:VEVENT
DTSTART;TZID=America/Chicago:20250901T180000
DTEND;TZID=America/Chicago:20250901T190000
DTSTAMP:20260422T144657
CREATED:20250806T024638Z
LAST-MODIFIED:20250901T043130Z
UID:10002038-1756749600-1756753200@kettleparkseniorliving.com
SUMMARY:Finish the Phrase
DESCRIPTION:
URL:https://kettleparkseniorliving.com/event-calendar/finish-the-phrase-16/
LOCATION:Lounge Area
CATEGORIES:Memory Care
END:VEVENT
BEGIN:VEVENT
DTSTART;TZID=America/Chicago:20250901T150000
DTEND;TZID=America/Chicago:20250901T160000
DTSTAMP:20260422T144657
CREATED:20250806T024638Z
LAST-MODIFIED:20250901T043130Z
UID:10002037-1756738800-1756742400@kettleparkseniorliving.com
SUMMARY:Happy Hour
DESCRIPTION:
URL:https://kettleparkseniorliving.com/event-calendar/happy-hour-27/
LOCATION:Lounge Area
CATEGORIES:Memory Care
END:VEVENT
BEGIN:VEVENT
DTSTART;TZID=America/Chicago:20250901T134500
DTEND;TZID=America/Chicago:20250901T141500
DTSTAMP:20260422T144657
CREATED:20250806T024638Z
LAST-MODIFIED:20250830T040146Z
UID:10002035-1756734300-1756736100@kettleparkseniorliving.com
SUMMARY:UMC Devotions
DESCRIPTION:
URL:https://kettleparkseniorliving.com/event-calendar/umc-devotions-32/
LOCATION:Lounge Area
CATEGORIES:Memory Care
END:VEVENT
BEGIN:VEVENT
DTSTART;TZID=America/Chicago:20250901T091500
DTEND;TZID=America/Chicago:20250901T093000
DTSTAMP:20260422T144657
CREATED:20250806T024638Z
LAST-MODIFIED:20250901T043130Z
UID:10002030-1756718100-1756719000@kettleparkseniorliving.com
SUMMARY:News/Current Events
DESCRIPTION:
URL:https://kettleparkseniorliving.com/event-calendar/news-current-events-110/
LOCATION:Lounge Area
CATEGORIES:Memory Care
END:VEVENT
BEGIN:VEVENT
DTSTART;TZID=America/Chicago:20250831T180000
DTEND;TZID=America/Chicago:20250831T193000
DTSTAMP:20260422T144657
CREATED:20250806T024638Z
LAST-MODIFIED:20250831T041627Z
UID:10002028-1756663200-1756668600@kettleparkseniorliving.com
SUMMARY:Active Games
DESCRIPTION:
URL:https://kettleparkseniorliving.com/event-calendar/active-games-16/
LOCATION:Lounge Area
CATEGORIES:Memory Care
END:VEVENT
BEGIN:VEVENT
DTSTART;TZID=America/Chicago:20250831T150000
DTEND;TZID=America/Chicago:20250831T160000
DTSTAMP:20260422T144657
CREATED:20250806T024638Z
LAST-MODIFIED:20250831T041628Z
UID:10002026-1756652400-1756656000@kettleparkseniorliving.com
SUMMARY:Snack & Chat
DESCRIPTION:
URL:https://kettleparkseniorliving.com/event-calendar/snack-chat-28/
LOCATION:Lounge Area
CATEGORIES:Memory Care
END:VEVENT
BEGIN:VEVENT
DTSTART;TZID=America/Chicago:20250831T143000
DTEND;TZID=America/Chicago:20250831T150000
DTSTAMP:20260422T144657
CREATED:20250806T024638Z
LAST-MODIFIED:20250831T041628Z
UID:10002025-1756650600-1756652400@kettleparkseniorliving.com
SUMMARY:Active Game
DESCRIPTION:
URL:https://kettleparkseniorliving.com/event-calendar/active-game-66/
LOCATION:Lounge Area
CATEGORIES:Memory Care
END:VEVENT
BEGIN:VEVENT
DTSTART;TZID=America/Chicago:20250831T133000
DTEND;TZID=America/Chicago:20250831T143000
DTSTAMP:20260422T144657
CREATED:20250806T024638Z
LAST-MODIFIED:20250831T041628Z
UID:10002024-1756647000-1756650600@kettleparkseniorliving.com
SUMMARY:Word Games
DESCRIPTION:
URL:https://kettleparkseniorliving.com/event-calendar/word-games-16/
LOCATION:Lounge Area
CATEGORIES:Memory Care
END:VEVENT
BEGIN:VEVENT
DTSTART;TZID=America/Chicago:20250831T103000
DTEND;TZID=America/Chicago:20250831T113000
DTSTAMP:20260422T144657
CREATED:20250806T024637Z
LAST-MODIFIED:20250831T041628Z
UID:10002020-1756636200-1756639800@kettleparkseniorliving.com
SUMMARY:Hymn Sing
DESCRIPTION:
URL:https://kettleparkseniorliving.com/event-calendar/hymn-sing-28/
LOCATION:Lounge Area
CATEGORIES:Memory Care
END:VEVENT
END:VCALENDAR