BEGIN:VCALENDAR
VERSION:2.0
PRODID:-//Kettle Park Senior Living - ECPv6.11.2.1//NONSGML v1.0//EN
CALSCALE:GREGORIAN
METHOD:PUBLISH
X-WR-CALNAME:Kettle Park Senior Living
X-ORIGINAL-URL:https://kettleparkseniorliving.com
X-WR-CALDESC:Events for Kettle Park Senior Living
REFRESH-INTERVAL;VALUE=DURATION:PT1H
X-Robots-Tag:noindex
X-PUBLISHED-TTL:PT1H
BEGIN:VTIMEZONE
TZID:America/Chicago
BEGIN:DAYLIGHT
TZOFFSETFROM:-0600
TZOFFSETTO:-0500
TZNAME:CDT
DTSTART:20250309T080000
END:DAYLIGHT
BEGIN:STANDARD
TZOFFSETFROM:-0500
TZOFFSETTO:-0600
TZNAME:CST
DTSTART:20251102T070000
END:STANDARD
END:VTIMEZONE
BEGIN:VEVENT
DTSTART;TZID=America/Chicago:20250828T180000
DTEND;TZID=America/Chicago:20250828T190000
DTSTAMP:20260422T212254
CREATED:20250804T023145Z
LAST-MODIFIED:20250828T040122Z
UID:10001980-1756404000-1756407600@kettleparkseniorliving.com
SUMMARY:Active Game
DESCRIPTION:
URL:https://kettleparkseniorliving.com/event-calendar/active-game-64/
LOCATION:Lounge Area
CATEGORIES:Memory Care
END:VEVENT
BEGIN:VEVENT
DTSTART;TZID=America/Chicago:20250828T160000
DTEND;TZID=America/Chicago:20250828T170000
DTSTAMP:20260422T212254
CREATED:20250804T023145Z
LAST-MODIFIED:20250828T040122Z
UID:10001979-1756396800-1756400400@kettleparkseniorliving.com
SUMMARY:Move to the Music
DESCRIPTION:
URL:https://kettleparkseniorliving.com/event-calendar/move-to-the-music-31/
LOCATION:Lounge Area
CATEGORIES:Memory Care
END:VEVENT
BEGIN:VEVENT
DTSTART;TZID=America/Chicago:20250828T150000
DTEND;TZID=America/Chicago:20250828T160000
DTSTAMP:20260422T212254
CREATED:20250804T023145Z
LAST-MODIFIED:20250828T040122Z
UID:10001978-1756393200-1756396800@kettleparkseniorliving.com
SUMMARY:Snack & Chat
DESCRIPTION:
URL:https://kettleparkseniorliving.com/event-calendar/snack-chat-25/
LOCATION:Lounge Area
CATEGORIES:Memory Care
END:VEVENT
BEGIN:VEVENT
DTSTART;TZID=America/Chicago:20250828T143000
DTEND;TZID=America/Chicago:20250828T150000
DTSTAMP:20260422T212254
CREATED:20250804T023145Z
LAST-MODIFIED:20250828T040122Z
UID:10001977-1756391400-1756393200@kettleparkseniorliving.com
SUMMARY:Reminisce
DESCRIPTION:
URL:https://kettleparkseniorliving.com/event-calendar/reminisce-32/
LOCATION:Lounge Area
CATEGORIES:Memory Care
END:VEVENT
BEGIN:VEVENT
DTSTART;TZID=America/Chicago:20250828T133000
DTEND;TZID=America/Chicago:20250828T143000
DTSTAMP:20260422T212254
CREATED:20250804T023145Z
LAST-MODIFIED:20250828T040122Z
UID:10001976-1756387800-1756391400@kettleparkseniorliving.com
SUMMARY:Balloon Games
DESCRIPTION:
URL:https://kettleparkseniorliving.com/event-calendar/balloon-games-16/
LOCATION:Lounge Area
CATEGORIES:Memory Care
END:VEVENT
BEGIN:VEVENT
DTSTART;TZID=America/Chicago:20250828T130000
DTEND;TZID=America/Chicago:20250828T133000
DTSTAMP:20260422T212254
CREATED:20250804T023145Z
LAST-MODIFIED:20250805T024631Z
UID:10001975-1756386000-1756387800@kettleparkseniorliving.com
SUMMARY:Music Appreciation/Adult Coloring
DESCRIPTION:
URL:https://kettleparkseniorliving.com/event-calendar/music-appreciation-adult-coloring-13/
LOCATION:Lounge Area
CATEGORIES:Memory Care
END:VEVENT
BEGIN:VEVENT
DTSTART;TZID=America/Chicago:20250828T110000
DTEND;TZID=America/Chicago:20250828T120000
DTSTAMP:20260422T212254
CREATED:20250804T023145Z
LAST-MODIFIED:20250828T040122Z
UID:10001972-1756378800-1756382400@kettleparkseniorliving.com
SUMMARY:Dog Visits w/ Lucy and Tink
DESCRIPTION:
URL:https://kettleparkseniorliving.com/event-calendar/dog-visits-w-lucy-and-tink-31/
LOCATION:Lounge Area
CATEGORIES:Memory Care
END:VEVENT
BEGIN:VEVENT
DTSTART;TZID=America/Chicago:20250828T100000
DTEND;TZID=America/Chicago:20250828T110000
DTSTAMP:20260422T212254
CREATED:20250803T023200Z
LAST-MODIFIED:20250828T040122Z
UID:10001958-1756375200-1756378800@kettleparkseniorliving.com
SUMMARY:Linked Senior
DESCRIPTION:
URL:https://kettleparkseniorliving.com/event-calendar/linked-senior-16/
LOCATION:Lounge Area
CATEGORIES:Memory Care
END:VEVENT
BEGIN:VEVENT
DTSTART;TZID=America/Chicago:20250828T091500
DTEND;TZID=America/Chicago:20250828T093000
DTSTAMP:20260422T212254
CREATED:20250804T023145Z
LAST-MODIFIED:20250828T040122Z
UID:10001971-1756372500-1756373400@kettleparkseniorliving.com
SUMMARY:News/Current Events
DESCRIPTION:
URL:https://kettleparkseniorliving.com/event-calendar/news-current-events-106/
LOCATION:Lounge Area
CATEGORIES:Memory Care
END:VEVENT
BEGIN:VEVENT
DTSTART;TZID=America/Chicago:20250827T180000
DTEND;TZID=America/Chicago:20250827T190000
DTSTAMP:20260422T212254
CREATED:20250803T023200Z
LAST-MODIFIED:20250827T040303Z
UID:10001956-1756317600-1756321200@kettleparkseniorliving.com
SUMMARY:Reminisce
DESCRIPTION:
URL:https://kettleparkseniorliving.com/event-calendar/reminisce-31/
LOCATION:Lounge Area
CATEGORIES:Memory Care
END:VEVENT
BEGIN:VEVENT
DTSTART;TZID=America/Chicago:20250827T150000
DTEND;TZID=America/Chicago:20250827T160000
DTSTAMP:20260422T212254
CREATED:20250803T023200Z
LAST-MODIFIED:20250827T040303Z
UID:10001954-1756306800-1756310400@kettleparkseniorliving.com
SUMMARY:Snack & Chat
DESCRIPTION:
URL:https://kettleparkseniorliving.com/event-calendar/snack-chat-24/
LOCATION:Lounge Area
CATEGORIES:Memory Care
END:VEVENT
BEGIN:VEVENT
DTSTART;TZID=America/Chicago:20250827T133000
DTEND;TZID=America/Chicago:20250827T143000
DTSTAMP:20260422T212254
CREATED:20250804T023145Z
LAST-MODIFIED:20250827T040303Z
UID:10001970-1756301400-1756305000@kettleparkseniorliving.com
SUMMARY:Table Games
DESCRIPTION:
URL:https://kettleparkseniorliving.com/event-calendar/table-games-4/
LOCATION:Lounge Area
CATEGORIES:Memory Care
END:VEVENT
BEGIN:VEVENT
DTSTART;TZID=America/Chicago:20250827T130000
DTEND;TZID=America/Chicago:20250827T133000
DTSTAMP:20260422T212254
CREATED:20250803T023200Z
LAST-MODIFIED:20250805T024631Z
UID:10001953-1756299600-1756301400@kettleparkseniorliving.com
SUMMARY:Music Appreciation/Adult Coloring
DESCRIPTION:
URL:https://kettleparkseniorliving.com/event-calendar/music-appreciation-adult-coloring-12/
LOCATION:Lounge Area
CATEGORIES:Memory Care
END:VEVENT
BEGIN:VEVENT
DTSTART;TZID=America/Chicago:20250827T091500
DTEND;TZID=America/Chicago:20250827T093000
DTSTAMP:20260422T212254
CREATED:20250802T023131Z
LAST-MODIFIED:20250827T040303Z
UID:10001938-1756286100-1756287000@kettleparkseniorliving.com
SUMMARY:News/Current Events
DESCRIPTION:
URL:https://kettleparkseniorliving.com/event-calendar/news-current-events-105/
LOCATION:Lounge Area
CATEGORIES:Memory Care
END:VEVENT
BEGIN:VEVENT
DTSTART;TZID=America/Chicago:20250826T180000
DTEND;TZID=America/Chicago:20250826T190000
DTSTAMP:20260422T212254
CREATED:20250802T023131Z
LAST-MODIFIED:20250826T040159Z
UID:10001936-1756231200-1756234800@kettleparkseniorliving.com
SUMMARY:Fun with Trivia
DESCRIPTION:
URL:https://kettleparkseniorliving.com/event-calendar/fun-with-trivia-15/
LOCATION:Lounge Area
CATEGORIES:Memory Care
END:VEVENT
BEGIN:VEVENT
DTSTART;TZID=America/Chicago:20250826T160000
DTEND;TZID=America/Chicago:20250826T170000
DTSTAMP:20260422T212254
CREATED:20250802T023131Z
LAST-MODIFIED:20250826T040200Z
UID:10001935-1756224000-1756227600@kettleparkseniorliving.com
SUMMARY:Move to the Music
DESCRIPTION:
URL:https://kettleparkseniorliving.com/event-calendar/move-to-the-music-30/
LOCATION:Lounge Area
CATEGORIES:Memory Care
END:VEVENT
BEGIN:VEVENT
DTSTART;TZID=America/Chicago:20250826T150000
DTEND;TZID=America/Chicago:20250826T160000
DTSTAMP:20260422T212254
CREATED:20250802T023131Z
LAST-MODIFIED:20250826T040200Z
UID:10001934-1756220400-1756224000@kettleparkseniorliving.com
SUMMARY:Snack & Chat
DESCRIPTION:
URL:https://kettleparkseniorliving.com/event-calendar/snack-chat-23/
LOCATION:Lounge Area
CATEGORIES:Memory Care
END:VEVENT
BEGIN:VEVENT
DTSTART;TZID=America/Chicago:20250826T140000
DTEND;TZID=America/Chicago:20250826T150000
DTSTAMP:20260422T212254
CREATED:20250802T023131Z
LAST-MODIFIED:20250826T040200Z
UID:10001933-1756216800-1756220400@kettleparkseniorliving.com
SUMMARY:Active Game
DESCRIPTION:
URL:https://kettleparkseniorliving.com/event-calendar/active-game-63/
LOCATION:Lounge Area
CATEGORIES:Memory Care
END:VEVENT
BEGIN:VEVENT
DTSTART;TZID=America/Chicago:20250826T130000
DTEND;TZID=America/Chicago:20250826T140000
DTSTAMP:20260422T212254
CREATED:20250802T023131Z
LAST-MODIFIED:20250826T040200Z
UID:10001930-1756213200-1756216800@kettleparkseniorliving.com
SUMMARY:Devotions with Chaplin Lee
DESCRIPTION:
URL:https://kettleparkseniorliving.com/event-calendar/devotions-with-chaplin-lee-29/
LOCATION:Lounge Area
CATEGORIES:Memory Care
END:VEVENT
BEGIN:VEVENT
DTSTART;TZID=America/Chicago:20250826T130000
DTEND;TZID=America/Chicago:20250826T133000
DTSTAMP:20260422T212254
CREATED:20250802T023131Z
LAST-MODIFIED:20250805T024631Z
UID:10001932-1756213200-1756215000@kettleparkseniorliving.com
SUMMARY:Music Appreciation/Adult Coloring
DESCRIPTION:
URL:https://kettleparkseniorliving.com/event-calendar/music-appreciation-adult-coloring-11/
LOCATION:Lounge Area
CATEGORIES:Memory Care
END:VEVENT
BEGIN:VEVENT
DTSTART;TZID=America/Chicago:20250826T110000
DTEND;TZID=America/Chicago:20250826T120000
DTSTAMP:20260422T212254
CREATED:20250802T023131Z
LAST-MODIFIED:20250826T040200Z
UID:10001928-1756206000-1756209600@kettleparkseniorliving.com
SUMMARY:Dog Visits w/ Lucy and Tink
DESCRIPTION:
URL:https://kettleparkseniorliving.com/event-calendar/dog-visits-w-lucy-and-tink-30/
LOCATION:Lounge Area
CATEGORIES:Memory Care
END:VEVENT
BEGIN:VEVENT
DTSTART;TZID=America/Chicago:20250826T093000
DTEND;TZID=America/Chicago:20250826T110000
DTSTAMP:20260422T212254
CREATED:20250801T021641Z
LAST-MODIFIED:20250826T040200Z
UID:10001922-1756200600-1756206000@kettleparkseniorliving.com
SUMMARY:Reading w/ Kathy
DESCRIPTION:
URL:https://kettleparkseniorliving.com/event-calendar/reading-w-kathy-15/
LOCATION:Lounge Area
CATEGORIES:Memory Care
END:VEVENT
BEGIN:VEVENT
DTSTART;TZID=America/Chicago:20250826T091500
DTEND;TZID=America/Chicago:20250826T093000
DTSTAMP:20260422T212254
CREATED:20250801T021641Z
LAST-MODIFIED:20250826T040200Z
UID:10001920-1756199700-1756200600@kettleparkseniorliving.com
SUMMARY:News/Current Events
DESCRIPTION:
URL:https://kettleparkseniorliving.com/event-calendar/news-current-events-104/
LOCATION:Lounge Area
CATEGORIES:Memory Care
END:VEVENT
BEGIN:VEVENT
DTSTART;TZID=America/Chicago:20250825T180000
DTEND;TZID=America/Chicago:20250825T190000
DTSTAMP:20260422T212254
CREATED:20250801T021641Z
LAST-MODIFIED:20250825T034628Z
UID:10001918-1756144800-1756148400@kettleparkseniorliving.com
SUMMARY:Finish the Phrase
DESCRIPTION:
URL:https://kettleparkseniorliving.com/event-calendar/finish-the-phrase-15/
LOCATION:Lounge Area
CATEGORIES:Memory Care
END:VEVENT
BEGIN:VEVENT
DTSTART;TZID=America/Chicago:20250825T150000
DTEND;TZID=America/Chicago:20250825T160000
DTSTAMP:20260422T212254
CREATED:20250801T021641Z
LAST-MODIFIED:20250803T023159Z
UID:10001916-1756134000-1756137600@kettleparkseniorliving.com
SUMMARY:Snack & Chat
DESCRIPTION:
URL:https://kettleparkseniorliving.com/event-calendar/snack-chat-22/
LOCATION:Lounge Area
CATEGORIES:Memory Care
END:VEVENT
BEGIN:VEVENT
DTSTART;TZID=America/Chicago:20250825T150000
DTEND;TZID=America/Chicago:20250825T160000
DTSTAMP:20260422T212254
CREATED:20250801T021641Z
LAST-MODIFIED:20250825T034628Z
UID:10001915-1756134000-1756137600@kettleparkseniorliving.com
SUMMARY:Happy Hour
DESCRIPTION:
URL:https://kettleparkseniorliving.com/event-calendar/happy-hour-26/
LOCATION:Lounge Area
CATEGORIES:Memory Care
END:VEVENT
BEGIN:VEVENT
DTSTART;TZID=America/Chicago:20250825T134500
DTEND;TZID=America/Chicago:20250825T141500
DTSTAMP:20260422T212254
CREATED:20250801T021641Z
LAST-MODIFIED:20250825T034627Z
UID:10001913-1756129500-1756131300@kettleparkseniorliving.com
SUMMARY:UMC Devotions
DESCRIPTION:
URL:https://kettleparkseniorliving.com/event-calendar/umc-devotions-30/
LOCATION:Lounge Area
CATEGORIES:Memory Care
END:VEVENT
BEGIN:VEVENT
DTSTART;TZID=America/Chicago:20250825T130000
DTEND;TZID=America/Chicago:20250825T133000
DTSTAMP:20260422T212254
CREATED:20250801T021641Z
LAST-MODIFIED:20250805T024630Z
UID:10001912-1756126800-1756128600@kettleparkseniorliving.com
SUMMARY:Music Appreciation/Adult Coloring
DESCRIPTION:
URL:https://kettleparkseniorliving.com/event-calendar/music-appreciation-adult-coloring-10/
LOCATION:Lounge Area
CATEGORIES:Memory Care
END:VEVENT
BEGIN:VEVENT
DTSTART;TZID=America/Chicago:20250825T091500
DTEND;TZID=America/Chicago:20250825T093000
DTSTAMP:20260422T212254
CREATED:20250731T021634Z
LAST-MODIFIED:20250825T034627Z
UID:10001905-1756113300-1756114200@kettleparkseniorliving.com
SUMMARY:News/Current Events
DESCRIPTION:
URL:https://kettleparkseniorliving.com/event-calendar/news-current-events-103/
LOCATION:Lounge Area
CATEGORIES:Memory Care
END:VEVENT
BEGIN:VEVENT
DTSTART;TZID=America/Chicago:20250824T180000
DTEND;TZID=America/Chicago:20250824T193000
DTSTAMP:20260422T212254
CREATED:20250731T021634Z
LAST-MODIFIED:20250824T034657Z
UID:10001903-1756058400-1756063800@kettleparkseniorliving.com
SUMMARY:Active Games
DESCRIPTION:
URL:https://kettleparkseniorliving.com/event-calendar/active-games-15/
LOCATION:Lounge Area
CATEGORIES:Memory Care
END:VEVENT
END:VCALENDAR