BEGIN:VCALENDAR
VERSION:2.0
PRODID:-//Kettle Park Senior Living - ECPv6.11.2.1//NONSGML v1.0//EN
CALSCALE:GREGORIAN
METHOD:PUBLISH
X-ORIGINAL-URL:https://kettleparkseniorliving.com
X-WR-CALDESC:Events for Kettle Park Senior Living
REFRESH-INTERVAL;VALUE=DURATION:PT1H
X-Robots-Tag:noindex
X-PUBLISHED-TTL:PT1H
BEGIN:VTIMEZONE
TZID:America/Chicago
BEGIN:DAYLIGHT
TZOFFSETFROM:-0600
TZOFFSETTO:-0500
TZNAME:CDT
DTSTART:20250309T080000
END:DAYLIGHT
BEGIN:STANDARD
TZOFFSETFROM:-0500
TZOFFSETTO:-0600
TZNAME:CST
DTSTART:20251102T070000
END:STANDARD
END:VTIMEZONE
BEGIN:VEVENT
DTSTART;TZID=America/Chicago:20250826T110000
DTEND;TZID=America/Chicago:20250826T120000
DTSTAMP:20260423T010504
CREATED:20250802T023131Z
LAST-MODIFIED:20250826T040200Z
UID:10001928-1756206000-1756209600@kettleparkseniorliving.com
SUMMARY:Dog Visits w/ Lucy and Tink
DESCRIPTION:
URL:https://kettleparkseniorliving.com/event-calendar/dog-visits-w-lucy-and-tink-30/
LOCATION:Lounge Area
CATEGORIES:Memory Care
END:VEVENT
BEGIN:VEVENT
DTSTART;TZID=America/Chicago:20250826T093000
DTEND;TZID=America/Chicago:20250826T110000
DTSTAMP:20260423T010504
CREATED:20250801T021641Z
LAST-MODIFIED:20250826T040200Z
UID:10001922-1756200600-1756206000@kettleparkseniorliving.com
SUMMARY:Reading w/ Kathy
DESCRIPTION:
URL:https://kettleparkseniorliving.com/event-calendar/reading-w-kathy-15/
LOCATION:Lounge Area
CATEGORIES:Memory Care
END:VEVENT
BEGIN:VEVENT
DTSTART;TZID=America/Chicago:20250826T091500
DTEND;TZID=America/Chicago:20250826T093000
DTSTAMP:20260423T010504
CREATED:20250801T021641Z
LAST-MODIFIED:20250826T040200Z
UID:10001920-1756199700-1756200600@kettleparkseniorliving.com
SUMMARY:News/Current Events
DESCRIPTION:
URL:https://kettleparkseniorliving.com/event-calendar/news-current-events-104/
LOCATION:Lounge Area
CATEGORIES:Memory Care
END:VEVENT
BEGIN:VEVENT
DTSTART;TZID=America/Chicago:20250825T180000
DTEND;TZID=America/Chicago:20250825T190000
DTSTAMP:20260423T010504
CREATED:20250801T021641Z
LAST-MODIFIED:20250825T034628Z
UID:10001918-1756144800-1756148400@kettleparkseniorliving.com
SUMMARY:Finish the Phrase
DESCRIPTION:
URL:https://kettleparkseniorliving.com/event-calendar/finish-the-phrase-15/
LOCATION:Lounge Area
CATEGORIES:Memory Care
END:VEVENT
BEGIN:VEVENT
DTSTART;TZID=America/Chicago:20250825T150000
DTEND;TZID=America/Chicago:20250825T160000
DTSTAMP:20260423T010504
CREATED:20250801T021641Z
LAST-MODIFIED:20250825T034628Z
UID:10001915-1756134000-1756137600@kettleparkseniorliving.com
SUMMARY:Happy Hour
DESCRIPTION:
URL:https://kettleparkseniorliving.com/event-calendar/happy-hour-26/
LOCATION:Lounge Area
CATEGORIES:Memory Care
END:VEVENT
BEGIN:VEVENT
DTSTART;TZID=America/Chicago:20250825T150000
DTEND;TZID=America/Chicago:20250825T160000
DTSTAMP:20260423T010504
CREATED:20250801T021641Z
LAST-MODIFIED:20250803T023159Z
UID:10001916-1756134000-1756137600@kettleparkseniorliving.com
SUMMARY:Snack & Chat
DESCRIPTION:
URL:https://kettleparkseniorliving.com/event-calendar/snack-chat-22/
LOCATION:Lounge Area
CATEGORIES:Memory Care
END:VEVENT
BEGIN:VEVENT
DTSTART;TZID=America/Chicago:20250825T134500
DTEND;TZID=America/Chicago:20250825T141500
DTSTAMP:20260423T010504
CREATED:20250801T021641Z
LAST-MODIFIED:20250825T034627Z
UID:10001913-1756129500-1756131300@kettleparkseniorliving.com
SUMMARY:UMC Devotions
DESCRIPTION:
URL:https://kettleparkseniorliving.com/event-calendar/umc-devotions-30/
LOCATION:Lounge Area
CATEGORIES:Memory Care
END:VEVENT
BEGIN:VEVENT
DTSTART;TZID=America/Chicago:20250825T130000
DTEND;TZID=America/Chicago:20250825T133000
DTSTAMP:20260423T010504
CREATED:20250801T021641Z
LAST-MODIFIED:20250805T024630Z
UID:10001912-1756126800-1756128600@kettleparkseniorliving.com
SUMMARY:Music Appreciation/Adult Coloring
DESCRIPTION:
URL:https://kettleparkseniorliving.com/event-calendar/music-appreciation-adult-coloring-10/
LOCATION:Lounge Area
CATEGORIES:Memory Care
END:VEVENT
BEGIN:VEVENT
DTSTART;TZID=America/Chicago:20250825T091500
DTEND;TZID=America/Chicago:20250825T093000
DTSTAMP:20260423T010504
CREATED:20250731T021634Z
LAST-MODIFIED:20250825T034627Z
UID:10001905-1756113300-1756114200@kettleparkseniorliving.com
SUMMARY:News/Current Events
DESCRIPTION:
URL:https://kettleparkseniorliving.com/event-calendar/news-current-events-103/
LOCATION:Lounge Area
CATEGORIES:Memory Care
END:VEVENT
BEGIN:VEVENT
DTSTART;TZID=America/Chicago:20250824T180000
DTEND;TZID=America/Chicago:20250824T193000
DTSTAMP:20260423T010504
CREATED:20250731T021634Z
LAST-MODIFIED:20250824T034657Z
UID:10001903-1756058400-1756063800@kettleparkseniorliving.com
SUMMARY:Active Games
DESCRIPTION:
URL:https://kettleparkseniorliving.com/event-calendar/active-games-15/
LOCATION:Lounge Area
CATEGORIES:Memory Care
END:VEVENT
BEGIN:VEVENT
DTSTART;TZID=America/Chicago:20250824T150000
DTEND;TZID=America/Chicago:20250824T160000
DTSTAMP:20260423T010504
CREATED:20250731T021634Z
LAST-MODIFIED:20250824T034658Z
UID:10001901-1756047600-1756051200@kettleparkseniorliving.com
SUMMARY:Snack & Chat
DESCRIPTION:
URL:https://kettleparkseniorliving.com/event-calendar/snack-chat-21/
LOCATION:Lounge Area
CATEGORIES:Memory Care
END:VEVENT
BEGIN:VEVENT
DTSTART;TZID=America/Chicago:20250824T143000
DTEND;TZID=America/Chicago:20250824T150000
DTSTAMP:20260423T010504
CREATED:20250731T021634Z
LAST-MODIFIED:20250824T034658Z
UID:10001900-1756045800-1756047600@kettleparkseniorliving.com
SUMMARY:Active Game
DESCRIPTION:
URL:https://kettleparkseniorliving.com/event-calendar/active-game-62/
LOCATION:Lounge Area
CATEGORIES:Memory Care
END:VEVENT
BEGIN:VEVENT
DTSTART;TZID=America/Chicago:20250824T133000
DTEND;TZID=America/Chicago:20250824T143000
DTSTAMP:20260423T010504
CREATED:20250731T021634Z
LAST-MODIFIED:20250824T034658Z
UID:10001899-1756042200-1756045800@kettleparkseniorliving.com
SUMMARY:Word Games
DESCRIPTION:
URL:https://kettleparkseniorliving.com/event-calendar/word-games-15/
LOCATION:Lounge Area
CATEGORIES:Memory Care
END:VEVENT
BEGIN:VEVENT
DTSTART;TZID=America/Chicago:20250824T130000
DTEND;TZID=America/Chicago:20250824T133000
DTSTAMP:20260423T010504
CREATED:20250731T021633Z
LAST-MODIFIED:20250805T024630Z
UID:10001898-1756040400-1756042200@kettleparkseniorliving.com
SUMMARY:Music Appreciation/Adult Coloring
DESCRIPTION:
URL:https://kettleparkseniorliving.com/event-calendar/music-appreciation-adult-coloring-9/
LOCATION:Lounge Area
CATEGORIES:Memory Care
END:VEVENT
BEGIN:VEVENT
DTSTART;TZID=America/Chicago:20250824T103000
DTEND;TZID=America/Chicago:20250824T113000
DTSTAMP:20260423T010504
CREATED:20250804T023143Z
LAST-MODIFIED:20250824T034658Z
UID:10001969-1756031400-1756035000@kettleparkseniorliving.com
SUMMARY:Hymn Sing
DESCRIPTION:
URL:https://kettleparkseniorliving.com/event-calendar/hymn-sing-27/
LOCATION:Lounge Area
CATEGORIES:Memory Care
END:VEVENT
BEGIN:VEVENT
DTSTART;TZID=America/Chicago:20250824T100000
DTEND;TZID=America/Chicago:20250824T103000
DTSTAMP:20260423T010504
CREATED:20250730T021731Z
LAST-MODIFIED:20250824T034658Z
UID:10001890-1756029600-1756031400@kettleparkseniorliving.com
SUMMARY:TV Church Service
DESCRIPTION:
URL:https://kettleparkseniorliving.com/event-calendar/tv-church-service-15/
LOCATION:Lounge Area
CATEGORIES:Memory Care
END:VEVENT
BEGIN:VEVENT
DTSTART;TZID=America/Chicago:20250824T091500
DTEND;TZID=America/Chicago:20250824T093000
DTSTAMP:20260423T010504
CREATED:20250730T021731Z
LAST-MODIFIED:20250824T034658Z
UID:10001888-1756026900-1756027800@kettleparkseniorliving.com
SUMMARY:News/Current Events
DESCRIPTION:
URL:https://kettleparkseniorliving.com/event-calendar/news-current-events-102/
LOCATION:Lounge Area
CATEGORIES:Memory Care
END:VEVENT
BEGIN:VEVENT
DTSTART;TZID=America/Chicago:20250823T150000
DTEND;TZID=America/Chicago:20250823T160000
DTSTAMP:20260423T010504
CREATED:20250729T021644Z
LAST-MODIFIED:20250823T034722Z
UID:10001872-1755961200-1755964800@kettleparkseniorliving.com
SUMMARY:Snack & Chat
DESCRIPTION:
URL:https://kettleparkseniorliving.com/event-calendar/snack-chat-20/
LOCATION:Lounge Area
CATEGORIES:Memory Care
END:VEVENT
BEGIN:VEVENT
DTSTART;TZID=America/Chicago:20250823T130000
DTEND;TZID=America/Chicago:20250823T133000
DTSTAMP:20260423T010504
CREATED:20250730T021731Z
LAST-MODIFIED:20250805T024629Z
UID:10001887-1755954000-1755955800@kettleparkseniorliving.com
SUMMARY:Music Appreciation/Adult Coloring
DESCRIPTION:
URL:https://kettleparkseniorliving.com/event-calendar/music-appreciation-adult-coloring-8/
LOCATION:Lounge Area
CATEGORIES:Memory Care
END:VEVENT
BEGIN:VEVENT
DTSTART;TZID=America/Chicago:20250823T110000
DTEND;TZID=America/Chicago:20250823T233000
DTSTAMP:20260423T010504
CREATED:20250730T021730Z
LAST-MODIFIED:20250824T034658Z
UID:10001883-1755946800-1755991800@kettleparkseniorliving.com
SUMMARY:Sing-along
DESCRIPTION:
URL:https://kettleparkseniorliving.com/event-calendar/sing-along-17/
LOCATION:Lounge Area
CATEGORIES:Memory Care
END:VEVENT
BEGIN:VEVENT
DTSTART;TZID=America/Chicago:20250823T091500
DTEND;TZID=America/Chicago:20250823T093000
DTSTAMP:20260423T010504
CREATED:20250729T021644Z
LAST-MODIFIED:20250823T034722Z
UID:10001870-1755940500-1755941400@kettleparkseniorliving.com
SUMMARY:News/Current Events
DESCRIPTION:
URL:https://kettleparkseniorliving.com/event-calendar/news-current-events-101/
LOCATION:Lounge Area
CATEGORIES:Memory Care
END:VEVENT
BEGIN:VEVENT
DTSTART;TZID=America/Chicago:20250822T180000
DTEND;TZID=America/Chicago:20250822T193000
DTSTAMP:20260423T010504
CREATED:20250729T021644Z
LAST-MODIFIED:20250822T034628Z
UID:10001868-1755885600-1755891000@kettleparkseniorliving.com
SUMMARY:Friday Night Movie
DESCRIPTION:
URL:https://kettleparkseniorliving.com/event-calendar/friday-night-movie-30/
LOCATION:Lounge Area
CATEGORIES:Memory Care
END:VEVENT
BEGIN:VEVENT
DTSTART;TZID=America/Chicago:20250822T150000
DTEND;TZID=America/Chicago:20250822T160000
DTSTAMP:20260423T010504
CREATED:20250729T021644Z
LAST-MODIFIED:20250822T034628Z
UID:10001866-1755874800-1755878400@kettleparkseniorliving.com
SUMMARY:Snack & Chat
DESCRIPTION:
URL:https://kettleparkseniorliving.com/event-calendar/snack-chat-19/
LOCATION:Lounge Area
CATEGORIES:Memory Care
END:VEVENT
BEGIN:VEVENT
DTSTART;TZID=America/Chicago:20250822T130000
DTEND;TZID=America/Chicago:20250822T133000
DTSTAMP:20260423T010504
CREATED:20250729T021644Z
LAST-MODIFIED:20250805T024629Z
UID:10001864-1755867600-1755869400@kettleparkseniorliving.com
SUMMARY:Music Appreciation/Adult Coloring
DESCRIPTION:
URL:https://kettleparkseniorliving.com/event-calendar/music-appreciation-adult-coloring-7/
LOCATION:Lounge Area
CATEGORIES:Memory Care
END:VEVENT
BEGIN:VEVENT
DTSTART;TZID=America/Chicago:20250822T091500
DTEND;TZID=America/Chicago:20250822T093000
DTSTAMP:20260423T010504
CREATED:20250728T021638Z
LAST-MODIFIED:20250822T034628Z
UID:10001855-1755854100-1755855000@kettleparkseniorliving.com
SUMMARY:News/Current Events
DESCRIPTION:
URL:https://kettleparkseniorliving.com/event-calendar/news-current-events-100/
LOCATION:Lounge Area
CATEGORIES:Memory Care
END:VEVENT
BEGIN:VEVENT
DTSTART;TZID=America/Chicago:20250821T180000
DTEND;TZID=America/Chicago:20250821T190000
DTSTAMP:20260423T010504
CREATED:20250728T021638Z
LAST-MODIFIED:20250821T033212Z
UID:10001853-1755799200-1755802800@kettleparkseniorliving.com
SUMMARY:Active Game
DESCRIPTION:
URL:https://kettleparkseniorliving.com/event-calendar/active-game-60/
LOCATION:Lounge Area
CATEGORIES:Memory Care
END:VEVENT
BEGIN:VEVENT
DTSTART;TZID=America/Chicago:20250821T160000
DTEND;TZID=America/Chicago:20250821T170000
DTSTAMP:20260423T010504
CREATED:20250728T021638Z
LAST-MODIFIED:20250821T033213Z
UID:10001852-1755792000-1755795600@kettleparkseniorliving.com
SUMMARY:Move to the Music
DESCRIPTION:
URL:https://kettleparkseniorliving.com/event-calendar/move-to-the-music-29/
LOCATION:Lounge Area
CATEGORIES:Memory Care
END:VEVENT
BEGIN:VEVENT
DTSTART;TZID=America/Chicago:20250821T150000
DTEND;TZID=America/Chicago:20250821T160000
DTSTAMP:20260423T010504
CREATED:20250728T021638Z
LAST-MODIFIED:20250821T033213Z
UID:10001851-1755788400-1755792000@kettleparkseniorliving.com
SUMMARY:Snack & Chat
DESCRIPTION:
URL:https://kettleparkseniorliving.com/event-calendar/snack-chat-18/
LOCATION:Lounge Area
CATEGORIES:Memory Care
END:VEVENT
BEGIN:VEVENT
DTSTART;TZID=America/Chicago:20250821T143000
DTEND;TZID=America/Chicago:20250821T150000
DTSTAMP:20260423T010504
CREATED:20250728T021638Z
LAST-MODIFIED:20250821T033213Z
UID:10001850-1755786600-1755788400@kettleparkseniorliving.com
SUMMARY:Reminisce
DESCRIPTION:
URL:https://kettleparkseniorliving.com/event-calendar/reminisce-30/
LOCATION:Lounge Area
CATEGORIES:Memory Care
END:VEVENT
BEGIN:VEVENT
DTSTART;TZID=America/Chicago:20250821T133000
DTEND;TZID=America/Chicago:20250821T143000
DTSTAMP:20260423T010504
CREATED:20250728T021638Z
LAST-MODIFIED:20250821T033213Z
UID:10001849-1755783000-1755786600@kettleparkseniorliving.com
SUMMARY:Balloon Games
DESCRIPTION:
URL:https://kettleparkseniorliving.com/event-calendar/balloon-games-15/
LOCATION:Lounge Area
CATEGORIES:Memory Care
END:VEVENT
END:VCALENDAR