BEGIN:VCALENDAR
VERSION:2.0
PRODID:-//Kettle Park Senior Living - ECPv6.11.2.1//NONSGML v1.0//EN
CALSCALE:GREGORIAN
METHOD:PUBLISH
X-WR-CALNAME:Kettle Park Senior Living
X-ORIGINAL-URL:https://kettleparkseniorliving.com
X-WR-CALDESC:Events for Kettle Park Senior Living
REFRESH-INTERVAL;VALUE=DURATION:PT1H
X-Robots-Tag:noindex
X-PUBLISHED-TTL:PT1H
BEGIN:VTIMEZONE
TZID:America/Chicago
BEGIN:DAYLIGHT
TZOFFSETFROM:-0600
TZOFFSETTO:-0500
TZNAME:CDT
DTSTART:20250309T080000
END:DAYLIGHT
BEGIN:STANDARD
TZOFFSETFROM:-0500
TZOFFSETTO:-0600
TZNAME:CST
DTSTART:20251102T070000
END:STANDARD
END:VTIMEZONE
BEGIN:VEVENT
DTSTART;TZID=America/Chicago:20250815T130000
DTEND;TZID=America/Chicago:20250815T133000
DTSTAMP:20260423T111834
CREATED:20250722T020138Z
LAST-MODIFIED:20250805T024626Z
UID:10001748-1755262800-1755264600@kettleparkseniorliving.com
SUMMARY:Music Appreciation/Adult Coloring
DESCRIPTION:
URL:https://kettleparkseniorliving.com/event-calendar/music-appreciation-84/
LOCATION:Lounge Area
CATEGORIES:Memory Care
END:VEVENT
BEGIN:VEVENT
DTSTART;TZID=America/Chicago:20250815T091500
DTEND;TZID=America/Chicago:20250815T093000
DTSTAMP:20260423T111834
CREATED:20250721T014652Z
LAST-MODIFIED:20250815T031628Z
UID:10001731-1755249300-1755250200@kettleparkseniorliving.com
SUMMARY:News/Current Events
DESCRIPTION:
URL:https://kettleparkseniorliving.com/event-calendar/news-current-events-93/
LOCATION:Lounge Area
CATEGORIES:Memory Care
END:VEVENT
BEGIN:VEVENT
DTSTART;TZID=America/Chicago:20250814T180000
DTEND;TZID=America/Chicago:20250814T190000
DTSTAMP:20260423T111834
CREATED:20250721T014652Z
LAST-MODIFIED:20250814T031622Z
UID:10001729-1755194400-1755198000@kettleparkseniorliving.com
SUMMARY:Active Game
DESCRIPTION:
URL:https://kettleparkseniorliving.com/event-calendar/active-game-56/
LOCATION:Lounge Area
CATEGORIES:Memory Care
END:VEVENT
BEGIN:VEVENT
DTSTART;TZID=America/Chicago:20250814T160000
DTEND;TZID=America/Chicago:20250814T170000
DTSTAMP:20260423T111834
CREATED:20250721T014651Z
LAST-MODIFIED:20250814T031622Z
UID:10001728-1755187200-1755190800@kettleparkseniorliving.com
SUMMARY:Move to the Music
DESCRIPTION:
URL:https://kettleparkseniorliving.com/event-calendar/move-to-the-music-27/
LOCATION:Lounge Area
CATEGORIES:Memory Care
END:VEVENT
BEGIN:VEVENT
DTSTART;TZID=America/Chicago:20250814T150000
DTEND;TZID=America/Chicago:20250814T160000
DTSTAMP:20260423T111834
CREATED:20250721T014651Z
LAST-MODIFIED:20250814T031622Z
UID:10001727-1755183600-1755187200@kettleparkseniorliving.com
SUMMARY:Snack & Chat
DESCRIPTION:
URL:https://kettleparkseniorliving.com/event-calendar/snack-chat-11/
LOCATION:Lounge Area
CATEGORIES:Memory Care
END:VEVENT
BEGIN:VEVENT
DTSTART;TZID=America/Chicago:20250814T143000
DTEND;TZID=America/Chicago:20250814T150000
DTSTAMP:20260423T111834
CREATED:20250721T014651Z
LAST-MODIFIED:20250814T031622Z
UID:10001726-1755181800-1755183600@kettleparkseniorliving.com
SUMMARY:Reminisce
DESCRIPTION:
URL:https://kettleparkseniorliving.com/event-calendar/reminisce-28/
LOCATION:Lounge Area
CATEGORIES:Memory Care
END:VEVENT
BEGIN:VEVENT
DTSTART;TZID=America/Chicago:20250814T133000
DTEND;TZID=America/Chicago:20250814T143000
DTSTAMP:20260423T111834
CREATED:20250721T014651Z
LAST-MODIFIED:20250814T031622Z
UID:10001725-1755178200-1755181800@kettleparkseniorliving.com
SUMMARY:Balloon Games
DESCRIPTION:
URL:https://kettleparkseniorliving.com/event-calendar/balloon-games-14/
LOCATION:Lounge Area
CATEGORIES:Memory Care
END:VEVENT
BEGIN:VEVENT
DTSTART;TZID=America/Chicago:20250814T130000
DTEND;TZID=America/Chicago:20250814T133000
DTSTAMP:20260423T111834
CREATED:20250721T014651Z
LAST-MODIFIED:20250805T024626Z
UID:10001724-1755176400-1755178200@kettleparkseniorliving.com
SUMMARY:Music Appreciation/Adult Coloring
DESCRIPTION:
URL:https://kettleparkseniorliving.com/event-calendar/music-appreciation-83/
LOCATION:Lounge Area
CATEGORIES:Memory Care
END:VEVENT
BEGIN:VEVENT
DTSTART;TZID=America/Chicago:20250814T110000
DTEND;TZID=America/Chicago:20250814T120000
DTSTAMP:20260423T111834
CREATED:20250721T014651Z
LAST-MODIFIED:20250814T031622Z
UID:10001722-1755169200-1755172800@kettleparkseniorliving.com
SUMMARY:Dog Visits w/ Lucy and Tink
DESCRIPTION:
URL:https://kettleparkseniorliving.com/event-calendar/dog-visits-w-lucy-and-tink-27/
LOCATION:Lounge Area
CATEGORIES:Memory Care
END:VEVENT
BEGIN:VEVENT
DTSTART;TZID=America/Chicago:20250814T100000
DTEND;TZID=America/Chicago:20250814T110000
DTSTAMP:20260423T111834
CREATED:20250721T014651Z
LAST-MODIFIED:20250814T031622Z
UID:10001721-1755165600-1755169200@kettleparkseniorliving.com
SUMMARY:Linked Senior
DESCRIPTION:
URL:https://kettleparkseniorliving.com/event-calendar/linked-senior-14/
LOCATION:Lounge Area
CATEGORIES:Memory Care
END:VEVENT
BEGIN:VEVENT
DTSTART;TZID=America/Chicago:20250814T091500
DTEND;TZID=America/Chicago:20250814T093000
DTSTAMP:20260423T111834
CREATED:20250720T014729Z
LAST-MODIFIED:20250814T031621Z
UID:10001705-1755162900-1755163800@kettleparkseniorliving.com
SUMMARY:News/Current Events
DESCRIPTION:
URL:https://kettleparkseniorliving.com/event-calendar/news-current-events-92/
LOCATION:Lounge Area
CATEGORIES:Memory Care
END:VEVENT
BEGIN:VEVENT
DTSTART;TZID=America/Chicago:20250813T180000
DTEND;TZID=America/Chicago:20250813T190000
DTSTAMP:20260423T111834
CREATED:20250720T014729Z
LAST-MODIFIED:20250813T030121Z
UID:10001703-1755108000-1755111600@kettleparkseniorliving.com
SUMMARY:Reminisce
DESCRIPTION:
URL:https://kettleparkseniorliving.com/event-calendar/reminisce-27/
LOCATION:Lounge Area
CATEGORIES:Memory Care
END:VEVENT
BEGIN:VEVENT
DTSTART;TZID=America/Chicago:20250813T150000
DTEND;TZID=America/Chicago:20250813T160000
DTSTAMP:20260423T111834
CREATED:20250721T014651Z
LAST-MODIFIED:20250813T030121Z
UID:10001719-1755097200-1755100800@kettleparkseniorliving.com
SUMMARY:Snack & Chat
DESCRIPTION:
URL:https://kettleparkseniorliving.com/event-calendar/snack-chat-10/
LOCATION:Lounge Area
CATEGORIES:Memory Care
END:VEVENT
BEGIN:VEVENT
DTSTART;TZID=America/Chicago:20250813T150000
DTEND;TZID=America/Chicago:20250813T153000
DTSTAMP:20260423T111834
CREATED:20250720T014729Z
LAST-MODIFIED:20250720T014729Z
UID:10001701-1755097200-1755099000@kettleparkseniorliving.com
SUMMARY:Smoothies & Chat
DESCRIPTION:
URL:https://kettleparkseniorliving.com/event-calendar/smoothies-chat-132/
LOCATION:Lounge Area
CATEGORIES:Memory Care
END:VEVENT
BEGIN:VEVENT
DTSTART;TZID=America/Chicago:20250813T133000
DTEND;TZID=America/Chicago:20250813T143000
DTSTAMP:20260423T111834
CREATED:20250804T023139Z
LAST-MODIFIED:20250813T030121Z
UID:10001965-1755091800-1755095400@kettleparkseniorliving.com
SUMMARY:Table Games
DESCRIPTION:
URL:https://kettleparkseniorliving.com/event-calendar/table-games-2/
LOCATION:Lounge Area
CATEGORIES:Memory Care
END:VEVENT
BEGIN:VEVENT
DTSTART;TZID=America/Chicago:20250813T130000
DTEND;TZID=America/Chicago:20250813T133000
DTSTAMP:20260423T111834
CREATED:20250720T014729Z
LAST-MODIFIED:20250805T024625Z
UID:10001700-1755090000-1755091800@kettleparkseniorliving.com
SUMMARY:Music Appreciation/Adult Coloring
DESCRIPTION:
URL:https://kettleparkseniorliving.com/event-calendar/music-appreciation-82/
LOCATION:Lounge Area
CATEGORIES:Memory Care
END:VEVENT
BEGIN:VEVENT
DTSTART;TZID=America/Chicago:20250813T091500
DTEND;TZID=America/Chicago:20250813T093000
DTSTAMP:20260423T111834
CREATED:20250720T014729Z
LAST-MODIFIED:20250813T030121Z
UID:10001695-1755076500-1755077400@kettleparkseniorliving.com
SUMMARY:News/Current Events
DESCRIPTION:
URL:https://kettleparkseniorliving.com/event-calendar/news-current-events-91/
LOCATION:Lounge Area
CATEGORIES:Memory Care
END:VEVENT
BEGIN:VEVENT
DTSTART;TZID=America/Chicago:20250812T180000
DTEND;TZID=America/Chicago:20250812T190000
DTSTAMP:20260423T111834
CREATED:20250719T014641Z
LAST-MODIFIED:20250812T030122Z
UID:10001688-1755021600-1755025200@kettleparkseniorliving.com
SUMMARY:Fun with Trivia
DESCRIPTION:
URL:https://kettleparkseniorliving.com/event-calendar/fun-with-trivia-13/
LOCATION:Lounge Area
CATEGORIES:Memory Care
END:VEVENT
BEGIN:VEVENT
DTSTART;TZID=America/Chicago:20250812T160000
DTEND;TZID=America/Chicago:20250812T170000
DTSTAMP:20260423T111834
CREATED:20250719T014641Z
LAST-MODIFIED:20250812T030124Z
UID:10001687-1755014400-1755018000@kettleparkseniorliving.com
SUMMARY:Move to the Music
DESCRIPTION:
URL:https://kettleparkseniorliving.com/event-calendar/move-to-the-music-26/
LOCATION:Lounge Area
CATEGORIES:Memory Care
END:VEVENT
BEGIN:VEVENT
DTSTART;TZID=America/Chicago:20250812T150000
DTEND;TZID=America/Chicago:20250812T160000
DTSTAMP:20260423T111834
CREATED:20250721T014651Z
LAST-MODIFIED:20250812T030124Z
UID:10001718-1755010800-1755014400@kettleparkseniorliving.com
SUMMARY:Snack & Chat
DESCRIPTION:
URL:https://kettleparkseniorliving.com/event-calendar/snack-chat-9/
LOCATION:Lounge Area
CATEGORIES:Memory Care
END:VEVENT
BEGIN:VEVENT
DTSTART;TZID=America/Chicago:20250812T150000
DTEND;TZID=America/Chicago:20250812T153000
DTSTAMP:20260423T111834
CREATED:20250719T014641Z
LAST-MODIFIED:20250720T014728Z
UID:10001686-1755010800-1755012600@kettleparkseniorliving.com
SUMMARY:Smoothies & Chat
DESCRIPTION:
URL:https://kettleparkseniorliving.com/event-calendar/smoothies-chat-131/
LOCATION:Lounge Area
CATEGORIES:Memory Care
END:VEVENT
BEGIN:VEVENT
DTSTART;TZID=America/Chicago:20250812T140000
DTEND;TZID=America/Chicago:20250812T150000
DTSTAMP:20260423T111834
CREATED:20250719T014641Z
LAST-MODIFIED:20250807T024636Z
UID:10001685-1755007200-1755010800@kettleparkseniorliving.com
SUMMARY:Active Game
DESCRIPTION:
URL:https://kettleparkseniorliving.com/event-calendar/active-game-55/
LOCATION:Lounge Area
CATEGORIES:Memory Care
END:VEVENT
BEGIN:VEVENT
DTSTART;TZID=America/Chicago:20250812T130000
DTEND;TZID=America/Chicago:20250812T140000
DTSTAMP:20260423T111834
CREATED:20250719T014641Z
LAST-MODIFIED:20250812T030124Z
UID:10001683-1755003600-1755007200@kettleparkseniorliving.com
SUMMARY:Devotions with Chaplin Lee
DESCRIPTION:
URL:https://kettleparkseniorliving.com/event-calendar/devotions-with-chaplin-lee-25/
LOCATION:Lounge Area
CATEGORIES:Memory Care
END:VEVENT
BEGIN:VEVENT
DTSTART;TZID=America/Chicago:20250812T130000
DTEND;TZID=America/Chicago:20250812T133000
DTSTAMP:20260423T111834
CREATED:20250719T014641Z
LAST-MODIFIED:20250805T024625Z
UID:10001682-1755003600-1755005400@kettleparkseniorliving.com
SUMMARY:Music Appreciation/Adult Coloring
DESCRIPTION:
URL:https://kettleparkseniorliving.com/event-calendar/music-appreciation-81/
LOCATION:Lounge Area
CATEGORIES:Memory Care
END:VEVENT
BEGIN:VEVENT
DTSTART;TZID=America/Chicago:20250812T110000
DTEND;TZID=America/Chicago:20250812T120000
DTSTAMP:20260423T111834
CREATED:20250719T014641Z
LAST-MODIFIED:20250812T030124Z
UID:10001681-1754996400-1755000000@kettleparkseniorliving.com
SUMMARY:Dog Visits w/ Lucy and Tink
DESCRIPTION:
URL:https://kettleparkseniorliving.com/event-calendar/dog-visits-w-lucy-and-tink-26/
LOCATION:Lounge Area
CATEGORIES:Memory Care
END:VEVENT
BEGIN:VEVENT
DTSTART;TZID=America/Chicago:20250812T093000
DTEND;TZID=America/Chicago:20250812T110000
DTSTAMP:20260423T111834
CREATED:20250718T013338Z
LAST-MODIFIED:20250812T030124Z
UID:10001673-1754991000-1754996400@kettleparkseniorliving.com
SUMMARY:Reading w/ Kathy
DESCRIPTION:
URL:https://kettleparkseniorliving.com/event-calendar/reading-w-kathy-13/
LOCATION:Lounge Area
CATEGORIES:Memory Care
END:VEVENT
BEGIN:VEVENT
DTSTART;TZID=America/Chicago:20250812T091500
DTEND;TZID=America/Chicago:20250812T093000
DTSTAMP:20260423T111834
CREATED:20250718T013338Z
LAST-MODIFIED:20250812T030124Z
UID:10001671-1754990100-1754991000@kettleparkseniorliving.com
SUMMARY:News/Current Events
DESCRIPTION:
URL:https://kettleparkseniorliving.com/event-calendar/news-current-events-90/
LOCATION:Lounge Area
CATEGORIES:Memory Care
END:VEVENT
BEGIN:VEVENT
DTSTART;TZID=America/Chicago:20250811T180000
DTEND;TZID=America/Chicago:20250811T190000
DTSTAMP:20260423T111834
CREATED:20250718T013338Z
LAST-MODIFIED:20250811T024621Z
UID:10001669-1754935200-1754938800@kettleparkseniorliving.com
SUMMARY:Finish the Phrase
DESCRIPTION:
URL:https://kettleparkseniorliving.com/event-calendar/finish-the-phrase-13/
LOCATION:Lounge Area
CATEGORIES:Memory Care
END:VEVENT
BEGIN:VEVENT
DTSTART;TZID=America/Chicago:20250811T150000
DTEND;TZID=America/Chicago:20250811T160000
DTSTAMP:20260423T111834
CREATED:20250721T014650Z
LAST-MODIFIED:20250803T023153Z
UID:10001717-1754924400-1754928000@kettleparkseniorliving.com
SUMMARY:Snack & Chat
DESCRIPTION:
URL:https://kettleparkseniorliving.com/event-calendar/snack-chat-8/
LOCATION:Lounge Area
CATEGORIES:Memory Care
END:VEVENT
BEGIN:VEVENT
DTSTART;TZID=America/Chicago:20250811T150000
DTEND;TZID=America/Chicago:20250811T160000
DTSTAMP:20260423T111834
CREATED:20250718T013338Z
LAST-MODIFIED:20250811T024621Z
UID:10001666-1754924400-1754928000@kettleparkseniorliving.com
SUMMARY:Happy Hour
DESCRIPTION:
URL:https://kettleparkseniorliving.com/event-calendar/happy-hour-22/
LOCATION:Lounge Area
CATEGORIES:Memory Care
END:VEVENT
END:VCALENDAR