BEGIN:VCALENDAR
VERSION:2.0
PRODID:-//Kettle Park Senior Living - ECPv6.11.2.1//NONSGML v1.0//EN
CALSCALE:GREGORIAN
METHOD:PUBLISH
X-ORIGINAL-URL:https://kettleparkseniorliving.com
X-WR-CALDESC:Events for Kettle Park Senior Living
REFRESH-INTERVAL;VALUE=DURATION:PT1H
X-Robots-Tag:noindex
X-PUBLISHED-TTL:PT1H
BEGIN:VTIMEZONE
TZID:America/Chicago
BEGIN:DAYLIGHT
TZOFFSETFROM:-0600
TZOFFSETTO:-0500
TZNAME:CDT
DTSTART:20250309T080000
END:DAYLIGHT
BEGIN:STANDARD
TZOFFSETFROM:-0500
TZOFFSETTO:-0600
TZNAME:CST
DTSTART:20251102T070000
END:STANDARD
END:VTIMEZONE
BEGIN:VEVENT
DTSTART;TZID=America/Chicago:20250810T143000
DTEND;TZID=America/Chicago:20250810T150000
DTSTAMP:20260423T173607
CREATED:20250717T013145Z
LAST-MODIFIED:20250807T024635Z
UID:10001649-1754836200-1754838000@kettleparkseniorliving.com
SUMMARY:Active Game
DESCRIPTION:
URL:https://kettleparkseniorliving.com/event-calendar/active-game-54/
LOCATION:Lounge Area
CATEGORIES:Memory Care
END:VEVENT
BEGIN:VEVENT
DTSTART;TZID=America/Chicago:20250810T133000
DTEND;TZID=America/Chicago:20250810T143000
DTSTAMP:20260423T173607
CREATED:20250717T013145Z
LAST-MODIFIED:20250807T024635Z
UID:10001650-1754832600-1754836200@kettleparkseniorliving.com
SUMMARY:Word Games
DESCRIPTION:
URL:https://kettleparkseniorliving.com/event-calendar/word-games-13/
LOCATION:Lounge Area
CATEGORIES:Memory Care
END:VEVENT
BEGIN:VEVENT
DTSTART;TZID=America/Chicago:20250810T130000
DTEND;TZID=America/Chicago:20250810T133000
DTSTAMP:20260423T173607
CREATED:20250717T013145Z
LAST-MODIFIED:20250805T024624Z
UID:10001651-1754830800-1754832600@kettleparkseniorliving.com
SUMMARY:Music Appreciation/Adult Coloring
DESCRIPTION:
URL:https://kettleparkseniorliving.com/event-calendar/music-appreciation-79/
LOCATION:Lounge Area
CATEGORIES:Memory Care
END:VEVENT
BEGIN:VEVENT
DTSTART;TZID=America/Chicago:20250810T103000
DTEND;TZID=America/Chicago:20250810T113000
DTSTAMP:20260423T173607
CREATED:20250804T023138Z
LAST-MODIFIED:20250810T024622Z
UID:10001964-1754821800-1754825400@kettleparkseniorliving.com
SUMMARY:Hymn Sing
DESCRIPTION:
URL:https://kettleparkseniorliving.com/event-calendar/hymn-sing-25/
LOCATION:Lounge Area
CATEGORIES:Memory Care
END:VEVENT
BEGIN:VEVENT
DTSTART;TZID=America/Chicago:20250810T100000
DTEND;TZID=America/Chicago:20250810T103000
DTSTAMP:20260423T173607
CREATED:20250716T013130Z
LAST-MODIFIED:20250810T024622Z
UID:10001639-1754820000-1754821800@kettleparkseniorliving.com
SUMMARY:TV Church Service
DESCRIPTION:
URL:https://kettleparkseniorliving.com/event-calendar/tv-church-service-13/
LOCATION:Lounge Area
CATEGORIES:Memory Care
END:VEVENT
BEGIN:VEVENT
DTSTART;TZID=America/Chicago:20250810T091500
DTEND;TZID=America/Chicago:20250810T093000
DTSTAMP:20260423T173607
CREATED:20250716T013130Z
LAST-MODIFIED:20250810T024622Z
UID:10001637-1754817300-1754818200@kettleparkseniorliving.com
SUMMARY:News/Current Events
DESCRIPTION:
URL:https://kettleparkseniorliving.com/event-calendar/news-current-events-88/
LOCATION:Lounge Area
CATEGORIES:Memory Care
END:VEVENT
BEGIN:VEVENT
DTSTART;TZID=America/Chicago:20250809T150000
DTEND;TZID=America/Chicago:20250809T160000
DTSTAMP:20260423T173607
CREATED:20250721T014649Z
LAST-MODIFIED:20250809T024622Z
UID:10001715-1754751600-1754755200@kettleparkseniorliving.com
SUMMARY:Snack & Chat
DESCRIPTION:
URL:https://kettleparkseniorliving.com/event-calendar/snack-chat-6/
LOCATION:Lounge Area
CATEGORIES:Memory Care
END:VEVENT
BEGIN:VEVENT
DTSTART;TZID=America/Chicago:20250809T150000
DTEND;TZID=America/Chicago:20250809T153000
DTSTAMP:20260423T173607
CREATED:20250716T013130Z
LAST-MODIFIED:20250720T014727Z
UID:10001633-1754751600-1754753400@kettleparkseniorliving.com
SUMMARY:Smoothies & Chat
DESCRIPTION:
URL:https://kettleparkseniorliving.com/event-calendar/smoothies-chat-128/
LOCATION:Lounge Area
CATEGORIES:Memory Care
END:VEVENT
BEGIN:VEVENT
DTSTART;TZID=America/Chicago:20250809T130000
DTEND;TZID=America/Chicago:20250809T133000
DTSTAMP:20260423T173607
CREATED:20250716T013129Z
LAST-MODIFIED:20250805T024624Z
UID:10001631-1754744400-1754746200@kettleparkseniorliving.com
SUMMARY:Music Appreciation/Adult Coloring
DESCRIPTION:
URL:https://kettleparkseniorliving.com/event-calendar/music-appreciation-78/
LOCATION:Lounge Area
CATEGORIES:Memory Care
END:VEVENT
BEGIN:VEVENT
DTSTART;TZID=America/Chicago:20250809T110000
DTEND;TZID=America/Chicago:20250809T233000
DTSTAMP:20260423T173607
CREATED:20250716T013130Z
LAST-MODIFIED:20250810T024622Z
UID:10001632-1754737200-1754782200@kettleparkseniorliving.com
SUMMARY:Sing-along
DESCRIPTION:
URL:https://kettleparkseniorliving.com/event-calendar/sing-along-15/
LOCATION:Lounge Area
CATEGORIES:Memory Care
END:VEVENT
BEGIN:VEVENT
DTSTART;TZID=America/Chicago:20250809T091500
DTEND;TZID=America/Chicago:20250809T093000
DTSTAMP:20260423T173607
CREATED:20250716T013129Z
LAST-MODIFIED:20250809T024622Z
UID:10001626-1754730900-1754731800@kettleparkseniorliving.com
SUMMARY:News/Current Events
DESCRIPTION:
URL:https://kettleparkseniorliving.com/event-calendar/news-current-events-87/
LOCATION:Lounge Area
CATEGORIES:Memory Care
END:VEVENT
BEGIN:VEVENT
DTSTART;TZID=America/Chicago:20250808T180000
DTEND;TZID=America/Chicago:20250808T193000
DTSTAMP:20260423T173607
CREATED:20250715T013205Z
LAST-MODIFIED:20250808T024721Z
UID:10001618-1754676000-1754681400@kettleparkseniorliving.com
SUMMARY:Friday Night Movie
DESCRIPTION:
URL:https://kettleparkseniorliving.com/event-calendar/friday-night-movie-26/
LOCATION:Lounge Area
CATEGORIES:Memory Care
END:VEVENT
BEGIN:VEVENT
DTSTART;TZID=America/Chicago:20250808T150000
DTEND;TZID=America/Chicago:20250808T160000
DTSTAMP:20260423T173607
CREATED:20250721T014649Z
LAST-MODIFIED:20250808T024720Z
UID:10001714-1754665200-1754668800@kettleparkseniorliving.com
SUMMARY:Snack & Chat
DESCRIPTION:
URL:https://kettleparkseniorliving.com/event-calendar/snack-chat-5/
LOCATION:Lounge Area
CATEGORIES:Memory Care
END:VEVENT
BEGIN:VEVENT
DTSTART;TZID=America/Chicago:20250808T150000
DTEND;TZID=America/Chicago:20250808T153000
DTSTAMP:20260423T173607
CREATED:20250715T013205Z
LAST-MODIFIED:20250720T014727Z
UID:10001616-1754665200-1754667000@kettleparkseniorliving.com
SUMMARY:Smoothies & Chat
DESCRIPTION:
URL:https://kettleparkseniorliving.com/event-calendar/smoothies-chat-127/
LOCATION:Lounge Area
CATEGORIES:Memory Care
END:VEVENT
BEGIN:VEVENT
DTSTART;TZID=America/Chicago:20250808T130000
DTEND;TZID=America/Chicago:20250808T133000
DTSTAMP:20260423T173607
CREATED:20250715T013205Z
LAST-MODIFIED:20250805T024623Z
UID:10001614-1754658000-1754659800@kettleparkseniorliving.com
SUMMARY:Music Appreciation/Adult Coloring
DESCRIPTION:
URL:https://kettleparkseniorliving.com/event-calendar/music-appreciation-77/
LOCATION:Lounge Area
CATEGORIES:Memory Care
END:VEVENT
BEGIN:VEVENT
DTSTART;TZID=America/Chicago:20250808T091500
DTEND;TZID=America/Chicago:20250808T093000
DTSTAMP:20260423T173607
CREATED:20250714T013129Z
LAST-MODIFIED:20250808T024720Z
UID:10001598-1754644500-1754645400@kettleparkseniorliving.com
SUMMARY:News/Current Events
DESCRIPTION:
URL:https://kettleparkseniorliving.com/event-calendar/news-current-events-86/
LOCATION:Lounge Area
CATEGORIES:Memory Care
END:VEVENT
BEGIN:VEVENT
DTSTART;TZID=America/Chicago:20250807T180000
DTEND;TZID=America/Chicago:20250807T190000
DTSTAMP:20260423T173607
CREATED:20250711T013144Z
LAST-MODIFIED:20250807T024634Z
UID:10001556-1754589600-1754593200@kettleparkseniorliving.com
SUMMARY:Active Game
DESCRIPTION:
URL:https://kettleparkseniorliving.com/event-calendar/active-game-52/
LOCATION:Lounge Area
CATEGORIES:Memory Care
END:VEVENT
BEGIN:VEVENT
DTSTART;TZID=America/Chicago:20250807T160000
DTEND;TZID=America/Chicago:20250807T170000
DTSTAMP:20260423T173607
CREATED:20250711T013144Z
LAST-MODIFIED:20250807T024635Z
UID:10001555-1754582400-1754586000@kettleparkseniorliving.com
SUMMARY:Move to the Music
DESCRIPTION:
URL:https://kettleparkseniorliving.com/event-calendar/move-to-the-music-25/
LOCATION:Lounge Area
CATEGORIES:Memory Care
END:VEVENT
BEGIN:VEVENT
DTSTART;TZID=America/Chicago:20250807T150000
DTEND;TZID=America/Chicago:20250807T160000
DTSTAMP:20260423T173607
CREATED:20250721T014649Z
LAST-MODIFIED:20250807T024635Z
UID:10001713-1754578800-1754582400@kettleparkseniorliving.com
SUMMARY:Snack & Chat
DESCRIPTION:
URL:https://kettleparkseniorliving.com/event-calendar/snack-chat-4/
LOCATION:Lounge Area
CATEGORIES:Memory Care
END:VEVENT
BEGIN:VEVENT
DTSTART;TZID=America/Chicago:20250807T150000
DTEND;TZID=America/Chicago:20250807T153000
DTSTAMP:20260423T173607
CREATED:20250714T013129Z
LAST-MODIFIED:20250720T014726Z
UID:10001597-1754578800-1754580600@kettleparkseniorliving.com
SUMMARY:Smoothies & Chat
DESCRIPTION:
URL:https://kettleparkseniorliving.com/event-calendar/smoothies-chat-126/
LOCATION:Lounge Area
CATEGORIES:Memory Care
END:VEVENT
BEGIN:VEVENT
DTSTART;TZID=America/Chicago:20250807T143000
DTEND;TZID=America/Chicago:20250807T150000
DTSTAMP:20260423T173607
CREATED:20250711T013144Z
LAST-MODIFIED:20250807T024634Z
UID:10001554-1754577000-1754578800@kettleparkseniorliving.com
SUMMARY:Reminisce - Lighthouses
DESCRIPTION:
URL:https://kettleparkseniorliving.com/event-calendar/reminisce-26/
LOCATION:Lounge Area
CATEGORIES:Memory Care
END:VEVENT
BEGIN:VEVENT
DTSTART;TZID=America/Chicago:20250807T133000
DTEND;TZID=America/Chicago:20250807T143000
DTSTAMP:20260423T173607
CREATED:20250711T013144Z
LAST-MODIFIED:20250802T023124Z
UID:10001553-1754573400-1754577000@kettleparkseniorliving.com
SUMMARY:Balloon Games
DESCRIPTION:
URL:https://kettleparkseniorliving.com/event-calendar/balloon-games-13/
LOCATION:Lounge Area
CATEGORIES:Memory Care
END:VEVENT
BEGIN:VEVENT
DTSTART;TZID=America/Chicago:20250807T130000
DTEND;TZID=America/Chicago:20250807T133000
DTSTAMP:20260423T173607
CREATED:20250711T013144Z
LAST-MODIFIED:20250805T024623Z
UID:10001552-1754571600-1754573400@kettleparkseniorliving.com
SUMMARY:Music Appreciation/Adult Coloring
DESCRIPTION:
URL:https://kettleparkseniorliving.com/event-calendar/music-appreciation-76/
LOCATION:Lounge Area
CATEGORIES:Memory Care
END:VEVENT
BEGIN:VEVENT
DTSTART;TZID=America/Chicago:20250807T110000
DTEND;TZID=America/Chicago:20250807T120000
DTSTAMP:20260423T173607
CREATED:20250711T013144Z
LAST-MODIFIED:20250807T024634Z
UID:10001548-1754564400-1754568000@kettleparkseniorliving.com
SUMMARY:Dog Visits w/ Lucy and Tink
DESCRIPTION:
URL:https://kettleparkseniorliving.com/event-calendar/dog-visits-w-lucy-and-tink-25/
LOCATION:Lounge Area
CATEGORIES:Memory Care
END:VEVENT
BEGIN:VEVENT
DTSTART;TZID=America/Chicago:20250807T100000
DTEND;TZID=America/Chicago:20250807T110000
DTSTAMP:20260423T173607
CREATED:20250711T013144Z
LAST-MODIFIED:20250807T024634Z
UID:10001549-1754560800-1754564400@kettleparkseniorliving.com
SUMMARY:Linked Senior
DESCRIPTION:
URL:https://kettleparkseniorliving.com/event-calendar/linked-senior-13/
LOCATION:Lounge Area
CATEGORIES:Memory Care
END:VEVENT
BEGIN:VEVENT
DTSTART;TZID=America/Chicago:20250807T091500
DTEND;TZID=America/Chicago:20250807T093000
DTSTAMP:20260423T173607
CREATED:20250710T011631Z
LAST-MODIFIED:20250807T024634Z
UID:10001545-1754558100-1754559000@kettleparkseniorliving.com
SUMMARY:News/Current Events
DESCRIPTION:
URL:https://kettleparkseniorliving.com/event-calendar/news-current-events-85/
LOCATION:Lounge Area
CATEGORIES:Memory Care
END:VEVENT
BEGIN:VEVENT
DTSTART;TZID=America/Chicago:20250806T180000
DTEND;TZID=America/Chicago:20250806T190000
DTSTAMP:20260423T173607
CREATED:20250710T011631Z
LAST-MODIFIED:20250806T024631Z
UID:10001543-1754503200-1754506800@kettleparkseniorliving.com
SUMMARY:Reminisce
DESCRIPTION:
URL:https://kettleparkseniorliving.com/event-calendar/reminisce-25/
LOCATION:Lounge Area
CATEGORIES:Memory Care
END:VEVENT
BEGIN:VEVENT
DTSTART;TZID=America/Chicago:20250806T150000
DTEND;TZID=America/Chicago:20250806T160000
DTSTAMP:20260423T173607
CREATED:20250721T014648Z
LAST-MODIFIED:20250806T024631Z
UID:10001712-1754492400-1754496000@kettleparkseniorliving.com
SUMMARY:Snack & Chat
DESCRIPTION:
URL:https://kettleparkseniorliving.com/event-calendar/snack-chat-3/
LOCATION:Lounge Area
CATEGORIES:Memory Care
END:VEVENT
BEGIN:VEVENT
DTSTART;TZID=America/Chicago:20250806T150000
DTEND;TZID=America/Chicago:20250806T153000
DTSTAMP:20260423T173607
CREATED:20250713T013135Z
LAST-MODIFIED:20250720T014726Z
UID:10001591-1754492400-1754494200@kettleparkseniorliving.com
SUMMARY:Smoothies & Chat
DESCRIPTION:
URL:https://kettleparkseniorliving.com/event-calendar/smoothies-chat-125/
LOCATION:Lounge Area
CATEGORIES:Memory Care
END:VEVENT
BEGIN:VEVENT
DTSTART;TZID=America/Chicago:20250806T133000
DTEND;TZID=America/Chicago:20250806T143000
DTSTAMP:20260423T173607
CREATED:20250803T023151Z
LAST-MODIFIED:20250806T024631Z
UID:10001947-1754487000-1754490600@kettleparkseniorliving.com
SUMMARY:Table Games
DESCRIPTION:
URL:https://kettleparkseniorliving.com/event-calendar/table-games/
LOCATION:Lounge Area
CATEGORIES:Memory Care
END:VEVENT
END:VCALENDAR