BEGIN:VCALENDAR
VERSION:2.0
PRODID:-//Kettle Park Senior Living - ECPv6.11.2.1//NONSGML v1.0//EN
CALSCALE:GREGORIAN
METHOD:PUBLISH
X-WR-CALNAME:Kettle Park Senior Living
X-ORIGINAL-URL:https://kettleparkseniorliving.com
X-WR-CALDESC:Events for Kettle Park Senior Living
REFRESH-INTERVAL;VALUE=DURATION:PT1H
X-Robots-Tag:noindex
X-PUBLISHED-TTL:PT1H
BEGIN:VTIMEZONE
TZID:America/Chicago
BEGIN:DAYLIGHT
TZOFFSETFROM:-0600
TZOFFSETTO:-0500
TZNAME:CDT
DTSTART:20250309T080000
END:DAYLIGHT
BEGIN:STANDARD
TZOFFSETFROM:-0500
TZOFFSETTO:-0600
TZNAME:CST
DTSTART:20251102T070000
END:STANDARD
END:VTIMEZONE
BEGIN:VEVENT
DTSTART;TZID=America/Chicago:20250806T130000
DTEND;TZID=America/Chicago:20250806T133000
DTSTAMP:20260423T225956
CREATED:20250710T011631Z
LAST-MODIFIED:20250805T024623Z
UID:10001540-1754485200-1754487000@kettleparkseniorliving.com
SUMMARY:Music Appreciation/Adult Coloring
DESCRIPTION:
URL:https://kettleparkseniorliving.com/event-calendar/music-appreciation-75/
LOCATION:Lounge Area
CATEGORIES:Memory Care
END:VEVENT
BEGIN:VEVENT
DTSTART;TZID=America/Chicago:20250806T091500
DTEND;TZID=America/Chicago:20250806T093000
DTSTAMP:20260423T225956
CREATED:20250710T011630Z
LAST-MODIFIED:20250806T024631Z
UID:10001536-1754471700-1754472600@kettleparkseniorliving.com
SUMMARY:News/Current Events
DESCRIPTION:
URL:https://kettleparkseniorliving.com/event-calendar/news-current-events-84/
LOCATION:Lounge Area
CATEGORIES:Memory Care
END:VEVENT
BEGIN:VEVENT
DTSTART;TZID=America/Chicago:20250805T180000
DTEND;TZID=America/Chicago:20250805T190000
DTSTAMP:20260423T225956
CREATED:20250709T011638Z
LAST-MODIFIED:20250805T024622Z
UID:10001527-1754416800-1754420400@kettleparkseniorliving.com
SUMMARY:Fun with Trivia
DESCRIPTION:
URL:https://kettleparkseniorliving.com/event-calendar/fun-with-trivia-12/
LOCATION:Lounge Area
CATEGORIES:Memory Care
END:VEVENT
BEGIN:VEVENT
DTSTART;TZID=America/Chicago:20250805T160000
DTEND;TZID=America/Chicago:20250805T170000
DTSTAMP:20260423T225956
CREATED:20250709T011638Z
LAST-MODIFIED:20250805T024622Z
UID:10001526-1754409600-1754413200@kettleparkseniorliving.com
SUMMARY:Move to the Music
DESCRIPTION:
URL:https://kettleparkseniorliving.com/event-calendar/move-to-the-music-24/
LOCATION:Lounge Area
CATEGORIES:Memory Care
END:VEVENT
BEGIN:VEVENT
DTSTART;TZID=America/Chicago:20250805T150000
DTEND;TZID=America/Chicago:20250805T160000
DTSTAMP:20260423T225956
CREATED:20250721T014648Z
LAST-MODIFIED:20250805T024623Z
UID:10001711-1754406000-1754409600@kettleparkseniorliving.com
SUMMARY:Snack & Chat
DESCRIPTION:
URL:https://kettleparkseniorliving.com/event-calendar/snack-chat-2/
LOCATION:Lounge Area
CATEGORIES:Memory Care
END:VEVENT
BEGIN:VEVENT
DTSTART;TZID=America/Chicago:20250805T150000
DTEND;TZID=America/Chicago:20250805T153000
DTSTAMP:20260423T225956
CREATED:20250712T013130Z
LAST-MODIFIED:20250720T014726Z
UID:10001585-1754406000-1754407800@kettleparkseniorliving.com
SUMMARY:Smoothies & Chat
DESCRIPTION:
URL:https://kettleparkseniorliving.com/event-calendar/smoothies-chat-124/
LOCATION:Lounge Area
CATEGORIES:Memory Care
END:VEVENT
BEGIN:VEVENT
DTSTART;TZID=America/Chicago:20250805T140000
DTEND;TZID=America/Chicago:20250805T150000
DTSTAMP:20260423T225956
CREATED:20250709T011638Z
LAST-MODIFIED:20250805T024623Z
UID:10001525-1754402400-1754406000@kettleparkseniorliving.com
SUMMARY:Active Game
DESCRIPTION:
URL:https://kettleparkseniorliving.com/event-calendar/active-game-51/
LOCATION:Lounge Area
CATEGORIES:Memory Care
END:VEVENT
BEGIN:VEVENT
DTSTART;TZID=America/Chicago:20250805T130000
DTEND;TZID=America/Chicago:20250805T140000
DTSTAMP:20260423T225956
CREATED:20250709T011638Z
LAST-MODIFIED:20250805T024623Z
UID:10001524-1754398800-1754402400@kettleparkseniorliving.com
SUMMARY:Devotions with Chaplin Lee
DESCRIPTION:
URL:https://kettleparkseniorliving.com/event-calendar/devotions-with-chaplin-lee-23/
LOCATION:Lounge Area
CATEGORIES:Memory Care
END:VEVENT
BEGIN:VEVENT
DTSTART;TZID=America/Chicago:20250805T130000
DTEND;TZID=America/Chicago:20250805T133000
DTSTAMP:20260423T225956
CREATED:20250709T011638Z
LAST-MODIFIED:20250805T024623Z
UID:10001523-1754398800-1754400600@kettleparkseniorliving.com
SUMMARY:Music Appreciation/Adult Coloring
DESCRIPTION:
URL:https://kettleparkseniorliving.com/event-calendar/music-appreciation-74/
LOCATION:Lounge Area
CATEGORIES:Memory Care
END:VEVENT
BEGIN:VEVENT
DTSTART;TZID=America/Chicago:20250805T110000
DTEND;TZID=America/Chicago:20250805T120000
DTSTAMP:20260423T225956
CREATED:20250709T011638Z
LAST-MODIFIED:20250805T024623Z
UID:10001518-1754391600-1754395200@kettleparkseniorliving.com
SUMMARY:Dog Visits w/ Lucy and Tink
DESCRIPTION:
URL:https://kettleparkseniorliving.com/event-calendar/dog-visits-w-lucy-and-tink-24/
LOCATION:Lounge Area
CATEGORIES:Memory Care
END:VEVENT
BEGIN:VEVENT
DTSTART;TZID=America/Chicago:20250805T093000
DTEND;TZID=America/Chicago:20250805T110000
DTSTAMP:20260423T225956
CREATED:20250709T011638Z
LAST-MODIFIED:20250805T024623Z
UID:10001519-1754386200-1754391600@kettleparkseniorliving.com
SUMMARY:Reading w/ Kathy
DESCRIPTION:
URL:https://kettleparkseniorliving.com/event-calendar/reading-w-kathy-12/
LOCATION:Lounge Area
CATEGORIES:Memory Care
END:VEVENT
BEGIN:VEVENT
DTSTART;TZID=America/Chicago:20250805T091500
DTEND;TZID=America/Chicago:20250805T093000
DTSTAMP:20260423T225956
CREATED:20250709T011638Z
LAST-MODIFIED:20250805T024623Z
UID:10001521-1754385300-1754386200@kettleparkseniorliving.com
SUMMARY:News/Current Events
DESCRIPTION:
URL:https://kettleparkseniorliving.com/event-calendar/news-current-events-83/
LOCATION:Lounge Area
CATEGORIES:Memory Care
END:VEVENT
BEGIN:VEVENT
DTSTART;TZID=America/Chicago:20250804T180000
DTEND;TZID=America/Chicago:20250804T190000
DTSTAMP:20260423T225956
CREATED:20250709T011638Z
LAST-MODIFIED:20250804T023135Z
UID:10001516-1754330400-1754334000@kettleparkseniorliving.com
SUMMARY:Finish the Phrase
DESCRIPTION:
URL:https://kettleparkseniorliving.com/event-calendar/finish-the-phrase-12/
LOCATION:Lounge Area
CATEGORIES:Memory Care
END:VEVENT
BEGIN:VEVENT
DTSTART;TZID=America/Chicago:20250804T150000
DTEND;TZID=America/Chicago:20250804T160000
DTSTAMP:20260423T225956
CREATED:20250721T014647Z
LAST-MODIFIED:20250803T023150Z
UID:10001710-1754319600-1754323200@kettleparkseniorliving.com
SUMMARY:Snack & Chat
DESCRIPTION:
URL:https://kettleparkseniorliving.com/event-calendar/snack-chat/
LOCATION:Lounge Area
CATEGORIES:Memory Care
END:VEVENT
BEGIN:VEVENT
DTSTART;TZID=America/Chicago:20250804T150000
DTEND;TZID=America/Chicago:20250804T160000
DTSTAMP:20260423T225956
CREATED:20250709T011638Z
LAST-MODIFIED:20250803T023150Z
UID:10001514-1754319600-1754323200@kettleparkseniorliving.com
SUMMARY:Happy Hour
DESCRIPTION:
URL:https://kettleparkseniorliving.com/event-calendar/happy-hour-19/
LOCATION:Lounge Area
CATEGORIES:Memory Care
END:VEVENT
BEGIN:VEVENT
DTSTART;TZID=America/Chicago:20250804T150000
DTEND;TZID=America/Chicago:20250804T153000
DTSTAMP:20260423T225956
CREATED:20250712T013130Z
LAST-MODIFIED:20250720T014725Z
UID:10001584-1754319600-1754321400@kettleparkseniorliving.com
SUMMARY:Smoothies & Chat
DESCRIPTION:
URL:https://kettleparkseniorliving.com/event-calendar/smoothies-chat-123/
LOCATION:Lounge Area
CATEGORIES:Memory Care
END:VEVENT
BEGIN:VEVENT
DTSTART;TZID=America/Chicago:20250804T134500
DTEND;TZID=America/Chicago:20250804T141500
DTSTAMP:20260423T225956
CREATED:20250709T011638Z
LAST-MODIFIED:20250804T023136Z
UID:10001512-1754315100-1754316900@kettleparkseniorliving.com
SUMMARY:UMC Devotions
DESCRIPTION:
URL:https://kettleparkseniorliving.com/event-calendar/umc-devotions-24/
LOCATION:Lounge Area
CATEGORIES:Memory Care
END:VEVENT
BEGIN:VEVENT
DTSTART;TZID=America/Chicago:20250804T130000
DTEND;TZID=America/Chicago:20250804T133000
DTSTAMP:20260423T225956
CREATED:20250709T011638Z
LAST-MODIFIED:20250804T023136Z
UID:10001511-1754312400-1754314200@kettleparkseniorliving.com
SUMMARY:Music Appreciation/Adult Coloring
DESCRIPTION:
URL:https://kettleparkseniorliving.com/event-calendar/music-appreciation-73/
LOCATION:Lounge Area
CATEGORIES:Memory Care
END:VEVENT
BEGIN:VEVENT
DTSTART;TZID=America/Chicago:20250804T091500
DTEND;TZID=America/Chicago:20250804T093000
DTSTAMP:20260423T225956
CREATED:20250709T011637Z
LAST-MODIFIED:20250804T023136Z
UID:10001506-1754298900-1754299800@kettleparkseniorliving.com
SUMMARY:News/Current Events
DESCRIPTION:
URL:https://kettleparkseniorliving.com/event-calendar/news-current-events-82/
LOCATION:Lounge Area
CATEGORIES:Memory Care
END:VEVENT
BEGIN:VEVENT
DTSTART;TZID=America/Chicago:20250803T180000
DTEND;TZID=America/Chicago:20250803T193000
DTSTAMP:20260423T225956
CREATED:20250707T011704Z
LAST-MODIFIED:20250803T023150Z
UID:10001482-1754244000-1754249400@kettleparkseniorliving.com
SUMMARY:Active Games
DESCRIPTION:
URL:https://kettleparkseniorliving.com/event-calendar/active-games-12/
LOCATION:Lounge Area
CATEGORIES:Memory Care
END:VEVENT
BEGIN:VEVENT
DTSTART;TZID=America/Chicago:20250803T150000
DTEND;TZID=America/Chicago:20250803T160000
DTSTAMP:20260423T225956
CREATED:20250707T011704Z
LAST-MODIFIED:20250803T023151Z
UID:10001480-1754233200-1754236800@kettleparkseniorliving.com
SUMMARY:Snack & Chat
DESCRIPTION:
URL:https://kettleparkseniorliving.com/event-calendar/smoothies-chat-99/
LOCATION:Lounge Area
CATEGORIES:Memory Care
END:VEVENT
BEGIN:VEVENT
DTSTART;TZID=America/Chicago:20250803T150000
DTEND;TZID=America/Chicago:20250803T153000
DTSTAMP:20260423T225956
CREATED:20250712T013129Z
LAST-MODIFIED:20250720T014725Z
UID:10001583-1754233200-1754235000@kettleparkseniorliving.com
SUMMARY:Smoothies & Chat
DESCRIPTION:
URL:https://kettleparkseniorliving.com/event-calendar/smoothies-chat-122/
LOCATION:Lounge Area
CATEGORIES:Memory Care
END:VEVENT
BEGIN:VEVENT
DTSTART;TZID=America/Chicago:20250803T143000
DTEND;TZID=America/Chicago:20250803T150000
DTSTAMP:20260423T225956
CREATED:20250707T011704Z
LAST-MODIFIED:20250803T023151Z
UID:10001479-1754231400-1754233200@kettleparkseniorliving.com
SUMMARY:Active Game
DESCRIPTION:
URL:https://kettleparkseniorliving.com/event-calendar/active-game-50/
LOCATION:Lounge Area
CATEGORIES:Memory Care
END:VEVENT
BEGIN:VEVENT
DTSTART;TZID=America/Chicago:20250803T133000
DTEND;TZID=America/Chicago:20250803T143000
DTSTAMP:20260423T225956
CREATED:20250707T011704Z
LAST-MODIFIED:20250803T023151Z
UID:10001478-1754227800-1754231400@kettleparkseniorliving.com
SUMMARY:Word Games
DESCRIPTION:
URL:https://kettleparkseniorliving.com/event-calendar/word-games-12/
LOCATION:Lounge Area
CATEGORIES:Memory Care
END:VEVENT
BEGIN:VEVENT
DTSTART;TZID=America/Chicago:20250803T130000
DTEND;TZID=America/Chicago:20250803T133000
DTSTAMP:20260423T225956
CREATED:20250709T011637Z
LAST-MODIFIED:20250803T023151Z
UID:10001504-1754226000-1754227800@kettleparkseniorliving.com
SUMMARY:Music Appreciation/Adult Coloring
DESCRIPTION:
URL:https://kettleparkseniorliving.com/event-calendar/music-appreciation-72/
LOCATION:Lounge Area
CATEGORIES:Memory Care
END:VEVENT
BEGIN:VEVENT
DTSTART;TZID=America/Chicago:20250803T100000
DTEND;TZID=America/Chicago:20250803T103000
DTSTAMP:20260423T225956
CREATED:20250707T011704Z
LAST-MODIFIED:20250803T023151Z
UID:10001476-1754215200-1754217000@kettleparkseniorliving.com
SUMMARY:TV Church Service
DESCRIPTION:
URL:https://kettleparkseniorliving.com/event-calendar/tv-church-service-12/
LOCATION:Lounge Area
CATEGORIES:Memory Care
END:VEVENT
BEGIN:VEVENT
DTSTART;TZID=America/Chicago:20250803T091500
DTEND;TZID=America/Chicago:20250803T093000
DTSTAMP:20260423T225956
CREATED:20250707T011704Z
LAST-MODIFIED:20250803T023151Z
UID:10001474-1754212500-1754213400@kettleparkseniorliving.com
SUMMARY:News/Current Events
DESCRIPTION:
URL:https://kettleparkseniorliving.com/event-calendar/news-current-events-81/
LOCATION:Lounge Area
CATEGORIES:Memory Care
END:VEVENT
BEGIN:VEVENT
DTSTART;TZID=America/Chicago:20250802T150000
DTEND;TZID=America/Chicago:20250802T160000
DTSTAMP:20260423T225956
CREATED:20250707T011703Z
LAST-MODIFIED:20250802T023123Z
UID:10001470-1754146800-1754150400@kettleparkseniorliving.com
SUMMARY:Snack & Chat
DESCRIPTION:
URL:https://kettleparkseniorliving.com/event-calendar/smoothies-chat-98/
LOCATION:Lounge Area
CATEGORIES:Memory Care
END:VEVENT
BEGIN:VEVENT
DTSTART;TZID=America/Chicago:20250802T150000
DTEND;TZID=America/Chicago:20250802T153000
DTSTAMP:20260423T225956
CREATED:20250712T013129Z
LAST-MODIFIED:20250720T014724Z
UID:10001582-1754146800-1754148600@kettleparkseniorliving.com
SUMMARY:Smoothies & Chat
DESCRIPTION:
URL:https://kettleparkseniorliving.com/event-calendar/smoothies-chat-121/
LOCATION:Lounge Area
CATEGORIES:Memory Care
END:VEVENT
BEGIN:VEVENT
DTSTART;TZID=America/Chicago:20250802T130000
DTEND;TZID=America/Chicago:20250802T133000
DTSTAMP:20260423T225956
CREATED:20250709T011637Z
LAST-MODIFIED:20250802T023123Z
UID:10001503-1754139600-1754141400@kettleparkseniorliving.com
SUMMARY:Music Appreciation/Adult Coloring
DESCRIPTION:
URL:https://kettleparkseniorliving.com/event-calendar/music-appreciation-71/
LOCATION:Lounge Area
CATEGORIES:Memory Care
END:VEVENT
END:VCALENDAR