BEGIN:VCALENDAR
VERSION:2.0
PRODID:-//Kettle Park Senior Living - ECPv6.11.2.1//NONSGML v1.0//EN
CALSCALE:GREGORIAN
METHOD:PUBLISH
X-ORIGINAL-URL:https://kettleparkseniorliving.com
X-WR-CALDESC:Events for Kettle Park Senior Living
REFRESH-INTERVAL;VALUE=DURATION:PT1H
X-Robots-Tag:noindex
X-PUBLISHED-TTL:PT1H
BEGIN:VTIMEZONE
TZID:America/Chicago
BEGIN:DAYLIGHT
TZOFFSETFROM:-0600
TZOFFSETTO:-0500
TZNAME:CDT
DTSTART:20250309T080000
END:DAYLIGHT
BEGIN:STANDARD
TZOFFSETFROM:-0500
TZOFFSETTO:-0600
TZNAME:CST
DTSTART:20251102T070000
END:STANDARD
END:VTIMEZONE
BEGIN:VEVENT
DTSTART;TZID=America/Chicago:20250730T130000
DTEND;TZID=America/Chicago:20250730T133000
DTSTAMP:20260424T081028
CREATED:20250708T011640Z
LAST-MODIFIED:20250730T021723Z
UID:10001494-1753880400-1753882200@kettleparkseniorliving.com
SUMMARY:Music Appreciation/Adult Coloring
DESCRIPTION:
URL:https://kettleparkseniorliving.com/event-calendar/music-appreciation-68/
LOCATION:Lounge Area
CATEGORIES:Memory Care
END:VEVENT
BEGIN:VEVENT
DTSTART;TZID=America/Chicago:20250730T091500
DTEND;TZID=America/Chicago:20250730T093000
DTSTAMP:20260424T081028
CREATED:20250704T011714Z
LAST-MODIFIED:20250730T021723Z
UID:10001422-1753866900-1753867800@kettleparkseniorliving.com
SUMMARY:News/Current Events
DESCRIPTION:
URL:https://kettleparkseniorliving.com/event-calendar/news-current-events-77/
LOCATION:Lounge Area
CATEGORIES:Memory Care
END:VEVENT
BEGIN:VEVENT
DTSTART;TZID=America/Chicago:20250729T180000
DTEND;TZID=America/Chicago:20250729T190000
DTSTAMP:20260424T081028
CREATED:20250703T010141Z
LAST-MODIFIED:20250729T021635Z
UID:10001416-1753812000-1753815600@kettleparkseniorliving.com
SUMMARY:Fun with Trivia
DESCRIPTION:
URL:https://kettleparkseniorliving.com/event-calendar/fun-with-trivia-11/
LOCATION:Lounge Area
CATEGORIES:Memory Care
END:VEVENT
BEGIN:VEVENT
DTSTART;TZID=America/Chicago:20250729T160000
DTEND;TZID=America/Chicago:20250729T170000
DTSTAMP:20260424T081028
CREATED:20250703T010141Z
LAST-MODIFIED:20250729T021636Z
UID:10001415-1753804800-1753808400@kettleparkseniorliving.com
SUMMARY:Move to the Music
DESCRIPTION:
URL:https://kettleparkseniorliving.com/event-calendar/move-to-the-music-22/
LOCATION:Lounge Area
CATEGORIES:Memory Care
END:VEVENT
BEGIN:VEVENT
DTSTART;TZID=America/Chicago:20250729T150000
DTEND;TZID=America/Chicago:20250729T160000
DTSTAMP:20260424T081028
CREATED:20250703T010141Z
LAST-MODIFIED:20250729T021636Z
UID:10001414-1753801200-1753804800@kettleparkseniorliving.com
SUMMARY:Snack & Chat
DESCRIPTION:
URL:https://kettleparkseniorliving.com/event-calendar/smoothies-chat-94/
LOCATION:Lounge Area
CATEGORIES:Memory Care
END:VEVENT
BEGIN:VEVENT
DTSTART;TZID=America/Chicago:20250729T150000
DTEND;TZID=America/Chicago:20250729T153000
DTSTAMP:20260424T081028
CREATED:20250712T013127Z
LAST-MODIFIED:20250720T014723Z
UID:10001578-1753801200-1753803000@kettleparkseniorliving.com
SUMMARY:Smoothies & Chat
DESCRIPTION:
URL:https://kettleparkseniorliving.com/event-calendar/smoothies-chat-117/
LOCATION:Lounge Area
CATEGORIES:Memory Care
END:VEVENT
BEGIN:VEVENT
DTSTART;TZID=America/Chicago:20250729T140000
DTEND;TZID=America/Chicago:20250729T150000
DTSTAMP:20260424T081028
CREATED:20250703T010140Z
LAST-MODIFIED:20250729T021636Z
UID:10001413-1753797600-1753801200@kettleparkseniorliving.com
SUMMARY:Active Game
DESCRIPTION:
URL:https://kettleparkseniorliving.com/event-calendar/active-game-47/
LOCATION:Lounge Area
CATEGORIES:Memory Care
END:VEVENT
BEGIN:VEVENT
DTSTART;TZID=America/Chicago:20250729T130000
DTEND;TZID=America/Chicago:20250729T140000
DTSTAMP:20260424T081028
CREATED:20250703T010140Z
LAST-MODIFIED:20250729T021636Z
UID:10001412-1753794000-1753797600@kettleparkseniorliving.com
SUMMARY:Devotions with Chaplin Lee
DESCRIPTION:
URL:https://kettleparkseniorliving.com/event-calendar/devotions-with-chaplin-lee-21/
LOCATION:Lounge Area
CATEGORIES:Memory Care
END:VEVENT
BEGIN:VEVENT
DTSTART;TZID=America/Chicago:20250729T110000
DTEND;TZID=America/Chicago:20250729T120000
DTSTAMP:20260424T081028
CREATED:20250703T010140Z
LAST-MODIFIED:20250729T021636Z
UID:10001410-1753786800-1753790400@kettleparkseniorliving.com
SUMMARY:Dog Visits w/ Lucy and Tink
DESCRIPTION:
URL:https://kettleparkseniorliving.com/event-calendar/dog-visits-w-lucy-and-tink-22/
LOCATION:Lounge Area
CATEGORIES:Memory Care
END:VEVENT
BEGIN:VEVENT
DTSTART;TZID=America/Chicago:20250729T093000
DTEND;TZID=America/Chicago:20250729T110000
DTSTAMP:20260424T081028
CREATED:20250703T010140Z
LAST-MODIFIED:20250729T021636Z
UID:10001407-1753781400-1753786800@kettleparkseniorliving.com
SUMMARY:Reading w/ Kathy
DESCRIPTION:
URL:https://kettleparkseniorliving.com/event-calendar/reading-w-kathy-11/
LOCATION:Lounge Area
CATEGORIES:Memory Care
END:VEVENT
BEGIN:VEVENT
DTSTART;TZID=America/Chicago:20250729T091500
DTEND;TZID=America/Chicago:20250729T093000
DTSTAMP:20260424T081028
CREATED:20250703T010140Z
LAST-MODIFIED:20250729T021636Z
UID:10001409-1753780500-1753781400@kettleparkseniorliving.com
SUMMARY:News/Current Events
DESCRIPTION:
URL:https://kettleparkseniorliving.com/event-calendar/news-current-events-76/
LOCATION:Lounge Area
CATEGORIES:Memory Care
END:VEVENT
BEGIN:VEVENT
DTSTART;TZID=America/Chicago:20250728T180000
DTEND;TZID=America/Chicago:20250728T190000
DTSTAMP:20260424T081028
CREATED:20250702T010132Z
LAST-MODIFIED:20250728T021629Z
UID:10001390-1753725600-1753729200@kettleparkseniorliving.com
SUMMARY:Finish the Phrase
DESCRIPTION:
URL:https://kettleparkseniorliving.com/event-calendar/finish-the-phrase-11/
LOCATION:Lounge Area
CATEGORIES:Memory Care
END:VEVENT
BEGIN:VEVENT
DTSTART;TZID=America/Chicago:20250728T150000
DTEND;TZID=America/Chicago:20250728T160000
DTSTAMP:20260424T081028
CREATED:20250702T010132Z
LAST-MODIFIED:20250728T021629Z
UID:10001387-1753714800-1753718400@kettleparkseniorliving.com
SUMMARY:Happy Hour
DESCRIPTION:
URL:https://kettleparkseniorliving.com/event-calendar/happy-hour-17/
LOCATION:Lounge Area
CATEGORIES:Memory Care
END:VEVENT
BEGIN:VEVENT
DTSTART;TZID=America/Chicago:20250728T150000
DTEND;TZID=America/Chicago:20250728T160000
DTSTAMP:20260424T081028
CREATED:20250702T010132Z
LAST-MODIFIED:20250708T011640Z
UID:10001388-1753714800-1753718400@kettleparkseniorliving.com
SUMMARY:Smoothies & Chat
DESCRIPTION:
URL:https://kettleparkseniorliving.com/event-calendar/smoothies-chat-93/
LOCATION:Lounge Area
CATEGORIES:Memory Care
END:VEVENT
BEGIN:VEVENT
DTSTART;TZID=America/Chicago:20250728T150000
DTEND;TZID=America/Chicago:20250728T153000
DTSTAMP:20260424T081028
CREATED:20250712T013127Z
LAST-MODIFIED:20250715T013200Z
UID:10001577-1753714800-1753716600@kettleparkseniorliving.com
SUMMARY:Smoothies & Chat
DESCRIPTION:
URL:https://kettleparkseniorliving.com/event-calendar/smoothies-chat-116/
LOCATION:Lounge Area
CATEGORIES:Memory Care
END:VEVENT
BEGIN:VEVENT
DTSTART;TZID=America/Chicago:20250728T134500
DTEND;TZID=America/Chicago:20250728T141500
DTSTAMP:20260424T081028
CREATED:20250702T010132Z
LAST-MODIFIED:20250728T021629Z
UID:10001385-1753710300-1753712100@kettleparkseniorliving.com
SUMMARY:UMC Devotions
DESCRIPTION:
URL:https://kettleparkseniorliving.com/event-calendar/umc-devotions-22/
LOCATION:Lounge Area
CATEGORIES:Memory Care
END:VEVENT
BEGIN:VEVENT
DTSTART;TZID=America/Chicago:20250728T130000
DTEND;TZID=America/Chicago:20250728T133000
DTSTAMP:20260424T081028
CREATED:20250708T011639Z
LAST-MODIFIED:20250728T021629Z
UID:10001492-1753707600-1753709400@kettleparkseniorliving.com
SUMMARY:Music Appreciation/Adult Coloring
DESCRIPTION:
URL:https://kettleparkseniorliving.com/event-calendar/music-appreciation-67/
LOCATION:Lounge Area
CATEGORIES:Memory Care
END:VEVENT
BEGIN:VEVENT
DTSTART;TZID=America/Chicago:20250728T091500
DTEND;TZID=America/Chicago:20250728T093000
DTSTAMP:20260424T081028
CREATED:20250702T010132Z
LAST-MODIFIED:20250728T021629Z
UID:10001380-1753694100-1753695000@kettleparkseniorliving.com
SUMMARY:News/Current Events
DESCRIPTION:
URL:https://kettleparkseniorliving.com/event-calendar/news-current-events-75/
LOCATION:Lounge Area
CATEGORIES:Memory Care
END:VEVENT
BEGIN:VEVENT
DTSTART;TZID=America/Chicago:20250727T180000
DTEND;TZID=America/Chicago:20250727T193000
DTSTAMP:20260424T081028
CREATED:20250702T010132Z
LAST-MODIFIED:20250727T021731Z
UID:10001378-1753639200-1753644600@kettleparkseniorliving.com
SUMMARY:Active Games
DESCRIPTION:
URL:https://kettleparkseniorliving.com/event-calendar/active-games-11/
LOCATION:Lounge Area
CATEGORIES:Memory Care
END:VEVENT
BEGIN:VEVENT
DTSTART;TZID=America/Chicago:20250727T150000
DTEND;TZID=America/Chicago:20250727T160000
DTSTAMP:20260424T081028
CREATED:20250702T010132Z
LAST-MODIFIED:20250727T021731Z
UID:10001376-1753628400-1753632000@kettleparkseniorliving.com
SUMMARY:Snack & Chat
DESCRIPTION:
URL:https://kettleparkseniorliving.com/event-calendar/smoothies-chat-92/
LOCATION:Lounge Area
CATEGORIES:Memory Care
END:VEVENT
BEGIN:VEVENT
DTSTART;TZID=America/Chicago:20250727T150000
DTEND;TZID=America/Chicago:20250727T153000
DTSTAMP:20260424T081028
CREATED:20250712T013127Z
LAST-MODIFIED:20250720T014722Z
UID:10001576-1753628400-1753630200@kettleparkseniorliving.com
SUMMARY:Smoothies & Chat
DESCRIPTION:
URL:https://kettleparkseniorliving.com/event-calendar/smoothies-chat-115/
LOCATION:Lounge Area
CATEGORIES:Memory Care
END:VEVENT
BEGIN:VEVENT
DTSTART;TZID=America/Chicago:20250727T143000
DTEND;TZID=America/Chicago:20250727T150000
DTSTAMP:20260424T081028
CREATED:20250702T010132Z
LAST-MODIFIED:20250727T021732Z
UID:10001375-1753626600-1753628400@kettleparkseniorliving.com
SUMMARY:Active Game
DESCRIPTION:
URL:https://kettleparkseniorliving.com/event-calendar/active-game-46/
LOCATION:Lounge Area
CATEGORIES:Memory Care
END:VEVENT
BEGIN:VEVENT
DTSTART;TZID=America/Chicago:20250727T133000
DTEND;TZID=America/Chicago:20250727T143000
DTSTAMP:20260424T081028
CREATED:20250702T010132Z
LAST-MODIFIED:20250727T021732Z
UID:10001374-1753623000-1753626600@kettleparkseniorliving.com
SUMMARY:Word Games
DESCRIPTION:
URL:https://kettleparkseniorliving.com/event-calendar/word-games-11/
LOCATION:Lounge Area
CATEGORIES:Memory Care
END:VEVENT
BEGIN:VEVENT
DTSTART;TZID=America/Chicago:20250727T130000
DTEND;TZID=America/Chicago:20250727T133000
DTSTAMP:20260424T081028
CREATED:20250708T011639Z
LAST-MODIFIED:20250727T021732Z
UID:10001491-1753621200-1753623000@kettleparkseniorliving.com
SUMMARY:Music Appreciation/Adult Coloring
DESCRIPTION:
URL:https://kettleparkseniorliving.com/event-calendar/music-appreciation-66/
LOCATION:Lounge Area
CATEGORIES:Memory Care
END:VEVENT
BEGIN:VEVENT
DTSTART;TZID=America/Chicago:20250727T103000
DTEND;TZID=America/Chicago:20250727T113000
DTSTAMP:20260424T081028
CREATED:20250702T010132Z
LAST-MODIFIED:20250727T021732Z
UID:10001370-1753612200-1753615800@kettleparkseniorliving.com
SUMMARY:Hymn Sing
DESCRIPTION:
URL:https://kettleparkseniorliving.com/event-calendar/hymn-sing-22/
LOCATION:Lounge Area
CATEGORIES:Memory Care
END:VEVENT
BEGIN:VEVENT
DTSTART;TZID=America/Chicago:20250727T100000
DTEND;TZID=America/Chicago:20250727T103000
DTSTAMP:20260424T081028
CREATED:20250702T010132Z
LAST-MODIFIED:20250727T021732Z
UID:10001371-1753610400-1753612200@kettleparkseniorliving.com
SUMMARY:TV Church Service
DESCRIPTION:
URL:https://kettleparkseniorliving.com/event-calendar/tv-church-service-11/
LOCATION:Lounge Area
CATEGORIES:Memory Care
END:VEVENT
BEGIN:VEVENT
DTSTART;TZID=America/Chicago:20250727T091500
DTEND;TZID=America/Chicago:20250727T093000
DTSTAMP:20260424T081028
CREATED:20250702T010131Z
LAST-MODIFIED:20250727T021732Z
UID:10001369-1753607700-1753608600@kettleparkseniorliving.com
SUMMARY:News/Current Events
DESCRIPTION:
URL:https://kettleparkseniorliving.com/event-calendar/news-current-events-74/
LOCATION:Lounge Area
CATEGORIES:Memory Care
END:VEVENT
BEGIN:VEVENT
DTSTART;TZID=America/Chicago:20250726T150000
DTEND;TZID=America/Chicago:20250726T160000
DTSTAMP:20260424T081028
CREATED:20250701T010129Z
LAST-MODIFIED:20250726T021636Z
UID:10001356-1753542000-1753545600@kettleparkseniorliving.com
SUMMARY:Snack & Chat
DESCRIPTION:
URL:https://kettleparkseniorliving.com/event-calendar/smoothies-chat-91/
LOCATION:Lounge Area
CATEGORIES:Memory Care
END:VEVENT
BEGIN:VEVENT
DTSTART;TZID=America/Chicago:20250726T150000
DTEND;TZID=America/Chicago:20250726T153000
DTSTAMP:20260424T081028
CREATED:20250712T013126Z
LAST-MODIFIED:20250720T014721Z
UID:10001575-1753542000-1753543800@kettleparkseniorliving.com
SUMMARY:Smoothies & Chat
DESCRIPTION:
URL:https://kettleparkseniorliving.com/event-calendar/smoothies-chat-114/
LOCATION:Lounge Area
CATEGORIES:Memory Care
END:VEVENT
BEGIN:VEVENT
DTSTART;TZID=America/Chicago:20250726T130000
DTEND;TZID=America/Chicago:20250726T133000
DTSTAMP:20260424T081028
CREATED:20250708T011639Z
LAST-MODIFIED:20250726T021636Z
UID:10001490-1753534800-1753536600@kettleparkseniorliving.com
SUMMARY:Music Appreciation/Adult Coloring
DESCRIPTION:
URL:https://kettleparkseniorliving.com/event-calendar/music-appreciation-65/
LOCATION:Lounge Area
CATEGORIES:Memory Care
END:VEVENT
END:VCALENDAR