BEGIN:VCALENDAR
VERSION:2.0
PRODID:-//Kettle Park Senior Living - ECPv6.11.2.1//NONSGML v1.0//EN
CALSCALE:GREGORIAN
METHOD:PUBLISH
X-WR-CALNAME:Kettle Park Senior Living
X-ORIGINAL-URL:https://kettleparkseniorliving.com
X-WR-CALDESC:Events for Kettle Park Senior Living
REFRESH-INTERVAL;VALUE=DURATION:PT1H
X-Robots-Tag:noindex
X-PUBLISHED-TTL:PT1H
BEGIN:VTIMEZONE
TZID:America/Chicago
BEGIN:DAYLIGHT
TZOFFSETFROM:-0600
TZOFFSETTO:-0500
TZNAME:CDT
DTSTART:20250309T080000
END:DAYLIGHT
BEGIN:STANDARD
TZOFFSETFROM:-0500
TZOFFSETTO:-0600
TZNAME:CST
DTSTART:20251102T070000
END:STANDARD
END:VTIMEZONE
BEGIN:VEVENT
DTSTART;TZID=America/Chicago:20250720T091500
DTEND;TZID=America/Chicago:20250720T093000
DTSTAMP:20260424T202820
CREATED:20250623T004629Z
LAST-MODIFIED:20250720T014720Z
UID:10001214-1753002900-1753003800@kettleparkseniorliving.com
SUMMARY:News/Current Events
DESCRIPTION:
URL:https://kettleparkseniorliving.com/event-calendar/news-current-events-67/
LOCATION:Lounge Area
CATEGORIES:Memory Care
END:VEVENT
BEGIN:VEVENT
DTSTART;TZID=America/Chicago:20250719T150000
DTEND;TZID=America/Chicago:20250719T160000
DTSTAMP:20260424T202820
CREATED:20250623T004629Z
LAST-MODIFIED:20250708T011636Z
UID:10001210-1752937200-1752940800@kettleparkseniorliving.com
SUMMARY:Smoothies & Chat
DESCRIPTION:
URL:https://kettleparkseniorliving.com/event-calendar/smoothies-chat-84/
LOCATION:Lounge Area
CATEGORIES:Memory Care
END:VEVENT
BEGIN:VEVENT
DTSTART;TZID=America/Chicago:20250719T150000
DTEND;TZID=America/Chicago:20250719T153000
DTSTAMP:20260424T202820
CREATED:20250712T013123Z
LAST-MODIFIED:20250719T014633Z
UID:10001568-1752937200-1752939000@kettleparkseniorliving.com
SUMMARY:Smoothies & Chat
DESCRIPTION:
URL:https://kettleparkseniorliving.com/event-calendar/smoothies-chat-107/
LOCATION:Lounge Area
CATEGORIES:Memory Care
END:VEVENT
BEGIN:VEVENT
DTSTART;TZID=America/Chicago:20250719T130000
DTEND;TZID=America/Chicago:20250719T133000
DTSTAMP:20260424T202820
CREATED:20250628T004645Z
LAST-MODIFIED:20250719T014632Z
UID:10001309-1752930000-1752931800@kettleparkseniorliving.com
SUMMARY:Music Appreciation
DESCRIPTION:
URL:https://kettleparkseniorliving.com/event-calendar/music-appreciation-58/
LOCATION:Lounge Area
CATEGORIES:Memory Care
END:VEVENT
BEGIN:VEVENT
DTSTART;TZID=America/Chicago:20250719T110000
DTEND;TZID=America/Chicago:20250719T233000
DTSTAMP:20260424T202820
CREATED:20250622T004636Z
LAST-MODIFIED:20250720T014720Z
UID:10001198-1752922800-1752967800@kettleparkseniorliving.com
SUMMARY:Sing-along
DESCRIPTION:
URL:https://kettleparkseniorliving.com/event-calendar/sing-along-12/
LOCATION:Lounge Area
CATEGORIES:Memory Care
END:VEVENT
BEGIN:VEVENT
DTSTART;TZID=America/Chicago:20250719T091500
DTEND;TZID=America/Chicago:20250719T093000
DTSTAMP:20260424T202820
CREATED:20250622T004636Z
LAST-MODIFIED:20250719T014632Z
UID:10001197-1752916500-1752917400@kettleparkseniorliving.com
SUMMARY:News/Current Events
DESCRIPTION:
URL:https://kettleparkseniorliving.com/event-calendar/news-current-events-66/
LOCATION:Lounge Area
CATEGORIES:Memory Care
END:VEVENT
BEGIN:VEVENT
DTSTART;TZID=America/Chicago:20250718T180000
DTEND;TZID=America/Chicago:20250718T193000
DTSTAMP:20260424T202820
CREATED:20250622T004636Z
LAST-MODIFIED:20250718T013329Z
UID:10001195-1752861600-1752867000@kettleparkseniorliving.com
SUMMARY:Friday Night Movie
DESCRIPTION:
URL:https://kettleparkseniorliving.com/event-calendar/friday-night-movie-20/
LOCATION:Lounge Area
CATEGORIES:Memory Care
END:VEVENT
BEGIN:VEVENT
DTSTART;TZID=America/Chicago:20250718T150000
DTEND;TZID=America/Chicago:20250718T160000
DTSTAMP:20260424T202820
CREATED:20250622T004636Z
LAST-MODIFIED:20250708T011636Z
UID:10001193-1752850800-1752854400@kettleparkseniorliving.com
SUMMARY:Smoothies & Chat
DESCRIPTION:
URL:https://kettleparkseniorliving.com/event-calendar/smoothies-chat-83/
LOCATION:Lounge Area
CATEGORIES:Memory Care
END:VEVENT
BEGIN:VEVENT
DTSTART;TZID=America/Chicago:20250718T150000
DTEND;TZID=America/Chicago:20250718T153000
DTSTAMP:20260424T202820
CREATED:20250712T013123Z
LAST-MODIFIED:20250718T013330Z
UID:10001567-1752850800-1752852600@kettleparkseniorliving.com
SUMMARY:Smoothies & Chat
DESCRIPTION:
URL:https://kettleparkseniorliving.com/event-calendar/smoothies-chat-106/
LOCATION:Lounge Area
CATEGORIES:Memory Care
END:VEVENT
BEGIN:VEVENT
DTSTART;TZID=America/Chicago:20250718T130000
DTEND;TZID=America/Chicago:20250718T133000
DTSTAMP:20260424T202820
CREATED:20250628T004645Z
LAST-MODIFIED:20250718T013330Z
UID:10001308-1752843600-1752845400@kettleparkseniorliving.com
SUMMARY:Music Appreciation
DESCRIPTION:
URL:https://kettleparkseniorliving.com/event-calendar/music-appreciation-57/
LOCATION:Lounge Area
CATEGORIES:Memory Care
END:VEVENT
BEGIN:VEVENT
DTSTART;TZID=America/Chicago:20250718T091500
DTEND;TZID=America/Chicago:20250718T093000
DTSTAMP:20260424T202820
CREATED:20250621T004632Z
LAST-MODIFIED:20250718T013330Z
UID:10001181-1752830100-1752831000@kettleparkseniorliving.com
SUMMARY:News/Current Events
DESCRIPTION:
URL:https://kettleparkseniorliving.com/event-calendar/news-current-events-65/
LOCATION:Lounge Area
CATEGORIES:Memory Care
END:VEVENT
BEGIN:VEVENT
DTSTART;TZID=America/Chicago:20250717T180000
DTEND;TZID=America/Chicago:20250717T190000
DTSTAMP:20260424T202820
CREATED:20250621T004632Z
LAST-MODIFIED:20250717T013136Z
UID:10001177-1752775200-1752778800@kettleparkseniorliving.com
SUMMARY:Active Game
DESCRIPTION:
URL:https://kettleparkseniorliving.com/event-calendar/active-game-40/
LOCATION:Lounge Area
CATEGORIES:Memory Care
END:VEVENT
BEGIN:VEVENT
DTSTART;TZID=America/Chicago:20250717T160000
DTEND;TZID=America/Chicago:20250717T170000
DTSTAMP:20260424T202820
CREATED:20250621T004631Z
LAST-MODIFIED:20250717T013136Z
UID:10001176-1752768000-1752771600@kettleparkseniorliving.com
SUMMARY:Move to the Music
DESCRIPTION:
URL:https://kettleparkseniorliving.com/event-calendar/move-to-the-music-19/
LOCATION:Lounge Area
CATEGORIES:Memory Care
END:VEVENT
BEGIN:VEVENT
DTSTART;TZID=America/Chicago:20250717T150000
DTEND;TZID=America/Chicago:20250717T160000
DTSTAMP:20260424T202820
CREATED:20250621T004631Z
LAST-MODIFIED:20250708T011635Z
UID:10001175-1752764400-1752768000@kettleparkseniorliving.com
SUMMARY:Smoothies & Chat
DESCRIPTION:
URL:https://kettleparkseniorliving.com/event-calendar/smoothies-chat-82/
LOCATION:Lounge Area
CATEGORIES:Memory Care
END:VEVENT
BEGIN:VEVENT
DTSTART;TZID=America/Chicago:20250717T150000
DTEND;TZID=America/Chicago:20250717T153000
DTSTAMP:20260424T202820
CREATED:20250712T013123Z
LAST-MODIFIED:20250717T013138Z
UID:10001566-1752764400-1752766200@kettleparkseniorliving.com
SUMMARY:Smoothies & Chat
DESCRIPTION:
URL:https://kettleparkseniorliving.com/event-calendar/smoothies-chat-105/
LOCATION:Lounge Area
CATEGORIES:Memory Care
END:VEVENT
BEGIN:VEVENT
DTSTART;TZID=America/Chicago:20250717T143000
DTEND;TZID=America/Chicago:20250717T150000
DTSTAMP:20260424T202820
CREATED:20250621T004631Z
LAST-MODIFIED:20250717T013138Z
UID:10001174-1752762600-1752764400@kettleparkseniorliving.com
SUMMARY:Reminisce
DESCRIPTION:
URL:https://kettleparkseniorliving.com/event-calendar/reminisce-20/
LOCATION:Lounge Area
CATEGORIES:Memory Care
END:VEVENT
BEGIN:VEVENT
DTSTART;TZID=America/Chicago:20250717T133000
DTEND;TZID=America/Chicago:20250717T143000
DTSTAMP:20260424T202820
CREATED:20250620T004650Z
LAST-MODIFIED:20250717T013137Z
UID:10001165-1752759000-1752762600@kettleparkseniorliving.com
SUMMARY:Balloon Games
DESCRIPTION:
URL:https://kettleparkseniorliving.com/event-calendar/balloon-games-10/
LOCATION:Lounge Area
CATEGORIES:Memory Care
END:VEVENT
BEGIN:VEVENT
DTSTART;TZID=America/Chicago:20250717T130000
DTEND;TZID=America/Chicago:20250717T133000
DTSTAMP:20260424T202820
CREATED:20250628T004645Z
LAST-MODIFIED:20250717T013137Z
UID:10001307-1752757200-1752759000@kettleparkseniorliving.com
SUMMARY:Music Appreciation
DESCRIPTION:
URL:https://kettleparkseniorliving.com/event-calendar/music-appreciation-56/
LOCATION:Lounge Area
CATEGORIES:Memory Care
END:VEVENT
BEGIN:VEVENT
DTSTART;TZID=America/Chicago:20250717T110000
DTEND;TZID=America/Chicago:20250717T120000
DTSTAMP:20260424T202820
CREATED:20250620T004649Z
LAST-MODIFIED:20250717T013137Z
UID:10001163-1752750000-1752753600@kettleparkseniorliving.com
SUMMARY:Dog Visits w/ Lucy and Tink
DESCRIPTION:
URL:https://kettleparkseniorliving.com/event-calendar/dog-visits-w-lucy-and-tink-19/
LOCATION:Lounge Area
CATEGORIES:Memory Care
END:VEVENT
BEGIN:VEVENT
DTSTART;TZID=America/Chicago:20250717T100000
DTEND;TZID=America/Chicago:20250717T110000
DTSTAMP:20260424T202820
CREATED:20250620T004649Z
LAST-MODIFIED:20250717T013137Z
UID:10001160-1752746400-1752750000@kettleparkseniorliving.com
SUMMARY:Linked Senior
DESCRIPTION:
URL:https://kettleparkseniorliving.com/event-calendar/linked-senior-10/
LOCATION:Lounge Area
CATEGORIES:Memory Care
END:VEVENT
BEGIN:VEVENT
DTSTART;TZID=America/Chicago:20250717T091500
DTEND;TZID=America/Chicago:20250717T093000
DTSTAMP:20260424T202820
CREATED:20250620T004649Z
LAST-MODIFIED:20250717T013137Z
UID:10001162-1752743700-1752744600@kettleparkseniorliving.com
SUMMARY:News/Current Events
DESCRIPTION:
URL:https://kettleparkseniorliving.com/event-calendar/news-current-events-64/
LOCATION:Lounge Area
CATEGORIES:Memory Care
END:VEVENT
BEGIN:VEVENT
DTSTART;TZID=America/Chicago:20250716T180000
DTEND;TZID=America/Chicago:20250716T190000
DTSTAMP:20260424T202820
CREATED:20250620T004649Z
LAST-MODIFIED:20250716T013120Z
UID:10001158-1752688800-1752692400@kettleparkseniorliving.com
SUMMARY:Reminisce
DESCRIPTION:
URL:https://kettleparkseniorliving.com/event-calendar/reminisce-19/
LOCATION:Lounge Area
CATEGORIES:Memory Care
END:VEVENT
BEGIN:VEVENT
DTSTART;TZID=America/Chicago:20250716T150000
DTEND;TZID=America/Chicago:20250716T160000
DTSTAMP:20260424T202820
CREATED:20250620T004649Z
LAST-MODIFIED:20250708T011635Z
UID:10001156-1752678000-1752681600@kettleparkseniorliving.com
SUMMARY:Smoothies & Chat
DESCRIPTION:
URL:https://kettleparkseniorliving.com/event-calendar/smoothies-chat-81/
LOCATION:Lounge Area
CATEGORIES:Memory Care
END:VEVENT
BEGIN:VEVENT
DTSTART;TZID=America/Chicago:20250716T150000
DTEND;TZID=America/Chicago:20250716T153000
DTSTAMP:20260424T202820
CREATED:20250712T013122Z
LAST-MODIFIED:20250716T013122Z
UID:10001565-1752678000-1752679800@kettleparkseniorliving.com
SUMMARY:Smoothies & Chat
DESCRIPTION:
URL:https://kettleparkseniorliving.com/event-calendar/smoothies-chat-104/
LOCATION:Lounge Area
CATEGORIES:Memory Care
END:VEVENT
BEGIN:VEVENT
DTSTART;TZID=America/Chicago:20250716T130000
DTEND;TZID=America/Chicago:20250716T133000
DTSTAMP:20260424T202820
CREATED:20250628T004644Z
LAST-MODIFIED:20250716T013121Z
UID:10001306-1752670800-1752672600@kettleparkseniorliving.com
SUMMARY:Music Appreciation
DESCRIPTION:
URL:https://kettleparkseniorliving.com/event-calendar/music-appreciation-55/
LOCATION:Lounge Area
CATEGORIES:Memory Care
END:VEVENT
BEGIN:VEVENT
DTSTART;TZID=America/Chicago:20250716T091500
DTEND;TZID=America/Chicago:20250716T093000
DTSTAMP:20260424T202820
CREATED:20250619T004631Z
LAST-MODIFIED:20250716T013121Z
UID:10001147-1752657300-1752658200@kettleparkseniorliving.com
SUMMARY:News/Current Events
DESCRIPTION:
URL:https://kettleparkseniorliving.com/event-calendar/news-current-events-63/
LOCATION:Lounge Area
CATEGORIES:Memory Care
END:VEVENT
BEGIN:VEVENT
DTSTART;TZID=America/Chicago:20250715T180000
DTEND;TZID=America/Chicago:20250715T190000
DTSTAMP:20260424T202820
CREATED:20250619T004631Z
LAST-MODIFIED:20250715T013155Z
UID:10001145-1752602400-1752606000@kettleparkseniorliving.com
SUMMARY:Fun with Trivia
DESCRIPTION:
URL:https://kettleparkseniorliving.com/event-calendar/fun-with-trivia-9/
LOCATION:Lounge Area
CATEGORIES:Memory Care
END:VEVENT
BEGIN:VEVENT
DTSTART;TZID=America/Chicago:20250715T160000
DTEND;TZID=America/Chicago:20250715T170000
DTSTAMP:20260424T202820
CREATED:20250619T004631Z
LAST-MODIFIED:20250715T013157Z
UID:10001144-1752595200-1752598800@kettleparkseniorliving.com
SUMMARY:Move to the Music
DESCRIPTION:
URL:https://kettleparkseniorliving.com/event-calendar/move-to-the-music-18/
LOCATION:Lounge Area
CATEGORIES:Memory Care
END:VEVENT
BEGIN:VEVENT
DTSTART;TZID=America/Chicago:20250715T150000
DTEND;TZID=America/Chicago:20250715T160000
DTSTAMP:20260424T202820
CREATED:20250619T004631Z
LAST-MODIFIED:20250708T011634Z
UID:10001143-1752591600-1752595200@kettleparkseniorliving.com
SUMMARY:Smoothies & Chat
DESCRIPTION:
URL:https://kettleparkseniorliving.com/event-calendar/smoothies-chat-80/
LOCATION:Lounge Area
CATEGORIES:Memory Care
END:VEVENT
BEGIN:VEVENT
DTSTART;TZID=America/Chicago:20250715T150000
DTEND;TZID=America/Chicago:20250715T153000
DTSTAMP:20260424T202820
CREATED:20250712T013122Z
LAST-MODIFIED:20250715T013157Z
UID:10001564-1752591600-1752593400@kettleparkseniorliving.com
SUMMARY:Smoothies & Chat
DESCRIPTION:
URL:https://kettleparkseniorliving.com/event-calendar/smoothies-chat-103/
LOCATION:Lounge Area
CATEGORIES:Memory Care
END:VEVENT
END:VCALENDAR